BEGIN:VCALENDAR
VERSION:2.0
PRODID:-//South Sound Blues Association - ECPv6.15.18//NONSGML v1.0//EN
CALSCALE:GREGORIAN
METHOD:PUBLISH
X-WR-CALNAME:South Sound Blues Association
X-ORIGINAL-URL:https://southsoundblues.org
X-WR-CALDESC:Events for South Sound Blues Association
REFRESH-INTERVAL;VALUE=DURATION:PT1H
X-Robots-Tag:noindex
X-PUBLISHED-TTL:PT1H
BEGIN:VTIMEZONE
TZID:America/Los_Angeles
BEGIN:DAYLIGHT
TZOFFSETFROM:-0800
TZOFFSETTO:-0700
TZNAME:PDT
DTSTART:20250309T100000
END:DAYLIGHT
BEGIN:STANDARD
TZOFFSETFROM:-0700
TZOFFSETTO:-0800
TZNAME:PST
DTSTART:20251102T090000
END:STANDARD
BEGIN:DAYLIGHT
TZOFFSETFROM:-0800
TZOFFSETTO:-0700
TZNAME:PDT
DTSTART:20260308T100000
END:DAYLIGHT
BEGIN:STANDARD
TZOFFSETFROM:-0700
TZOFFSETTO:-0800
TZNAME:PST
DTSTART:20261101T090000
END:STANDARD
BEGIN:DAYLIGHT
TZOFFSETFROM:-0800
TZOFFSETTO:-0700
TZNAME:PDT
DTSTART:20270314T100000
END:DAYLIGHT
BEGIN:STANDARD
TZOFFSETFROM:-0700
TZOFFSETTO:-0800
TZNAME:PST
DTSTART:20271107T090000
END:STANDARD
END:VTIMEZONE
BEGIN:VEVENT
DTSTART;TZID=America/Los_Angeles:20260422T180000
DTEND;TZID=America/Los_Angeles:20260422T210000
DTSTAMP:20260422T154927
CREATED:20260325T225034Z
LAST-MODIFIED:20260403T224416Z
UID:17368-1776880800-1776891600@southsoundblues.org
SUMMARY:Funky Jazz Wednesdays at the Spar with Elnah Jordan
DESCRIPTION:Funky Jazz Wednesdays at the Spar 6-9 pm\, Elnah Jordan
URL:https://southsoundblues.org/event/funky-jazz-wednesdays-at-the-spar-21/
LOCATION:The Spar\, 2121 N 30th St\, Tacoma\, WA\, 98403
CATEGORIES:Featured
END:VEVENT
BEGIN:VEVENT
DTSTART;TZID=America/Los_Angeles:20260423T180000
DTEND;TZID=America/Los_Angeles:20260423T210000
DTSTAMP:20260422T154927
CREATED:20260312T053421Z
LAST-MODIFIED:20260312T053421Z
UID:17285-1776967200-1776978000@southsoundblues.org
SUMMARY:Annie Eastwood & All-Stars with Billy Stapleton at Bad Albert’s\, Ballard
DESCRIPTION:Annie Eastwood & All-Stars with Billy Stapleton at Bad Albert’s Thursday April 23rd  6pm – 9pm\n 
URL:https://southsoundblues.org/event/annie-eastwood-all-stars-with-billy-stapleton-at-bad-alberts-ballard-2/
LOCATION:Bad Albert’s\, 5100 Ballard Avenue Northwest\, Seattle\, WA\, 98107
CATEGORIES:Featured
END:VEVENT
BEGIN:VEVENT
DTSTART;TZID=America/Los_Angeles:20260423T190000
DTEND;TZID=America/Los_Angeles:20260423T220000
DTSTAMP:20260422T154927
CREATED:20260211T010041Z
LAST-MODIFIED:20260211T010041Z
UID:17018-1776970800-1776981600@southsoundblues.org
SUMMARY:Creole Soul Open Mic Jam Night Thursdays\, Des Moines
DESCRIPTION:Creole Soul Open Mic Jam Night Thursdays at 7 PM in Des Moines\, WA\, with host The Busby Band.\n\n\nRock the mic\, beat the skins\, and spank the plank—Full backline provided.\n22341 Marine View Drive South\, Des Moines\, Washington 98198\nSoulful singers\, melody minglers\, hand clappers\, toe tappers\, and finger snappers.
URL:https://southsoundblues.org/event/creole-soul-open-mic-jam-night-thursdays-des-moines/
LOCATION:Creole Soul\, 22341 Marine View Drive\, Des Moines\, WA\, 98198
CATEGORIES:Local South Sound Blues
END:VEVENT
BEGIN:VEVENT
DTSTART;TZID=America/Los_Angeles:20260424T193000
DTEND;TZID=America/Los_Angeles:20260424T213000
DTSTAMP:20260422T154927
CREATED:20260312T055837Z
LAST-MODIFIED:20260312T060257Z
UID:17297-1777059000-1777066200@southsoundblues.org
SUMMARY:Pat Matheny at Dimitriou's Jazz Alley\, Seattle
DESCRIPTION:Pat Matheny at Dimitriou’s Jazz Alley Friday April 24th\,  7:30pm – 9:30pm\n\n\n\n\nDimitriou’s Jazz Alley\, 2033 6th Ave\, Seattle\, WA 98121\nhttps://www.jazzalley.com/www-home/artist.jsp?shownum=8739
URL:https://southsoundblues.org/event/pat-matheny-at-dimitrious-jazz-alley-seattle/
LOCATION:Dimitriou’s Jazz Alley\, 2033 6th Avenue\, Seattle\, WA\, 98121
CATEGORIES:Featured
END:VEVENT
BEGIN:VEVENT
DTSTART;TZID=America/Los_Angeles:20260425T173000
DTEND;TZID=America/Los_Angeles:20260425T200000
DTSTAMP:20260422T154927
CREATED:20260417T231615Z
LAST-MODIFIED:20260417T231615Z
UID:17570-1777138200-1777147200@southsoundblues.org
SUMMARY:Bruce Maier Blues Band at Longmire Springs Brewing Company\, Packwood
DESCRIPTION:Bruce Maier Blues Band at Longmire Springs Brewing Company\,  Saturday\, April 25th\, 6-8 pm.\n \n  \nAfter years of exploring a mix of genres and Bruce’s original music\, the band now leans fully into the blues\, while still showcasing original songs and their own take on classics from some of the past half-century’s greatest artists\, including The Beatles\, The Rolling Stones\, and Eric Clapton. \nLongmire Springs Brewing Co. info:  info@longmiresprings.com
URL:https://southsoundblues.org/event/bruce-maier-blues-band-at-longmire-springs-brewing-company-packwood/
LOCATION:Longmire Springs Brewing\, 112 Norman Way\, Packwood\, WA\, 98361
CATEGORIES:Featured,Local South Sound Blues
END:VEVENT
BEGIN:VEVENT
DTSTART;TZID=America/Los_Angeles:20260425T190000
DTEND;TZID=America/Los_Angeles:20260425T210000
DTSTAMP:20260422T154927
CREATED:20260312T053640Z
LAST-MODIFIED:20260312T053640Z
UID:17287-1777143600-1777150800@southsoundblues.org
SUMMARY:Annie Eastwood All-Star Band at the Third Place Commons\, Lake Forest Park
DESCRIPTION:Annie Eastwood All-Star Band at the Third Place Commons Saturday April 25th\, 7pm – 9pm\n 
URL:https://southsoundblues.org/event/annie-eastwood-all-star-band-at-the-third-place-commons-lake-forest-park/
LOCATION:Third Place Commons\, 17171 Bothell Way NE\, Lake Forest Park\, WA\, 98155
CATEGORIES:Featured
END:VEVENT
BEGIN:VEVENT
DTSTART;TZID=America/Los_Angeles:20260425T190000
DTEND;TZID=America/Los_Angeles:20260425T220000
DTSTAMP:20260422T154927
CREATED:20260403T224617Z
LAST-MODIFIED:20260403T224617Z
UID:17502-1777143600-1777154400@southsoundblues.org
SUMMARY:Eclectics at the Spar
DESCRIPTION:Eclectics at the Spar April 25th\, 7-10 pm
URL:https://southsoundblues.org/event/eclectics-at-the-spar/
LOCATION:The Spar\, 2121 N 30th St\, Tacoma\, WA\, 98403
CATEGORIES:Featured
END:VEVENT
BEGIN:VEVENT
DTSTART;TZID=America/Los_Angeles:20260425T210000
DTEND;TZID=America/Los_Angeles:20260425T233000
DTSTAMP:20260422T154927
CREATED:20260305T232035Z
LAST-MODIFIED:20260305T232438Z
UID:17189-1777150800-1777159800@southsoundblues.org
SUMMARY:Tim Enders at Dawsons\, Tacoma
DESCRIPTION:Tim Enders at Dawsons April 25th 9pm
URL:https://southsoundblues.org/event/tim-enders-at-dawsons-tacoma/
LOCATION:Dawson’s Bar & Grill\, 5443 South Tacoma Way\, Tacoma\, WA\, 98409
CATEGORIES:Featured
END:VEVENT
BEGIN:VEVENT
DTSTART;TZID=America/Los_Angeles:20260426T170000
DTEND;TZID=America/Los_Angeles:20260426T200000
DTSTAMP:20260422T154927
CREATED:20260331T212118Z
LAST-MODIFIED:20260331T212118Z
UID:17486-1777222800-1777233600@southsoundblues.org
SUMMARY:The CD Woodbury Trio Album Release Party at the Ten-01 Pub\, Everett
DESCRIPTION:The CD Woodbury Trio releases their new album ‘Bulldog’ April 24\, followed by their album release party on April 26 at 5 PM at Ten-01 Pub in Everett\, WA\n    \nFeaturing CD Woodbury\, Robert Baker\, and Bill Ray\, the trio brings their signature blend of blues\, roots\, and groove-driven energy to celebrate the new release live. Don’t miss it!
URL:https://southsoundblues.org/event/the-cd-woodbury-trio-album-release-party-at-the-ten-01-pub-everett/
LOCATION:Ten-01 Pub\, 1001 Hewitt Ave\, Everett\, WA\, 98201
CATEGORIES:Featured,Special Event
END:VEVENT
BEGIN:VEVENT
DTSTART;TZID=America/Los_Angeles:20260426T190000
DTEND;TZID=America/Los_Angeles:20260426T220000
DTSTAMP:20260422T154927
CREATED:20251117T020017Z
LAST-MODIFIED:20260403T224947Z
UID:16572-1777230000-1777240800@southsoundblues.org
SUMMARY:Sunday Blues at the Spar with The Rafael Tranquilino Band
DESCRIPTION:Sunday Blues at the Spar 7-10 pm\, The Rafael Tranquilino Band
URL:https://southsoundblues.org/event/sunday-blues-at-the-spar-55/
LOCATION:The Spar\, 2121 N 30th St\, Tacoma\, WA\, 98403
CATEGORIES:Local South Sound Blues
END:VEVENT
BEGIN:VEVENT
DTSTART;TZID=America/Los_Angeles:20260426T190000
DTEND;TZID=America/Los_Angeles:20260426T230000
DTSTAMP:20260422T154927
CREATED:20260330T222632Z
LAST-MODIFIED:20260330T222632Z
UID:17445-1777230000-1777244400@southsoundblues.org
SUMMARY:Billy Shew Jam at Dawson’s every Sunday
DESCRIPTION:Billy Shew Jam at Dawson’s every Sunday 7-11 pm\nApril 26 with guest Conrad Real\, Dave Perry\, and TBA 
URL:https://southsoundblues.org/event/billy-shew-jam-at-dawsons-every-sunday-9/
LOCATION:Dawson’s Bar & Grill\, 5443 South Tacoma Way\, Tacoma\, WA\, 98409
CATEGORIES:Local South Sound Blues
END:VEVENT
BEGIN:VEVENT
DTSTART;TZID=America/Los_Angeles:20260427T200000
DTEND;TZID=America/Los_Angeles:20260427T220000
DTSTAMP:20260422T154927
CREATED:20260311T212516Z
LAST-MODIFIED:20260311T212516Z
UID:17252-1777320000-1777327200@southsoundblues.org
SUMMARY:Mike Witmer hosts “Mojo Mike’s Blues Revue” every Monday on KVSH 101.9 FM
DESCRIPTION:Mike Witmer hosts “Mojo Mike’s Blues Revue” every Monday on KVSH 101.9 FM\, 8-10 pm
URL:https://southsoundblues.org/event/mike-witmer-hosts-mojo-mikes-blues-revue-every-monday-on-kvsh-101-9-fm-56/
LOCATION:KVSH\, 17643 Vashon Hwy SW\, Vashon Island\, WA\, 98070
CATEGORIES:Local South Sound Blues
END:VEVENT
BEGIN:VEVENT
DTSTART;TZID=America/Los_Angeles:20260428T190000
DTEND;TZID=America/Los_Angeles:20260428T210000
DTSTAMP:20260422T154927
CREATED:20251227T205231Z
LAST-MODIFIED:20251227T205231Z
UID:16634-1777402800-1777410000@southsoundblues.org
SUMMARY:Purdy's Tuesday Blues Showcase featuring the Ryan T. Higgins Band\, Sumner
DESCRIPTION:Purdy’s Tuesday Blues Showcase featuring the Ryan T. Higgins Band April 28th\, 7-9 pm at Purdy’s Public House & Arcade\n 
URL:https://southsoundblues.org/event/purdys-tuesday-blues-showcase-featuring-the-ryan-t-higgins-band-sumner/
LOCATION:Purdy’s Public House & Arcade\, Sumner\, 16202 64th St E\, Sumner\, WA\, 98390
CATEGORIES:Local South Sound Blues
END:VEVENT
BEGIN:VEVENT
DTSTART;TZID=America/Los_Angeles:20260428T190000
DTEND;TZID=America/Los_Angeles:20260428T220000
DTSTAMP:20260422T154927
CREATED:20260330T224553Z
LAST-MODIFIED:20260330T224617Z
UID:17454-1777402800-1777413600@southsoundblues.org
SUMMARY:Billy Shew Jam every Tuesday night at the Burien Eagles
DESCRIPTION:Billy Shew Jam every Tuesday night at the Burien Eagles 7-10 pm\nApril 28 with Dave Perry and Conrad Real
URL:https://southsoundblues.org/event/billy-shew-jam-every-tuesday-night-at-the-burien-eagles-3/
LOCATION:Burien Eagles\, 920 SW 150th St\, Burien\, WA\, 98166
CATEGORIES:Local South Sound Blues
END:VEVENT
BEGIN:VEVENT
DTSTART;TZID=America/Los_Angeles:20260428T200000
DTEND;TZID=America/Los_Angeles:20260428T233000
DTSTAMP:20260422T154927
CREATED:20260325T231132Z
LAST-MODIFIED:20260325T231132Z
UID:17386-1777406400-1777419000@southsoundblues.org
SUMMARY:Cory Wilds Band Tuesday open Jam Night at Elmer’s Bar and Grill
DESCRIPTION:Cory Wilds Band Tuesday open Jam Night at Elmer’s Bar and Grill\, 8-11:30 pm
URL:https://southsoundblues.org/event/cory-wilds-band-tuesday-open-jam-night-at-elmers-bar-and-grill-47/
LOCATION:Elmer’s Bar & Grill\, 15027 Ambaum Blvd SW\, Burien\, WA\, 98166
CATEGORIES:Local South Sound Blues
END:VEVENT
BEGIN:VEVENT
DTSTART;TZID=America/Los_Angeles:20260429T180000
DTEND;TZID=America/Los_Angeles:20260429T210000
DTSTAMP:20260422T154927
CREATED:20260227T222121Z
LAST-MODIFIED:20260403T225054Z
UID:17145-1777485600-1777496400@southsoundblues.org
SUMMARY:Funky Jazz Wednesdays at the Spar with the Brian Kirk Quartet
DESCRIPTION:Funky Jazz Wednesdays at the Spar 6-9 pm\, Brian Kirk Quartet
URL:https://southsoundblues.org/event/funky-jazz-wednesdays-at-the-spar-15/
LOCATION:WA
CATEGORIES:Featured
END:VEVENT
BEGIN:VEVENT
DTSTART;TZID=America/Los_Angeles:20260429T183000
DTEND;TZID=America/Los_Angeles:20260429T203000
DTSTAMP:20260422T154927
CREATED:20260404T000014Z
LAST-MODIFIED:20260417T192320Z
UID:17514-1777487400-1777494600@southsoundblues.org
SUMMARY:Octopus Ballet at the TK Irish Pub\, Puyallup
DESCRIPTION:Octopus Ballet at the TK Irish Pub April 29th 6:30-8:30 pm\n \n 
URL:https://southsoundblues.org/event/octopus-ballet-at-the-tk-irish-pub-puyallup-2/
LOCATION:Twisted Kilt\, 109 S Meridian\, Puyallup\, WA\, 98371
CATEGORIES:Featured
END:VEVENT
BEGIN:VEVENT
DTSTART;TZID=America/Los_Angeles:20260430T190000
DTEND;TZID=America/Los_Angeles:20260430T210000
DTSTAMP:20260422T154927
CREATED:20260206T002533Z
LAST-MODIFIED:20260206T002533Z
UID:16948-1777575600-1777582800@southsoundblues.org
SUMMARY:Bluesland on KMRE 88.3 FM Every Thursday
DESCRIPTION:Bluesland on KMRE 88.3 FM Every Thursday live at 7pm \nLot’s of fine blues\, soul and rock n roll.  Check out the show at 88.3 FM\, kmre.org \n\nTunein app and OnDemand.\n\n\nBluesland (Live ) Every week on Thursday at 7:00 PM\nBluesland host Leo Schumaker features the best of vintage\, classic\, and new Blues music\, plus interviews with artists\, producers\, writers\, and blues club owners. Leo is a lifetime member of The Santa Barbara Blues Society\, and holds membership in The Washington Blues Society\, The Cascade Blues Society\, and The Blues Foundation\, where he was a judge for The International Blues Challenge in Memphis\, TN.
URL:https://southsoundblues.org/event/bluesland-on-kmre-88-3-fm-every-thursday-3/
LOCATION:KMRE\, Bellingham\, WA
CATEGORIES:Featured
END:VEVENT
BEGIN:VEVENT
DTSTART;TZID=America/Los_Angeles:20260430T190000
DTEND;TZID=America/Los_Angeles:20260430T220000
DTSTAMP:20260422T154927
CREATED:20260306T001147Z
LAST-MODIFIED:20260306T001644Z
UID:17193-1777575600-1777586400@southsoundblues.org
SUMMARY:LTD Presents The Tad Robinson Band at the Blue Mouse Theatre\, Tacoma
DESCRIPTION:The Tad Robinson Band at the Blue Mouse Theatre April 30th 7pm\nTAD ROBINSON BAND featuring ALEX SCHULTZ\nhttps://www.ltdpresentslive.com/\nTickets: IN ADVANCE $35/$50\,   DAY OF SHOW all tickets +$5 \nhttps://tadrobinsontacoma.rsvpify.com/
URL:https://southsoundblues.org/event/the-tad-robinson-band-at-the-blue-mouse-theatre-tacoma/
LOCATION:Blue Mouse Theatre\, 2611 N Proctor\, Tacoma\, WA\, 98407
CATEGORIES:Local South Sound Blues
END:VEVENT
BEGIN:VEVENT
DTSTART;TZID=America/Los_Angeles:20260430T190000
DTEND;TZID=America/Los_Angeles:20260430T230000
DTSTAMP:20260422T154927
CREATED:20260306T004825Z
LAST-MODIFIED:20260306T010119Z
UID:17200-1777575600-1777590000@southsoundblues.org
SUMMARY:Acoustic Open Jam every Thursday at North End on Pearl
DESCRIPTION:Acoustic Open Jam every Thursday at North End on Pearl. Hosted by Lynn Sorensen\, Manuel Morais\, and Al Maier 7-11pm\nBring your guitar\, your voice\, or just come enjoy the music.\n 7–11PM\n No Cover | 21+\n Ruston
URL:https://southsoundblues.org/event/acoustic-open-jam-every-thursday-at-north-end-on-pearl/
LOCATION:North End On Pearl\, 5037 North Pearl Street\, Tacoma\, WA\, 98407
CATEGORIES:Featured
END:VEVENT
END:VCALENDAR