BEGIN:VCALENDAR
VERSION:2.0
PRODID:-//South Sound Blues Association - ECPv6.15.18//NONSGML v1.0//EN
CALSCALE:GREGORIAN
METHOD:PUBLISH
X-ORIGINAL-URL:https://southsoundblues.org
X-WR-CALDESC:Events for South Sound Blues Association
REFRESH-INTERVAL;VALUE=DURATION:PT1H
X-Robots-Tag:noindex
X-PUBLISHED-TTL:PT1H
BEGIN:VTIMEZONE
TZID:America/Los_Angeles
BEGIN:DAYLIGHT
TZOFFSETFROM:-0800
TZOFFSETTO:-0700
TZNAME:PDT
DTSTART:20230312T100000
END:DAYLIGHT
BEGIN:STANDARD
TZOFFSETFROM:-0700
TZOFFSETTO:-0800
TZNAME:PST
DTSTART:20231105T090000
END:STANDARD
BEGIN:DAYLIGHT
TZOFFSETFROM:-0800
TZOFFSETTO:-0700
TZNAME:PDT
DTSTART:20240310T100000
END:DAYLIGHT
BEGIN:STANDARD
TZOFFSETFROM:-0700
TZOFFSETTO:-0800
TZNAME:PST
DTSTART:20241103T090000
END:STANDARD
BEGIN:DAYLIGHT
TZOFFSETFROM:-0800
TZOFFSETTO:-0700
TZNAME:PDT
DTSTART:20250309T100000
END:DAYLIGHT
BEGIN:STANDARD
TZOFFSETFROM:-0700
TZOFFSETTO:-0800
TZNAME:PST
DTSTART:20251102T090000
END:STANDARD
END:VTIMEZONE
BEGIN:VEVENT
DTSTART;TZID=America/Los_Angeles:20240501T180000
DTEND;TZID=America/Los_Angeles:20240501T210000
DTSTAMP:20260424T042304
CREATED:20240410T015502Z
LAST-MODIFIED:20240410T015502Z
UID:12570-1714586400-1714597200@southsoundblues.org
SUMMARY:LTD Presents: Andy Stokes & Friends at the Spar
DESCRIPTION:May 1st\, The Spar\, Tacoma\, LTD Presents: Andy Stokes & Friends\, 6pm
URL:https://southsoundblues.org/event/ltd-presents-andy-stokes-friends-at-the-spar/
LOCATION:The Spar\, 2121 N 30th St\, Tacoma\, WA\, 98403
CATEGORIES:Featured
END:VEVENT
BEGIN:VEVENT
DTSTART;TZID=America/Los_Angeles:20240502T190000
DTEND;TZID=America/Los_Angeles:20240502T210000
DTSTAMP:20260424T042304
CREATED:20240406T234843Z
LAST-MODIFIED:20240406T234843Z
UID:12532-1714676400-1714683600@southsoundblues.org
SUMMARY:Octopus Ballet at APIZZA\, Tacoma
DESCRIPTION:Thursday\, May 2 – Octopus Ballet Trio (acoustic jazz\, blues\, folk and rock) 7-9 PM at APIZZA
URL:https://southsoundblues.org/event/octopus-ballet-at-apizza-tacoma/
LOCATION:APIZZA\, 821 Pacific Ave\, Tacoma\, WA\, 98402
CATEGORIES:Featured
END:VEVENT
BEGIN:VEVENT
DTSTART;TZID=America/Los_Angeles:20240503T193000
DTEND;TZID=America/Los_Angeles:20240503T220000
DTSTAMP:20260424T042304
CREATED:20240410T011612Z
LAST-MODIFIED:20240410T011612Z
UID:12557-1714764600-1714773600@southsoundblues.org
SUMMARY:Billy Stapleton’s POWERHOUSE at Pub 282\, Camino Island
DESCRIPTION:May 3rd\, Pub 282\, Camino Island\, Billy Stapleton’s POWERHOUSE\, 7:30-10pm
URL:https://southsoundblues.org/event/billy-stapletons-powerhouse-at-pub-282-camino-island/
LOCATION:Pub 282\, 370 NE Camano Dr #6\, Camano\, WA\, 98282
CATEGORIES:Featured
END:VEVENT
BEGIN:VEVENT
DTSTART;TZID=America/Los_Angeles:20240504T150000
DTEND;TZID=America/Los_Angeles:20240504T170000
DTSTAMP:20260424T042304
CREATED:20240406T235129Z
LAST-MODIFIED:20240406T235129Z
UID:12534-1714834800-1714842000@southsoundblues.org
SUMMARY:Kareem Kandi World Orchestra at APIZZA\, Tacoma
DESCRIPTION:Saturday\, May 4 – Kareem Kandi World Orchestra (jazz) 3-5 PM at APIZZA
URL:https://southsoundblues.org/event/kareem-kandi-world-orchestra-at-apizza-tacoma/
LOCATION:APIZZA\, 821 Pacific Ave\, Tacoma\, WA\, 98402
CATEGORIES:Featured
END:VEVENT
BEGIN:VEVENT
DTSTART;TZID=America/Los_Angeles:20240504T200000
DTEND;TZID=America/Los_Angeles:20240504T223000
DTSTAMP:20260424T042304
CREATED:20240410T011907Z
LAST-MODIFIED:20240410T011907Z
UID:12559-1714852800-1714861800@southsoundblues.org
SUMMARY:Billy Stapleton's POWERHOUSE at the Salmon Bay Eagles\, Ballard
DESCRIPTION:May 4th\, Salmon Bay Eagles\, Ballard\, Billy Stapleton’s POWERHOUSE\, 8pm
URL:https://southsoundblues.org/event/billy-stapletons-powerhouse-at-the-salmon-bay-eagles-ballard/
LOCATION:Salmon Bay Eagles\, 5216 20th Ave NW\, Seattle\, WA\, 98107
CATEGORIES:Featured
END:VEVENT
BEGIN:VEVENT
DTSTART;TZID=America/Los_Angeles:20240507T193000
DTEND;TZID=America/Los_Angeles:20240507T220000
DTSTAMP:20260424T042304
CREATED:20240430T015451Z
LAST-MODIFIED:20240430T015451Z
UID:12641-1715110200-1715119200@southsoundblues.org
SUMMARY:Ana Popovic at Dimitiriou's Jazz Alley
DESCRIPTION:Dimitiriou’s Jazz Alley welcomes bluesy-rock guitarist and singer Ana Popovic for two nights in support of her latest release POWER.\nBand members are TBA. Show times Tuesday and Wednesday at 7:30pm. Doors open at 6:00pm each night. \nhttps://www.jazzalley.com/www-home/purchase_res_1.jsp?shownum=7530 \nThe award-winning\, hard-touring\, guitar slinger blends smoking electric funk and slide guitar\, jazzy instrumentals and a tight blues groove with soulful\, feminine vocals. Add to the mix her incredible stage presence\, all of which makes her an irresistible force in the world of contemporary blues music.
URL:https://southsoundblues.org/event/ana-popovic-at-dimitirious-jazz-alley/
LOCATION:Dimitriou’s Jazz Alley\, 2033 6th Avenue\, Seattle\, WA\, 98121
CATEGORIES:Featured,Special Event
END:VEVENT
BEGIN:VEVENT
DTSTART;TZID=America/Los_Angeles:20240508T180000
DTEND;TZID=America/Los_Angeles:20240508T210000
DTSTAMP:20260424T042304
CREATED:20240507T004909Z
LAST-MODIFIED:20240507T004909Z
UID:12685-1715191200-1715202000@southsoundblues.org
SUMMARY:Andy Stokes at the Spar
DESCRIPTION:LTD Presents LIVE Spotlight Series in association with The Spar features Andy Stokes\, May 8th\, 6-9 pm
URL:https://southsoundblues.org/event/andy-stokes-at-the-spar/
LOCATION:The Spar\, 2121 N 30th St\, Tacoma\, WA\, 98403
CATEGORIES:Featured
END:VEVENT
BEGIN:VEVENT
DTSTART;TZID=America/Los_Angeles:20240509T190000
DTEND;TZID=America/Los_Angeles:20240509T210000
DTSTAMP:20260424T042304
CREATED:20240406T235327Z
LAST-MODIFIED:20240406T235347Z
UID:12536-1715281200-1715288400@southsoundblues.org
SUMMARY:South Sound Express at APIZZA\, Tacoma
DESCRIPTION:Thursday\, May 9 – South Sound Express Trio (funk\, jazz\, blues) 7-9 PM at APIZZA
URL:https://southsoundblues.org/event/south-sound-express-at-apizza-tacoma/
LOCATION:APIZZA\, 821 Pacific Ave\, Tacoma\, WA\, 98402
CATEGORIES:Featured
END:VEVENT
BEGIN:VEVENT
DTSTART;TZID=America/Los_Angeles:20240510T190000
DTEND;TZID=America/Los_Angeles:20240510T220000
DTSTAMP:20260424T042304
CREATED:20240410T001034Z
LAST-MODIFIED:20240410T001034Z
UID:12542-1715367600-1715378400@southsoundblues.org
SUMMARY:Michele D'Amour and The Love Dealers at Ocean 5\, Gig Harbor
DESCRIPTION:May 10th\, Michele D’Amour and The Love Dealers at Ocean 5\, Gig Harbor\, 7-10 pm\nFriday\, May 10 – 7 to 10 p.m. \n Michele D’Amour \n5268 Point Fosdick Dr\, Gig Harbor\, WA 98335 \nTickets are $10 and here is the link: https://www.eventbrite.com/e/live-music-michele-damour-and-the-love-dealers-tickets-846548147297
URL:https://southsoundblues.org/event/michele-damour-and-the-love-dealers-at-ocean-5-gig-harbor/
LOCATION:Ocean 5\, Table 47\, 5268 Point Fosdick Drive\, Gig Harbor\, WA\, 98335
CATEGORIES:Featured,Local South Sound Blues
END:VEVENT
BEGIN:VEVENT
DTSTART;TZID=America/Los_Angeles:20240511T193000
DTEND;TZID=America/Los_Angeles:20240511T230000
DTSTAMP:20260424T042304
CREATED:20240410T013713Z
LAST-MODIFIED:20240410T013713Z
UID:12566-1715455800-1715468400@southsoundblues.org
SUMMARY:Mark Dufresne Band at the Rockfish Grill & Anacortes Brewery\, Anacortes
DESCRIPTION:May 11th\, Rockfish Grill & Anacortes Brewery\, Anacortes\, Mark Dufresne Band featuring Billy Stapleton\, 7:30pm\n 
URL:https://southsoundblues.org/event/mark-dufresne-band-at-the-rockfish-grill-anacortes-brewery-anacortes/
LOCATION:Rockfish Grill & Brewery\, 320 Commercial Ave\, Anacortes\, WA\, 98221
CATEGORIES:Featured
END:VEVENT
BEGIN:VEVENT
DTSTART;TZID=America/Los_Angeles:20240513T180000
DTEND;TZID=America/Los_Angeles:20240513T210000
DTSTAMP:20260424T042304
CREATED:20240430T012106Z
LAST-MODIFIED:20240430T012106Z
UID:12639-1715623200-1715634000@southsoundblues.org
SUMMARY:Monday Jazz at Brother Don's Bar & Grill\, Bremerton
DESCRIPTION:Monday Jazz at Brother Don’s Bar & Grill\,  Bremerton\, 6-9 pm.
URL:https://southsoundblues.org/event/monday-jazz-at-brother-dons-bar-grill-bremerton/
LOCATION:Brother Don’s Bar & Grill\, 4200 Kitsap Way\, Bremerton\, WA\, 98312
CATEGORIES:Featured
END:VEVENT
BEGIN:VEVENT
DTSTART;TZID=America/Los_Angeles:20240525T180000
DTEND;TZID=America/Los_Angeles:20240525T203000
DTSTAMP:20260424T042304
CREATED:20240512T185721Z
LAST-MODIFIED:20240512T185721Z
UID:12706-1716660000-1716669000@southsoundblues.org
SUMMARY:Robin Gibson Band at the Columbia River Roadhouse\, Chinook\, WA
DESCRIPTION:The Robin Gibson Band will be playing 6pm to 8:30pm on May 25th at the Columbia River Roadhouse in Chinook\, Wa.\n \nA great little REAL seafood restaurant with a full bar\, reasonable prices\, and friendly staff. This isn’t just a fish and chips house.                                                                They have oysters\, calamari\, and more. \n 
URL:https://southsoundblues.org/event/robin-gibson-band-at-the-columbia-river-roadhouse-chinook-wa/
LOCATION:Columbia River Roadhouse\, 782 Hwy 101\, Chinook\, WA\, 98614
CATEGORIES:Featured
END:VEVENT
BEGIN:VEVENT
DTSTART;TZID=America/Los_Angeles:20240528T190000
DTEND;TZID=America/Los_Angeles:20240528T210000
DTSTAMP:20260424T042304
CREATED:20240422T222751Z
LAST-MODIFIED:20240422T222751Z
UID:12598-1716922800-1716930000@southsoundblues.org
SUMMARY:Tuesday "Blues Showcase" features Ross Robinson followed by the James Howard Band at Purdy's Public House and Arcade\, Sumner
DESCRIPTION:Tuesday “Blues Showcase” features  a set from Ross Robinson followed by a set from The James Howard Band at Purdy’s Public House and Arcade\, Sumner\, WA\, May 28th\, 7-9 pm.\n  Ross Robinson \n  James Howard Band \n 
URL:https://southsoundblues.org/event/tuesday-blues-showcase-features-ross-robinson-followed-by-the-james-howard-band-at-purdys-public-house-and-arcade-sumner/
LOCATION:Purdy’s Public House & Arcade\, Sumner\, 16202 64th St E\, Sumner\, WA\, 98390
CATEGORIES:Featured,Local South Sound Blues
END:VEVENT
BEGIN:VEVENT
DTSTART;TZID=America/Los_Angeles:20240529T170000
DTEND;TZID=America/Los_Angeles:20240529T170000
DTSTAMP:20260424T042304
CREATED:20240307T224912Z
LAST-MODIFIED:20240307T224912Z
UID:12330-1717002000-1717002000@southsoundblues.org
SUMMARY:Kim & Brian Trio at the Triple Door Musicquarium
DESCRIPTION:Kim & Brian Trio at the Triple Door Musicquarium\, 5pm
URL:https://southsoundblues.org/event/kim-brian-trio-at-the-triple-door-musicquarium/
LOCATION:The Triple Door\, 216 Union St\,\, Seattle\, WA\, 98101
CATEGORIES:Featured
END:VEVENT
BEGIN:VEVENT
DTSTART;TZID=America/Los_Angeles:20240529T190000
DTEND;TZID=America/Los_Angeles:20240529T210000
DTSTAMP:20260424T042304
CREATED:20240512T195034Z
LAST-MODIFIED:20240512T195034Z
UID:12709-1717009200-1717016400@southsoundblues.org
SUMMARY:Sweetkiss Momma duo at the Mill
DESCRIPTION:Join The Mill Town Stage in association with River Productions and Entertainment as they welcome back the SWEETKISS MOMMA DUO!\nThey bring their one of a kind rocking country Americana Wednesday May 29th at 7pm.  $5 cover on bill.
URL:https://southsoundblues.org/event/sweetkiss-momma-duo-at-the-mill/
LOCATION:The Mill of Milton\, 900 Meridian E. #50\, Milton\, WA\, 98354
CATEGORIES:Featured
END:VEVENT
END:VCALENDAR