BEGIN:VCALENDAR
VERSION:2.0
PRODID:-//South Sound Blues Association - ECPv6.15.18//NONSGML v1.0//EN
CALSCALE:GREGORIAN
METHOD:PUBLISH
X-WR-CALNAME:South Sound Blues Association
X-ORIGINAL-URL:https://southsoundblues.org
X-WR-CALDESC:Events for South Sound Blues Association
REFRESH-INTERVAL;VALUE=DURATION:PT1H
X-Robots-Tag:noindex
X-PUBLISHED-TTL:PT1H
BEGIN:VTIMEZONE
TZID:America/Los_Angeles
BEGIN:DAYLIGHT
TZOFFSETFROM:-0800
TZOFFSETTO:-0700
TZNAME:PDT
DTSTART:20230312T100000
END:DAYLIGHT
BEGIN:STANDARD
TZOFFSETFROM:-0700
TZOFFSETTO:-0800
TZNAME:PST
DTSTART:20231105T090000
END:STANDARD
BEGIN:DAYLIGHT
TZOFFSETFROM:-0800
TZOFFSETTO:-0700
TZNAME:PDT
DTSTART:20240310T100000
END:DAYLIGHT
BEGIN:STANDARD
TZOFFSETFROM:-0700
TZOFFSETTO:-0800
TZNAME:PST
DTSTART:20241103T090000
END:STANDARD
BEGIN:DAYLIGHT
TZOFFSETFROM:-0800
TZOFFSETTO:-0700
TZNAME:PDT
DTSTART:20250309T100000
END:DAYLIGHT
BEGIN:STANDARD
TZOFFSETFROM:-0700
TZOFFSETTO:-0800
TZNAME:PST
DTSTART:20251102T090000
END:STANDARD
END:VTIMEZONE
BEGIN:VEVENT
DTSTART;TZID=America/Los_Angeles:20240605T180000
DTEND;TZID=America/Los_Angeles:20240605T210000
DTSTAMP:20260424T025547
CREATED:20240516T013013Z
LAST-MODIFIED:20240516T013013Z
UID:12752-1717610400-1717621200@southsoundblues.org
SUMMARY:Velocity at the Spar
DESCRIPTION:June 5th at The Spar\, Tacoma\, Velocity\, 6pm
URL:https://southsoundblues.org/event/velocity-at-the-spar-5/
LOCATION:The Spar\, 2121 N 30th St\, Tacoma\, WA\, 98403
CATEGORIES:Featured
END:VEVENT
BEGIN:VEVENT
DTSTART;TZID=America/Los_Angeles:20240607T193000
DTEND;TZID=America/Los_Angeles:20240607T193000
DTSTAMP:20260424T025547
CREATED:20240320T220224Z
LAST-MODIFIED:20240320T220224Z
UID:12483-1717788600-1717788600@southsoundblues.org
SUMMARY:KNKX Presents\, Colin James at The Triple Door\, Seattle
DESCRIPTION:Colin James at The Triple Door\, Seattle\, June 7-8th at 7:30 pm\nhttps://tickets.thetripledoor.net/eventperformances.asp?evt=945 \nColin James\n \n\nKNKX Presents\n\nFriday / June 7 & Saturday / June 8\, 2024 @ 7:30pm \n$25 General // $35 Premium \n\nhttp://www.colinjames.com/
URL:https://southsoundblues.org/event/knkx-presents-colin-james-at-the-triple-door-seattle/
LOCATION:The Triple Door\, 216 Union St\,\, Seattle\, WA\, 98101
CATEGORIES:Featured
END:VEVENT
BEGIN:VEVENT
DTSTART;TZID=America/Los_Angeles:20240608T120000
DTEND;TZID=America/Los_Angeles:20240608T143000
DTSTAMP:20260424T025547
CREATED:20240516T010648Z
LAST-MODIFIED:20240516T010648Z
UID:12732-1717848000-1717857000@southsoundblues.org
SUMMARY:Billy Stapleton's Powerhouse band at Fall City Days
DESCRIPTION:June 8th\, Fall City Days\, Fall City\, Billy Stapleton’s POWERHOUSE\, Noon – 2:30 pm\n \n33429 Redmond-Fall City Road Southeast\, Fall City\, WA\, 98024 United \nFall City is an unincorporated community and census-designated place (CDP) in King County\, Washington\, United States\, 25 miles (40 km) east of Seattle.
URL:https://southsoundblues.org/event/billy-stapletons-powerhouse-band-at-fall-city-days/
LOCATION:Aroma Coffee Co\, 33429 Redmond-Fall City Road Southeast\, Fall City\, WA\, 98024
CATEGORIES:Featured
END:VEVENT
BEGIN:VEVENT
DTSTART;TZID=America/Los_Angeles:20240608T190000
DTEND;TZID=America/Los_Angeles:20240608T220000
DTSTAMP:20260424T025547
CREATED:20240516T012848Z
LAST-MODIFIED:20240516T012848Z
UID:12750-1717873200-1717884000@southsoundblues.org
SUMMARY:Twang Junkies at the Spar
DESCRIPTION:June 8th\, The Spar\, Tacoma\, Twang Junkies\, 7pm
URL:https://southsoundblues.org/event/twang-junkies-at-the-spar-5/
LOCATION:The Spar\, 2121 N 30th St\, Tacoma\, WA\, 98403
CATEGORIES:Featured
END:VEVENT
BEGIN:VEVENT
DTSTART;TZID=America/Los_Angeles:20240614T190000
DTEND;TZID=America/Los_Angeles:20240614T210000
DTSTAMP:20260424T025547
CREATED:20240516T012720Z
LAST-MODIFIED:20240516T012720Z
UID:12748-1718391600-1718398800@southsoundblues.org
SUMMARY:Jim Basnight Band at the Kimball Coffeehouse
DESCRIPTION:June 14th at the Kimball Coffeehouse\, Gig Harbor\, Jim Basnight Band\, 7pm
URL:https://southsoundblues.org/event/jim-basnight-band-at-the-kimball-coffeehouse/
LOCATION:Kimball’s Coffeehouse\, 6659 Kimball Dr\, Gig Harbor\, WA\, 98335
CATEGORIES:Featured
END:VEVENT
BEGIN:VEVENT
DTSTART;TZID=America/Los_Angeles:20240614T200000
DTEND;TZID=America/Los_Angeles:20240614T200000
DTSTAMP:20260424T025547
CREATED:20240516T010913Z
LAST-MODIFIED:20240516T010913Z
UID:12735-1718395200-1718395200@southsoundblues.org
SUMMARY:Billy Stapleton's POWERHOUSE band at the Easy Monkey Taphouse\, Shoreline
DESCRIPTION:June 14th\, Easy Monkey Taphouse in Shoreline\, Billy Stapleton’s POWERHOUSE\, 8pm
URL:https://southsoundblues.org/event/billy-stapletons-powerhouse-band-at-the-easy-monkey-taphouse-shoreline/
LOCATION:Easy Monkey Taphouse\, 17537 15th Ave NE Suite B\, Shoreline\, WA\, 98155
CATEGORIES:Featured
END:VEVENT
BEGIN:VEVENT
DTSTART;TZID=America/Los_Angeles:20240615T190000
DTEND;TZID=America/Los_Angeles:20240615T220000
DTSTAMP:20260424T025547
CREATED:20240516T012500Z
LAST-MODIFIED:20240516T012500Z
UID:12746-1718478000-1718488800@southsoundblues.org
SUMMARY:The Fabulous Orchids at the spar
DESCRIPTION:June 15th at The Spar\, Tacoma\, The Fabulous Orchids\, 7pm
URL:https://southsoundblues.org/event/the-fabulous-orchids-at-the-spar/
LOCATION:The Spar\, 2121 N 30th St\, Tacoma\, WA\, 98403
CATEGORIES:Featured
END:VEVENT
BEGIN:VEVENT
DTSTART;TZID=America/Los_Angeles:20240625T190000
DTEND;TZID=America/Los_Angeles:20240625T210000
DTSTAMP:20260424T025547
CREATED:20240625T033613Z
LAST-MODIFIED:20240625T033613Z
UID:12937-1719342000-1719349200@southsoundblues.org
SUMMARY:WBS Blues Bash with Michele D'Amour & The Love Dealers at CCR\, Snohomish
DESCRIPTION:Washington Blues Society Blues Bash with Michele D’Amour & The Love Dealers at CCR in Snohomish\, June 25th 7-9pm\n\nFeaturing a night dancing and mayhem from Michele D’Amour and the Love Dealers.\nAward winning songwriter\, Michele brings her high energy 5pc band to CCR for a night Rockin’ Blues\, Jumpin’ Swing\, Sizzling Funk and Soul \nCCR Lounge\, 215 Cypress Ave\, Snohomish\, WA 98290
URL:https://southsoundblues.org/event/wbs-blues-bash-with-michele-damour-the-love-dealers-at-ccr-snohomish/
LOCATION:CCR Sports & Entertainment\, 215 Cypress Ave\, Snohomish\, WA\, 98290
CATEGORIES:Featured
END:VEVENT
BEGIN:VEVENT
DTSTART;TZID=America/Los_Angeles:20240627T190000
DTEND;TZID=America/Los_Angeles:20240627T210000
DTSTAMP:20260424T025547
CREATED:20240602T024226Z
LAST-MODIFIED:20240602T024226Z
UID:12825-1719514800-1719522000@southsoundblues.org
SUMMARY:Garage Mahal At APIZZA\, Little Italy\, Tacoma
DESCRIPTION:Thurs. June 27th – Garage Mahal (acoustic rock) at APIZZA\, Little Italy\, Tacoma\,  7-9 PM
URL:https://southsoundblues.org/event/garage-mahal-at-apizza-little-italy-tacoma/
LOCATION:APIZZA\, 821 Pacific Ave\, Tacoma\, WA\, 98402
CATEGORIES:Featured
END:VEVENT
END:VCALENDAR