BEGIN:VCALENDAR
VERSION:2.0
PRODID:-//South Sound Blues Association - ECPv6.15.18//NONSGML v1.0//EN
CALSCALE:GREGORIAN
METHOD:PUBLISH
X-WR-CALNAME:South Sound Blues Association
X-ORIGINAL-URL:https://southsoundblues.org
X-WR-CALDESC:Events for South Sound Blues Association
REFRESH-INTERVAL;VALUE=DURATION:PT1H
X-Robots-Tag:noindex
X-PUBLISHED-TTL:PT1H
BEGIN:VTIMEZONE
TZID:America/Los_Angeles
BEGIN:DAYLIGHT
TZOFFSETFROM:-0800
TZOFFSETTO:-0700
TZNAME:PDT
DTSTART:20240310T100000
END:DAYLIGHT
BEGIN:STANDARD
TZOFFSETFROM:-0700
TZOFFSETTO:-0800
TZNAME:PST
DTSTART:20241103T090000
END:STANDARD
BEGIN:DAYLIGHT
TZOFFSETFROM:-0800
TZOFFSETTO:-0700
TZNAME:PDT
DTSTART:20250309T100000
END:DAYLIGHT
BEGIN:STANDARD
TZOFFSETFROM:-0700
TZOFFSETTO:-0800
TZNAME:PST
DTSTART:20251102T090000
END:STANDARD
BEGIN:DAYLIGHT
TZOFFSETFROM:-0800
TZOFFSETTO:-0700
TZNAME:PDT
DTSTART:20260308T100000
END:DAYLIGHT
BEGIN:STANDARD
TZOFFSETFROM:-0700
TZOFFSETTO:-0800
TZNAME:PST
DTSTART:20261101T090000
END:STANDARD
END:VTIMEZONE
BEGIN:VEVENT
DTSTART;TZID=America/Los_Angeles:20250301T200000
DTEND;TZID=America/Los_Angeles:20250301T230000
DTSTAMP:20260423T140848
CREATED:20241228T081035Z
LAST-MODIFIED:20241228T081035Z
UID:14039-1740859200-1740870000@southsoundblues.org
SUMMARY:John Stephan Band at the Madison Pub
DESCRIPTION:John Stephan Band @ Madison Pub March 1st\, 8pm
URL:https://southsoundblues.org/event/john-stephan-band-at-the-madison-pub/
LOCATION:Madison Avenue Pub\, 905 Madison St\, Everett\, WA\, 98203
CATEGORIES:Featured
END:VEVENT
BEGIN:VEVENT
DTSTART;TZID=America/Los_Angeles:20250305T180000
DTEND;TZID=America/Los_Angeles:20250305T210000
DTSTAMP:20260423T140848
CREATED:20250127T203120Z
LAST-MODIFIED:20250127T203120Z
UID:14231-1741197600-1741208400@southsoundblues.org
SUMMARY:Wednesday Jazz at the Spar
DESCRIPTION:Jazz\, Wednesday’s at the Spar\, 6-9 pm 
URL:https://southsoundblues.org/event/wednesday-jazz-at-the-spar-3/
LOCATION:The Spar\, 2121 N 30th St\, Tacoma\, WA\, 98403
CATEGORIES:Featured
END:VEVENT
BEGIN:VEVENT
DTSTART;TZID=America/Los_Angeles:20250308T190000
DTEND;TZID=America/Los_Angeles:20250308T220000
DTSTAMP:20260423T140848
CREATED:20250227T205647Z
LAST-MODIFIED:20250227T205725Z
UID:14374-1741460400-1741471200@southsoundblues.org
SUMMARY:Mount Baker Theatre Presents Colin James
DESCRIPTION:Colin James at the Mount Baker Theatre Saturday\, March 8th\, 7:30pm pm\nhttps://colinjames.com/\n\n\n\n\n \n  \nMount Baker Theater\, 104 N Commercial St\, Bellingham\, WA 98225 \nPrice: Starting at $18.75*\nVenue:\nwww.mountbakertheatre.com/events-tickets/colin-james/
URL:https://southsoundblues.org/event/mount-baker-theatre-presents-colin-james/
LOCATION:Mount Baker Theater\, 104 N Commercial St\, Bellingham\, WA\, 98225
CATEGORIES:Featured,Special Event
END:VEVENT
BEGIN:VEVENT
DTSTART;TZID=America/Los_Angeles:20250308T190000
DTEND;TZID=America/Los_Angeles:20250308T220000
DTSTAMP:20260423T140848
CREATED:20250307T194513Z
LAST-MODIFIED:20250307T194513Z
UID:14438-1741460400-1741471200@southsoundblues.org
SUMMARY:Wildwood Angels at the Spar
DESCRIPTION:Sat\, Mar 8th – Wildwood Angels at the Spar\, 7-10 pm
URL:https://southsoundblues.org/event/wildwood-angels-at-the-spar/
LOCATION:The Spar\, 2121 N 30th St\, Tacoma\, WA\, 98403
CATEGORIES:Featured
END:VEVENT
BEGIN:VEVENT
DTSTART;TZID=America/Los_Angeles:20250310T180000
DTEND;TZID=America/Los_Angeles:20250310T210000
DTSTAMP:20260423T140848
CREATED:20250214T211104Z
LAST-MODIFIED:20250214T211104Z
UID:14335-1741629600-1741640400@southsoundblues.org
SUMMARY:Monday Jazz at Brother Don’s Bar & Grill\, Bremerton
DESCRIPTION:Monday Jazz at Brother Don’s Bar & Grill\, Bremerton 6-9 pm
URL:https://southsoundblues.org/event/monday-jazz-at-brother-dons-bar-grill-bremerton-13/
LOCATION:Brother Don’s Bar & Grill\, 4200 Kitsap Way\, Bremerton\, WA\, 98312
CATEGORIES:Featured
END:VEVENT
BEGIN:VEVENT
DTSTART;TZID=America/Los_Angeles:20250312T180000
DTEND;TZID=America/Los_Angeles:20250312T210000
DTSTAMP:20260423T140848
CREATED:20250307T191117Z
LAST-MODIFIED:20250307T191117Z
UID:14420-1741802400-1741813200@southsoundblues.org
SUMMARY:Wednesday Jazz with Brian Nova at the Spar
DESCRIPTION:Brian Nova at the Spar 6-9 pm
URL:https://southsoundblues.org/event/wednesday-jazz-with-brian-nova-at-the-spar/
LOCATION:The Spar\, 2121 N 30th St\, Tacoma\, WA\, 98403
CATEGORIES:Featured
END:VEVENT
BEGIN:VEVENT
DTSTART;TZID=America/Los_Angeles:20250314T190000
DTEND;TZID=America/Los_Angeles:20250314T220000
DTSTAMP:20260423T140848
CREATED:20250114T235633Z
LAST-MODIFIED:20250127T015510Z
UID:14167-1741978800-1741989600@southsoundblues.org
SUMMARY:LTD Presents: Chris Cain Band at the Palindrome\, Port Townsend
DESCRIPTION:CHRIS CAIN BAND\, at the PORT TOWNSEND PALINDROME (EAGLEMOUNT WINERY)\, FRIDAY\, MARCH 14\nLTD Presents: Chris Cain Band LIVE at The Palindrome Port Townsend Event CenterWith more than three decades of touring and fifteen previous albums under his belt\, Alligator Records recording artist Chris Cain\, once known as “one of the greatest guitarists you’ve never heard\,” is now celebrated by fans and fellow musicians alike as being among the blues’ most talented and exciting players.\ntickets: www.LTDPRESENTSLIVE.com
URL:https://southsoundblues.org/event/chris-cain-band-at-the-palindrome-port-townsend/
LOCATION:Palindrome Port Townsend Event Center\, 1893 S Jacob Miller Rd\, Port Townsend\, WA\, 98368
CATEGORIES:Featured,Local South Sound Blues
END:VEVENT
BEGIN:VEVENT
DTSTART;TZID=America/Los_Angeles:20250315T190000
DTEND;TZID=America/Los_Angeles:20250315T220000
DTSTAMP:20260423T140848
CREATED:20250306T024818Z
LAST-MODIFIED:20250306T024818Z
UID:14401-1742065200-1742076000@southsoundblues.org
SUMMARY:Kimball & The Rockin' Fugitives at the Spar
DESCRIPTION:Sat\, March 15th – Kimball & The Rockin’ Fugitives at the Spar\, 7-10 pm
URL:https://southsoundblues.org/event/kimball-the-rockin-fugitives-at-the-spar/
LOCATION:The Spar\, 2121 N 30th St\, Tacoma\, WA\, 98403
CATEGORIES:Featured
END:VEVENT
BEGIN:VEVENT
DTSTART;TZID=America/Los_Angeles:20250317T180000
DTEND;TZID=America/Los_Angeles:20250317T210000
DTSTAMP:20260423T140848
CREATED:20250214T203037Z
LAST-MODIFIED:20250214T203037Z
UID:14331-1742234400-1742245200@southsoundblues.org
SUMMARY:Monday Jazz at Brother Don’s Bar & Grill\, Bremerton
DESCRIPTION:Monday Jazz at Brother Don’s Bar & Grill\, Bremerton\, 6-9 pm
URL:https://southsoundblues.org/event/monday-jazz-at-brother-dons-bar-grill-bremerton-11/
LOCATION:Brother Don’s Bar & Grill\, 4200 Kitsap Way\, Bremerton\, WA\, 98312
CATEGORIES:Featured
END:VEVENT
BEGIN:VEVENT
DTSTART;TZID=America/Los_Angeles:20250319T180000
DTEND;TZID=America/Los_Angeles:20250319T210000
DTSTAMP:20260423T140848
CREATED:20250307T191306Z
LAST-MODIFIED:20250307T191306Z
UID:14422-1742407200-1742418000@southsoundblues.org
SUMMARY:Wednesday Jazz at the Spar with Fusion Axe
DESCRIPTION:Wed\, Mar 19th – Fusion Axe at the Spar 6-9 pm
URL:https://southsoundblues.org/event/wednesday-jazz-at-the-spar-with-fusion-axe/
LOCATION:The Spar\, 2121 N 30th St\, Tacoma\, WA\, 98403
CATEGORIES:Featured
END:VEVENT
BEGIN:VEVENT
DTSTART;TZID=America/Los_Angeles:20250320T190000
DTEND;TZID=America/Los_Angeles:20250320T220000
DTSTAMP:20260423T140848
CREATED:20250115T000054Z
LAST-MODIFIED:20250115T000054Z
UID:14169-1742497200-1742508000@southsoundblues.org
SUMMARY:LTD presents Pearl Django at the Blue Mouse Theatre\, Tacoma
DESCRIPTION:LTD presents\,PEARL DJANGO\,THURSDAY MARCH 20th at THE BLUE MOUSE THEATRE\, TACOMA 7pm\ninfo@ltdpresentslive.com
URL:https://southsoundblues.org/event/ltd-presents-pearl-django-at-the-blue-mouse-theatre-tacoma/
LOCATION:Blue Mouse Theatre\, 2611 N Proctor\, Tacoma\, WA\, 98407
CATEGORIES:Featured
END:VEVENT
BEGIN:VEVENT
DTSTART;TZID=America/Los_Angeles:20250321T180000
DTEND;TZID=America/Los_Angeles:20250321T200000
DTSTAMP:20260423T140848
CREATED:20250124T223034Z
LAST-MODIFIED:20250124T223034Z
UID:14216-1742580000-1742587200@southsoundblues.org
SUMMARY:Sarah Brunner at the Post & Pour Cafe\, Bonny Lake
DESCRIPTION:Sarah Brunner at the Post & Pour Cafe\, March 21st\, 6-8 pm\nSarah Brunner\n  \n 
URL:https://southsoundblues.org/event/sarah-brunner-at-the-post-pour-cafe-bonny-lake/
LOCATION:Post and Pour Cafe\, 19001 Cascadia Boulevard East\, Bonney Lake\, WA\, 98391
CATEGORIES:Featured
END:VEVENT
BEGIN:VEVENT
DTSTART;TZID=America/Los_Angeles:20250322T190000
DTEND;TZID=America/Los_Angeles:20250322T220000
DTSTAMP:20260423T140848
CREATED:20250312T232354Z
LAST-MODIFIED:20250312T232354Z
UID:14451-1742670000-1742680800@southsoundblues.org
SUMMARY:Motorvaters at the Spar
DESCRIPTION:Sat\, Mar 22nd – Motorvaters at the Spar\, 7-10 pm
URL:https://southsoundblues.org/event/motorvaters-at-the-spar/
LOCATION:The Spar\, 2121 N 30th St\, Tacoma\, WA\, 98403
CATEGORIES:Featured
END:VEVENT
BEGIN:VEVENT
DTSTART;TZID=America/Los_Angeles:20250326T180000
DTEND;TZID=America/Los_Angeles:20250326T210000
DTSTAMP:20260423T140848
CREATED:20250307T191539Z
LAST-MODIFIED:20250307T191539Z
UID:14424-1743012000-1743022800@southsoundblues.org
SUMMARY:Wednesday Jazz at the Spar with Velocity
DESCRIPTION:Wed\, Mar 26th – Velocity at the Spar\, 6-9 pm
URL:https://southsoundblues.org/event/wednesday-jazz-at-the-spar-with-velocity/
LOCATION:The Spar\, 2121 N 30th St\, Tacoma\, WA\, 98403
CATEGORIES:Featured
END:VEVENT
BEGIN:VEVENT
DTSTART;TZID=America/Los_Angeles:20250328T190000
DTEND;TZID=America/Los_Angeles:20250328T220000
DTSTAMP:20260423T140848
CREATED:20250227T210640Z
LAST-MODIFIED:20250227T210640Z
UID:14377-1743188400-1743199200@southsoundblues.org
SUMMARY:CD Woodbury Trio at the North City Bistro
DESCRIPTION:CD Woodbury Trio at the North City Bistro March 28th\, 7 pm\n \n\n\n\n\n\nNorth City Bistro\, 1520 NE 177th St\, Shoreline\, WA 98155\, USA
URL:https://southsoundblues.org/event/cd-woodbury-trio-at-the-north-city-bistro/
LOCATION:North City Bistro\, 1520 NE 177th St\, Shoreline\, WA\, 98155
CATEGORIES:Featured
END:VEVENT
BEGIN:VEVENT
DTSTART;TZID=America/Los_Angeles:20250329T190000
DTEND;TZID=America/Los_Angeles:20250329T220000
DTSTAMP:20260423T140848
CREATED:20250227T211834Z
LAST-MODIFIED:20250227T212040Z
UID:14380-1743274800-1743285600@southsoundblues.org
SUMMARY:Stacy Jones Band at Sound 2 Summit Brewery\, Snohomish
DESCRIPTION:Stacy Jones Band at Sound to Summit March 29th\, 7-10 pm\n\n\n© 2018 Brian and Jo Benedetti \n\n\n\n\nSound To Summit Brewery\, 1830 Bickford Ave\, Snohomish\, WA 98290
URL:https://southsoundblues.org/event/stacy-jones-band-at-sound-to-summit-brewery/
LOCATION:Sound 2 Summit Brewery\, 1830 Bickford Ave\, Snohomish\, WA\, 98290
CATEGORIES:Featured
END:VEVENT
BEGIN:VEVENT
DTSTART;TZID=America/Los_Angeles:20250331T180000
DTEND;TZID=America/Los_Angeles:20250331T210000
DTSTAMP:20260423T140848
CREATED:20250214T210913Z
LAST-MODIFIED:20250214T210913Z
UID:14333-1743444000-1743454800@southsoundblues.org
SUMMARY:Monday Jazz at Brother Don’s Bar & Grill\, Bremerton
DESCRIPTION:Monday Jazz at Brother Don’s Bar & Grill\, Bremerton\, 6-9 pm
URL:https://southsoundblues.org/event/monday-jazz-at-brother-dons-bar-grill-bremerton-12/
LOCATION:Brother Don’s Bar & Grill\, 4200 Kitsap Way\, Bremerton\, WA\, 98312
CATEGORIES:Featured
END:VEVENT
END:VCALENDAR