BEGIN:VCALENDAR
VERSION:2.0
PRODID:-//South Sound Blues Association - ECPv6.15.18//NONSGML v1.0//EN
CALSCALE:GREGORIAN
METHOD:PUBLISH
X-WR-CALNAME:South Sound Blues Association
X-ORIGINAL-URL:https://southsoundblues.org
X-WR-CALDESC:Events for South Sound Blues Association
REFRESH-INTERVAL;VALUE=DURATION:PT1H
X-Robots-Tag:noindex
X-PUBLISHED-TTL:PT1H
BEGIN:VTIMEZONE
TZID:America/Los_Angeles
BEGIN:DAYLIGHT
TZOFFSETFROM:-0800
TZOFFSETTO:-0700
TZNAME:PDT
DTSTART:20250309T100000
END:DAYLIGHT
BEGIN:STANDARD
TZOFFSETFROM:-0700
TZOFFSETTO:-0800
TZNAME:PST
DTSTART:20251102T090000
END:STANDARD
BEGIN:DAYLIGHT
TZOFFSETFROM:-0800
TZOFFSETTO:-0700
TZNAME:PDT
DTSTART:20260308T100000
END:DAYLIGHT
BEGIN:STANDARD
TZOFFSETFROM:-0700
TZOFFSETTO:-0800
TZNAME:PST
DTSTART:20261101T090000
END:STANDARD
BEGIN:DAYLIGHT
TZOFFSETFROM:-0800
TZOFFSETTO:-0700
TZNAME:PDT
DTSTART:20270314T100000
END:DAYLIGHT
BEGIN:STANDARD
TZOFFSETFROM:-0700
TZOFFSETTO:-0800
TZNAME:PST
DTSTART:20271107T090000
END:STANDARD
END:VTIMEZONE
BEGIN:VEVENT
DTSTART;TZID=America/Los_Angeles:20260903T190000
DTEND;TZID=America/Los_Angeles:20260903T230000
DTSTAMP:20260423T023702
CREATED:20260306T012014Z
LAST-MODIFIED:20260306T012014Z
UID:17212-1788462000-1788476400@southsoundblues.org
SUMMARY:Acoustic Open Jam every Thursday at North End on Pearl
DESCRIPTION:Acoustic Open Jam every Thursday at North End on Pearl. Hosted by Lynn Sorensen\, Manuel Morais\, and Al Maier 7-11pm\nBring your guitar\, your voice\, or just come enjoy the music.\n 7–11PM\n No Cover | 21+\n Ruston
URL:https://southsoundblues.org/event/acoustic-open-jam-every-thursday-at-north-end-on-pearl-7/
LOCATION:North End On Pearl\, 5037 North Pearl Street\, Tacoma\, WA\, 98407
CATEGORIES:Featured
END:VEVENT
END:VCALENDAR