BEGIN:VCALENDAR
VERSION:2.0
PRODID:-//South Sound Blues Association - ECPv6.15.18//NONSGML v1.0//EN
CALSCALE:GREGORIAN
METHOD:PUBLISH
X-ORIGINAL-URL:https://southsoundblues.org
X-WR-CALDESC:Events for South Sound Blues Association
REFRESH-INTERVAL;VALUE=DURATION:PT1H
X-Robots-Tag:noindex
X-PUBLISHED-TTL:PT1H
BEGIN:VTIMEZONE
TZID:America/Los_Angeles
BEGIN:DAYLIGHT
TZOFFSETFROM:-0800
TZOFFSETTO:-0700
TZNAME:PDT
DTSTART:20250309T100000
END:DAYLIGHT
BEGIN:STANDARD
TZOFFSETFROM:-0700
TZOFFSETTO:-0800
TZNAME:PST
DTSTART:20251102T090000
END:STANDARD
BEGIN:DAYLIGHT
TZOFFSETFROM:-0800
TZOFFSETTO:-0700
TZNAME:PDT
DTSTART:20260308T100000
END:DAYLIGHT
BEGIN:STANDARD
TZOFFSETFROM:-0700
TZOFFSETTO:-0800
TZNAME:PST
DTSTART:20261101T090000
END:STANDARD
BEGIN:DAYLIGHT
TZOFFSETFROM:-0800
TZOFFSETTO:-0700
TZNAME:PDT
DTSTART:20270314T100000
END:DAYLIGHT
BEGIN:STANDARD
TZOFFSETFROM:-0700
TZOFFSETTO:-0800
TZNAME:PST
DTSTART:20271107T090000
END:STANDARD
END:VTIMEZONE
BEGIN:VEVENT
DTSTART;TZID=America/Los_Angeles:20260422T180000
DTEND;TZID=America/Los_Angeles:20260422T210000
DTSTAMP:20260422T223716
CREATED:20260325T225034Z
LAST-MODIFIED:20260403T224416Z
UID:17368-1776880800-1776891600@southsoundblues.org
SUMMARY:Funky Jazz Wednesdays at the Spar with Elnah Jordan
DESCRIPTION:Funky Jazz Wednesdays at the Spar 6-9 pm\, Elnah Jordan
URL:https://southsoundblues.org/event/funky-jazz-wednesdays-at-the-spar-21/
LOCATION:The Spar\, 2121 N 30th St\, Tacoma\, WA\, 98403
CATEGORIES:Featured
END:VEVENT
BEGIN:VEVENT
DTSTART;TZID=America/Los_Angeles:20260420T190000
DTEND;TZID=America/Los_Angeles:20260420T210000
DTSTAMP:20260422T223716
CREATED:20260404T003045Z
LAST-MODIFIED:20260417T210642Z
UID:17517-1776711600-1776718800@southsoundblues.org
SUMMARY:WBS Blue Monday with the Billy Stapleton Powerhouse at Apex Everett
DESCRIPTION:WBS ‘Blue Mondays’ with the Billy Stapleton Powerhouse at Apex Everett 7-9 pm April 20th
URL:https://southsoundblues.org/event/wbs-blue-monday-with-the-billy-stapleton-band-at-apex-everett/
LOCATION:APEX EVERETT\, 1611 Everett Avenue\, Everett\, WA\, 98201
CATEGORIES:Featured
END:VEVENT
BEGIN:VEVENT
DTSTART;TZID=America/Los_Angeles:20260420T180000
DTEND;TZID=America/Los_Angeles:20260420T210000
DTSTAMP:20260422T223716
CREATED:20260311T212145Z
LAST-MODIFIED:20260311T212145Z
UID:17248-1776708000-1776718800@southsoundblues.org
SUMMARY:Monday Jazz at Brother Don’s Bar & Grill\, Bremerton
DESCRIPTION:Monday Jazz at Brother Don’s Bar & Grill\, Bremerton\, 6-9 pm
URL:https://southsoundblues.org/event/monday-jazz-at-brother-dons-bar-grill-bremerton-40/
LOCATION:Brother Don’s Bar & Grill\, 4200 Kitsap Way\, Bremerton\, WA\, 98312
CATEGORIES:Featured
END:VEVENT
BEGIN:VEVENT
DTSTART;TZID=America/Los_Angeles:20260418T190000
DTEND;TZID=America/Los_Angeles:20260418T220000
DTSTAMP:20260422T223716
CREATED:20260403T224145Z
LAST-MODIFIED:20260403T224145Z
UID:17498-1776538800-1776549600@southsoundblues.org
SUMMARY:Sturgeon Moon at the Spar
DESCRIPTION:Sturgeon Moon at the Spar April  18th\, 7-10 pm\, Sturgeon Moon
URL:https://southsoundblues.org/event/sturgeon-moon-at-the-spar-2/
LOCATION:The Spar\, 2121 N 30th St\, Tacoma\, WA\, 98403
CATEGORIES:Featured
END:VEVENT
BEGIN:VEVENT
DTSTART;TZID=America/Los_Angeles:20260417T193000
DTEND;TZID=America/Los_Angeles:20260417T213000
DTSTAMP:20260422T223716
CREATED:20251105T212037Z
LAST-MODIFIED:20251105T212953Z
UID:16498-1776454200-1776461400@southsoundblues.org
SUMMARY:Rick Estrin & The Nightcats at the Triple Door Mainstage\, Seattle
DESCRIPTION:Rick Estrin & The Nightcats at the Triple Door Mainstage April 17th\, 7:30 pm\nhttps://tickets.thetripledoor.net/eventperformances.asp?evt=2161 \n \nRick Estrin & The Nightcats\nAt 19\, Estrin relocated to Chicago and worked with some of the city’s best bluesmen. He met and jammed with the legendary Muddy Waters\, who told Rick\, “You outta sight\, boy! You got that sound! You play like a man!” Muddy wanted Estrin to go on the road with him\, but Estrin missed Muddy’s phone call and it never happened. Estrin eventually moved back to the Bay Area\, met guitarist Charlie Baty and formed Little Charlie & The Nightcats. With Charlie’s retirement from touring in 2008\, Rick brought in guitar virtuoso Kid Andersen and formed Rick Estrin & The Nightcats. \nEstrin cites Sonny Boy Williamson II\, Percy Mayfield and Detroit bluesman Baby Boy Warren as his major songwriting influences. His work on the reeds is deep in the tradition of harmonica masters Sonny Boy Williamson II and Little Walter Jacobs\, while at the same time pushing that tradition forward with his innovative songs. And his sly and soulful vocals are the perfect vehicle for driving those songs home. \nMainstage Theatre\, 216 Union Street\, Seattle
URL:https://southsoundblues.org/event/rick-estrin-the-nightcats-at-the-triple-door-mainstage-seattle/
LOCATION:The Triple Door\, 216 Union St\,\, Seattle\, WA\, 98101
CATEGORIES:Featured,Special Event
END:VEVENT
BEGIN:VEVENT
DTSTART;TZID=America/Los_Angeles:20260415T183000
DTEND;TZID=America/Los_Angeles:20260415T203000
DTSTAMP:20260422T223716
CREATED:20260403T235607Z
LAST-MODIFIED:20260403T235607Z
UID:17512-1776277800-1776285000@southsoundblues.org
SUMMARY:Tudor & McGibbin at TK Irish Pub\, Puyallup
DESCRIPTION:Tudor & McGibbin at TK Irish Pub April 15th 6:30-8:30 pm\n 
URL:https://southsoundblues.org/event/tudor-mcgibbin-at-tk-irish-pub-puyallup/
LOCATION:Twisted Kilt\, 109 S Meridian\, Puyallup\, WA\, 98371
CATEGORIES:Featured
END:VEVENT
BEGIN:VEVENT
DTSTART;TZID=America/Los_Angeles:20260415T180000
DTEND;TZID=America/Los_Angeles:20260415T210000
DTSTAMP:20260422T223716
CREATED:20260325T224836Z
LAST-MODIFIED:20260403T223906Z
UID:17366-1776276000-1776286800@southsoundblues.org
SUMMARY:Funky Jazz Wednesdays at the Spar\, John Kessler Band
DESCRIPTION:Funky Jazz Wednesdays at the Spar 6-9 pm\, John Kessler Band
URL:https://southsoundblues.org/event/funky-jazz-wednesdays-at-the-spar-20/
LOCATION:The Spar\, 2121 N 30th St\, Tacoma\, WA\, 98403
CATEGORIES:Featured
END:VEVENT
BEGIN:VEVENT
DTSTART;TZID=America/Los_Angeles:20260411T210000
DTEND;TZID=America/Los_Angeles:20260411T233000
DTSTAMP:20260422T223716
CREATED:20260406T232439Z
LAST-MODIFIED:20260406T232439Z
UID:17526-1775941200-1775950200@southsoundblues.org
SUMMARY:Nick Mardon Trio at the historic Brick Saloon\, Roslyn
DESCRIPTION:Join the Nick Mardon Trio for a night of high-energy blues-rock at the historic Brick Saloon in Roslyn\, WA on Saturday\, April 11th\, 9pm\n\n\nExpect fiery guitar work\, soulful vocals\, and a mix of classic rock\, blues favorites\, and standout originals in one of Washington’s most legendary venues.\n\n\n Brick Saloon — Roslyn\, WA  Saturday\, April 11th\, 2026
URL:https://southsoundblues.org/event/nick-mardon-trio-at-the-historic-brick-saloon-roslyn/
LOCATION:Brick Saloon\, 100 W Pennsylvania Ave\, Roslyn\, WA\, 98941
CATEGORIES:Featured
END:VEVENT
BEGIN:VEVENT
DTSTART;TZID=America/Los_Angeles:20260411T190000
DTEND;TZID=America/Los_Angeles:20260411T220000
DTSTAMP:20260422T223716
CREATED:20260403T223429Z
LAST-MODIFIED:20260403T223746Z
UID:17495-1775934000-1775944800@southsoundblues.org
SUMMARY:Tupelo at the Spar
DESCRIPTION:Tupelo at the Spar April 11th 7-10 pm
URL:https://southsoundblues.org/event/tupelo-at-the-spar-6/
LOCATION:The Spar\, 2121 N 30th St\, Tacoma\, WA\, 98403
CATEGORIES:Featured
END:VEVENT
BEGIN:VEVENT
DTSTART;TZID=America/Los_Angeles:20260411T183000
DTEND;TZID=America/Los_Angeles:20260411T213000
DTSTAMP:20260422T223716
CREATED:20260312T052949Z
LAST-MODIFIED:20260312T052949Z
UID:17281-1775932200-1775943000@southsoundblues.org
SUMMARY:Annie Eastwood & Chris Stevens Duo at the Repp\, Snohomish
DESCRIPTION:Annie Eastwood & Chris Stevens Duo at the Repp Saturday April 11th\,  6:30pm – 9:30pm\n 
URL:https://southsoundblues.org/event/annie-eastwood-chris-stevens-duo-at-the-repp-snohomish-3/
LOCATION:The Repp\, 924 1st St\, Snohomish\, WA\, 98290
CATEGORIES:Featured
END:VEVENT
BEGIN:VEVENT
DTSTART;TZID=America/Los_Angeles:20260409T190000
DTEND;TZID=America/Los_Angeles:20260409T230000
DTSTAMP:20260422T223716
CREATED:20260306T011542Z
LAST-MODIFIED:20260306T011542Z
UID:17208-1775761200-1775775600@southsoundblues.org
SUMMARY:Acoustic Open Jam every Thursday at North End on Pearl
DESCRIPTION:Acoustic Open Jam every Thursday at North End on Pearl 7-11 pm
URL:https://southsoundblues.org/event/acoustic-open-jam-every-thursday-at-north-end-on-pearl-5/
LOCATION:North End On Pearl\, 5037 North Pearl Street\, Tacoma\, WA\, 98407
CATEGORIES:Featured
END:VEVENT
BEGIN:VEVENT
DTSTART;TZID=America/Los_Angeles:20260409T190000
DTEND;TZID=America/Los_Angeles:20260409T210000
DTSTAMP:20260422T223716
CREATED:20260206T002315Z
LAST-MODIFIED:20260206T002315Z
UID:16946-1775761200-1775768400@southsoundblues.org
SUMMARY:Bluesland on KMRE 88.3 FM Every Thursday
DESCRIPTION:Bluesland on KMRE 88.3 FM Every Thursday live at 7pm \nLot’s of fine blues\, soul and rock n roll.  Check out the show at 88.3 FM\, kmre.org \n\nTunein app and OnDemand.\n\n\nBluesland (Live ) Every week on Thursday at 7:00 PM\nBluesland host Leo Schumaker features the best of vintage\, classic\, and new Blues music\, plus interviews with artists\, producers\, writers\, and blues club owners. Leo is a lifetime member of The Santa Barbara Blues Society\, and holds membership in The Washington Blues Society\, The Cascade Blues Society\, and The Blues Foundation\, where he was a judge for The International Blues Challenge in Memphis\, TN.
URL:https://southsoundblues.org/event/bluesland-on-kmre-88-3-fm-every-thursday-2/
LOCATION:KMRE\, Bellingham\, WA
CATEGORIES:Featured
END:VEVENT
BEGIN:VEVENT
DTSTART;TZID=America/Los_Angeles:20260409T180000
DTEND;TZID=America/Los_Angeles:20260409T210000
DTSTAMP:20260422T223716
CREATED:20260312T052717Z
LAST-MODIFIED:20260312T052717Z
UID:17279-1775757600-1775768400@southsoundblues.org
SUMMARY:Miles From Chicago Funk Band at Bad Albert's\, Ballard
DESCRIPTION:Miles From Chicago Funk Band at Bad Albert’s Thursday April 9th  6pm – 9pm\n 
URL:https://southsoundblues.org/event/miles-from-chicago-funk-band-at-bad-alberts-ballard/
LOCATION:Bad Albert’s\, 5100 Ballard Avenue Northwest\, Seattle\, WA\, 98107
CATEGORIES:Featured
END:VEVENT
BEGIN:VEVENT
DTSTART;TZID=America/Los_Angeles:20260408T180000
DTEND;TZID=America/Los_Angeles:20260408T210000
DTSTAMP:20260422T223716
CREATED:20260325T224716Z
LAST-MODIFIED:20260403T223210Z
UID:17364-1775671200-1775682000@southsoundblues.org
SUMMARY:Funky Jazz Wednesdays at the Spar with the James Lee Murray Band
DESCRIPTION:Funky Jazz Wednesdays at the Spar 6-9 pm\, James Lee Murray Band
URL:https://southsoundblues.org/event/funky-jazz-wednesdays-at-the-spar-19/
LOCATION:The Spar\, 2121 N 30th St\, Tacoma\, WA\, 98403
CATEGORIES:Featured
END:VEVENT
BEGIN:VEVENT
DTSTART;TZID=America/Los_Angeles:20260407T190000
DTEND;TZID=America/Los_Angeles:20260407T210000
DTSTAMP:20260422T223716
CREATED:20260312T052505Z
LAST-MODIFIED:20260312T052505Z
UID:17277-1775588400-1775595600@southsoundblues.org
SUMMARY:Annie Eastwood & Billy Stapleton Duo at the Madison Pub\, Everett
DESCRIPTION:Annie Eastwood & Billy Stapleton Duo at the Madison Pub Tuesday April 7th  7pm – 9pm\n \n 
URL:https://southsoundblues.org/event/annie-eastwood-billy-stapleton-duo-at-the-madison-pub-everett/
LOCATION:Madison Avenue Pub\, 905 Madison St\, Everett\, WA\, 98203
CATEGORIES:Featured
END:VEVENT
BEGIN:VEVENT
DTSTART;TZID=America/Los_Angeles:20260404T190000
DTEND;TZID=America/Los_Angeles:20260404T220000
DTSTAMP:20260422T223716
CREATED:20260312T052119Z
LAST-MODIFIED:20260312T052119Z
UID:17275-1775329200-1775340000@southsoundblues.org
SUMMARY:Annie Eastwood All-Star Band at Pub 282\, Camano Island
DESCRIPTION:Annie Eastwood All-Star Band at Pub 282 Saturday April 4th  7pm – 10pm\n 
URL:https://southsoundblues.org/event/annie-eastwood-all-star-band-at-pub-282-camano-island/
LOCATION:Pub 282\, 370 NE Camano Dr #6\, Camano\, WA\, 98282
CATEGORIES:Featured
END:VEVENT
BEGIN:VEVENT
DTSTART;TZID=America/Los_Angeles:20260403T193000
DTEND;TZID=America/Los_Angeles:20260403T220000
DTSTAMP:20260422T223716
CREATED:20260402T212345Z
LAST-MODIFIED:20260402T212345Z
UID:17489-1775244600-1775253600@southsoundblues.org
SUMMARY:Elvin Bishop & Charlie Musselwhite at the Admiral Theatre\, Bremerton
DESCRIPTION:Elvin Bishop & Charlie Musselwhite at the Admiral Theatre Friday April 3rd 7:30 pm\nhttps://www.eventticketscenter.com/charlie-musselwhite-bremerton-tickets/1245402/e\n\n\n\n\n\n\n\n\nElvin Bishop & Charlie Musselwhite\nAdmiral Theatre – Bremerton\, WA\nhttps://www.eventticketscenter.com/
URL:https://southsoundblues.org/event/elvin-bishop-charlie-musselwhite-at-the-admiral-theatre-bremerton/
LOCATION:Admiral Theater\, 515 Pacific Ave\, Bremerton\, WA\, 98337
CATEGORIES:Featured
END:VEVENT
BEGIN:VEVENT
DTSTART;TZID=America/Los_Angeles:20260403T190000
DTEND;TZID=America/Los_Angeles:20260403T220000
DTSTAMP:20260422T223716
CREATED:20260311T205517Z
LAST-MODIFIED:20260311T205517Z
UID:17242-1775242800-1775253600@southsoundblues.org
SUMMARY:The CD Woodbury Trio at the North City Bistro\, Shoreline
DESCRIPTION:The CD Woodbury Trio returns for an intimate evening of music at the North City Bistro April 3rd in Shoreline. 7pm\n \nDrummer Bill Ray will be in the UK in early April\, but CD3 will have a reunion with Jonathan Sayre keeping the beat. Tickets @ northcitybistro.com and 206 265-4447
URL:https://southsoundblues.org/event/the-cd-woodbury-trio-at-the-north-city-bistro-shoreline/
LOCATION:North City Bistro\, 1520 NE 177th St\, Shoreline\, WA\, 98155
CATEGORIES:Featured
END:VEVENT
BEGIN:VEVENT
DTSTART;TZID=America/Los_Angeles:20260401T180000
DTEND;TZID=America/Los_Angeles:20260401T210000
DTSTAMP:20260422T223716
CREATED:20260127T022405Z
LAST-MODIFIED:20260127T022405Z
UID:16863-1775066400-1775077200@southsoundblues.org
SUMMARY:Funky Jazz Wednesdays at the Spar
DESCRIPTION:Funky Jazz Wednesdays at the Spar 6-9 pm
URL:https://southsoundblues.org/event/funky-jazz-wednesdays-at-the-spar-12/
LOCATION:The Spar\, 2121 N 30th St\, Tacoma\, WA\, 98403
CATEGORIES:Featured
END:VEVENT
BEGIN:VEVENT
DTSTART;TZID=America/Los_Angeles:20260331T200000
DTEND;TZID=America/Los_Angeles:20260331T220000
DTSTAMP:20260422T223716
CREATED:20260331T200256Z
LAST-MODIFIED:20260331T200256Z
UID:17472-1774987200-1774994400@southsoundblues.org
SUMMARY:Ben Rice and the Hustle at the Billy Blues Bar and Grill\, Vancouver\, WA
DESCRIPTION:Ben Rice and the Hustle\n\n8:00pm – 10:00pm (PDT)\n\n\n\n\nBilly Blues Bar and Grill 7115 NE Hazel Dell Ave. Vancouver\, WA 98665\, 7115 NE Hazel Dell Ave\, Vancouver\, WA 98665\, USA  \n\n\n \n  \n\nBilly Blues Bar & Grill\, the new Tuesday night home of Ben Rice and the Hustle\, starting December 6th!\n\n\nRiding high from a head-turning 2022 that included touring with ZZ Top\, Ben Rice and the Hustle cruise into Tuesday nights at Billy Blues Bar & Grill. The Hustle is an expansion of the trio Rice has brought to venues and festivals both national and international in recent years\, and is guaranteed to please.\n\n\nBilly Blues Bar and Grill\n7115 NE Hazel Dell Ave.\nVancouver\, WA 98665\n360-694-3114)
URL:https://southsoundblues.org/event/ben-rice-and-the-hustle-at-the-billy-blues-bar-and-grill-vancouver-wa-2/
LOCATION:Billy Blues Bar & Grill\, 7115 NE Hazel Dell Ave\, Vancouver\, WA\, 98665
CATEGORIES:Featured
END:VEVENT
BEGIN:VEVENT
DTSTART;TZID=America/Los_Angeles:20260328T190000
DTEND;TZID=America/Los_Angeles:20260328T220000
DTSTAMP:20260422T223716
CREATED:20251030T211031Z
LAST-MODIFIED:20251030T211031Z
UID:16394-1774724400-1774735200@southsoundblues.org
SUMMARY:Trailer Park Kings at the Spar
DESCRIPTION:Trailer Park Kings at the Spar March 28th\, 7-10 pm
URL:https://southsoundblues.org/event/trailer-park-kings-at-the-spar-3/
LOCATION:The Spar\, 2121 N 30th St\, Tacoma\, WA\, 98403
CATEGORIES:Featured
END:VEVENT
BEGIN:VEVENT
DTSTART;TZID=America/Los_Angeles:20260328T183000
DTEND;TZID=America/Los_Angeles:20260328T213000
DTSTAMP:20260422T223716
CREATED:20260312T051842Z
LAST-MODIFIED:20260312T051842Z
UID:17273-1774722600-1774733400@southsoundblues.org
SUMMARY:Annie Eastwood All-Star Band at the Cellar Cat\, Kingston
DESCRIPTION:Annie Eastwood All-Star Band at the Cellar Cat Saturday March 28th  6:30pm – 9:30pm\n 
URL:https://southsoundblues.org/event/annie-eastwood-all-star-band-at-the-cellar-cat-kingston/
LOCATION:Cellar Cat\, 11253 State Highway 104 NE\, Kingston\, WA\, 98346
CATEGORIES:Featured
END:VEVENT
BEGIN:VEVENT
DTSTART;TZID=America/Los_Angeles:20260327T190000
DTEND;TZID=America/Los_Angeles:20260327T210000
DTSTAMP:20260422T223716
CREATED:20260312T051617Z
LAST-MODIFIED:20260312T051617Z
UID:17271-1774638000-1774645200@southsoundblues.org
SUMMARY:Annie Eastwood & All-Star Band at the North City Bistro\, Shoreline
DESCRIPTION:Annie Eastwood & All-Star Band at the North City Bistro Friday March 27  7pm – 9pm\n 
URL:https://southsoundblues.org/event/annie-eastwood-all-star-band-at-the-north-city-bistro-shoreline/
LOCATION:North City Bistro\, 1520 NE 177th St\, Shoreline\, WA\, 98155
CATEGORIES:Featured
END:VEVENT
BEGIN:VEVENT
DTSTART;TZID=America/Los_Angeles:20260326T190000
DTEND;TZID=America/Los_Angeles:20260326T230000
DTSTAMP:20260422T223716
CREATED:20260306T003956Z
LAST-MODIFIED:20260306T004049Z
UID:17198-1774551600-1774566000@southsoundblues.org
SUMMARY:Acoustic Open Jam every Thursday at North End on Pearl\, Ruston
DESCRIPTION:Acoustic Open Jam every Thursday at North End on Pearl. Hosted by Lynn Sorensen\, Manuel Morais\, and Al Maier 7-11pm\nBring your guitar\, your voice\, or just come enjoy the music.\n 7–11PM\n No Cover | 21+\n Ruston
URL:https://southsoundblues.org/event/acoustic-open-jam-every-thursday-at-north-end-on-pearl-ruston/
LOCATION:North End On Pearl\, 5037 North Pearl Street\, Tacoma\, WA\, 98407
CATEGORIES:Featured
END:VEVENT
BEGIN:VEVENT
DTSTART;TZID=America/Los_Angeles:20260326T190000
DTEND;TZID=America/Los_Angeles:20260326T210000
DTSTAMP:20260422T223716
CREATED:20260206T001955Z
LAST-MODIFIED:20260206T002016Z
UID:16943-1774551600-1774558800@southsoundblues.org
SUMMARY:Bluesland on KMRE 88.3 FM every Thursday
DESCRIPTION:Bluesland on KMRE 88.3 FM with lot’s of fine blues\, soul and rock n roll every Thursday. Will be on live at 7 PM (PST). Check out the show at 88.3 FM\, kmre.org \n\n\n\n\, Tunein app and OnDemand. \n\nBluesland (Live ) Every week on Thursday at 7:00 PM\nBluesland host Leo Schumaker features the best of vintage\, classic\, and new Blues music\, plus interviews with artists\, producers\, writers\, and blues club owners. Leo is a lifetime member of The Santa Barbara Blues Society\, and holds membership in The Washington Blues Society\, The Cascade Blues Society\, and The Blues Foundation\, where he was a judge for The International Blues Challenge in Memphis\, TN.
URL:https://southsoundblues.org/event/bluesland-on-kmre-88-3-fm-every-thursday/
LOCATION:KMRE\, Bellingham\, WA
CATEGORIES:Featured
END:VEVENT
BEGIN:VEVENT
DTSTART;TZID=America/Los_Angeles:20260326T180000
DTEND;TZID=America/Los_Angeles:20260326T210000
DTSTAMP:20260422T223716
CREATED:20260312T051407Z
LAST-MODIFIED:20260312T051407Z
UID:17269-1774548000-1774558800@southsoundblues.org
SUMMARY:Annie Eastwood & All-Stars with Billy Stapleton at Bad Albert's\, Ballard
DESCRIPTION:Annie Eastwood & All-Stars with Billy Stapleton at Bad Albert’s Thursday March 26th  6pm – 9pm\n 
URL:https://southsoundblues.org/event/annie-eastwood-all-stars-with-billy-stapleton-at-bad-alberts-ballard/
LOCATION:Bad Albert’s\, 5100 Ballard Avenue Northwest\, Seattle\, WA\, 98107
CATEGORIES:Featured
END:VEVENT
BEGIN:VEVENT
DTSTART;TZID=America/Los_Angeles:20260325T180000
DTEND;TZID=America/Los_Angeles:20260325T210000
DTSTAMP:20260422T223716
CREATED:20260127T022618Z
LAST-MODIFIED:20260127T022618Z
UID:16867-1774461600-1774472400@southsoundblues.org
SUMMARY:Funky Jazz Wednesdays at the Spar
DESCRIPTION:Funky Jazz Wednesdays at the Spar 6-9 pm
URL:https://southsoundblues.org/event/funky-jazz-wednesdays-at-the-spar-14/
LOCATION:The Spar\, 2121 N 30th St\, Tacoma\, WA\, 98403
CATEGORIES:Featured
END:VEVENT
BEGIN:VEVENT
DTSTART;TZID=America/Los_Angeles:20260323T180000
DTEND;TZID=America/Los_Angeles:20260323T210000
DTSTAMP:20260422T223716
CREATED:20260227T220904Z
LAST-MODIFIED:20260227T220904Z
UID:17133-1774288800-1774299600@southsoundblues.org
SUMMARY:Monday Jazz at Brother Don’s Bar & Grill\, Bremerton
DESCRIPTION:Monday Jazz at Brother Don’s Bar & Grill\, Bremerton\, 6-9 pm
URL:https://southsoundblues.org/event/monday-jazz-at-brother-dons-bar-grill-bremerton-38/
LOCATION:Brother Don’s Bar & Grill\, 4200 Kitsap Way\, Bremerton\, WA\, 98312
CATEGORIES:Featured
END:VEVENT
BEGIN:VEVENT
DTSTART;TZID=America/Los_Angeles:20260322T190000
DTEND;TZID=America/Los_Angeles:20260322T220000
DTSTAMP:20260422T223716
CREATED:20260112T003941Z
LAST-MODIFIED:20260112T003941Z
UID:16766-1774206000-1774216800@southsoundblues.org
SUMMARY:The Garcia Project at the Spanish Ballroom
DESCRIPTION:The Garcia Project at the Spanish Ballroom March 22nd\, 7pm\nThe Garcia Project performs full\, unaltered classic Jerry Garcia Band setlists from 1976-1995 – song for song\, set for set – using era-correct arrangements\, tempos\, instrumentation\, and gear to recreate the authentic sound that defined those legendary shows. \nSince 2010\, The Garcia Project is more than a tribute\, the band delivers the emotional and communal experience that made the classic Jerry Garcia Band so beloved. A recent Grateful Web feature described their performances as “a night of healing\, heart\, and pure Jerry magic\,” noting that The Garcia Project opens “a little doorway back to the Jerry Garcia Band years\,” with the same warmth\, looseness\, and deep musical breath that defined the original concerts. \nOver the years\, fans have affectionately dubbed The Garcia Project the ‘DSO of JGB’ – not as a comparison to any other band\, but to express the level of precision\, intention\, and respect they bring to recreating classic shows. \n\n\n\n\n\n6pm doors\, 7pm show\, All ages welcome \nhttps://www.mcmenamins.com/events/274544-the-garcia-project \n\nWebsite:\nwww.thegarciaproject.com\n\n\nInstagram:\nhttps://www.instagram.com/thegarciaproject/\n\n\nFacebook:\nhttps://www.facebook.com/TheGarciaProject
URL:https://southsoundblues.org/event/the-garcia-project-at-the-spanish-ballroom/
LOCATION:McMenaminsTacoma Elks\, 565 Broadway\, Tacoma\, WA\, 98402
CATEGORIES:Featured
END:VEVENT
BEGIN:VEVENT
DTSTART;TZID=America/Los_Angeles:20260321T210000
DTEND;TZID=America/Los_Angeles:20260321T233000
DTSTAMP:20260422T223716
CREATED:20260305T231759Z
LAST-MODIFIED:20260305T231759Z
UID:17187-1774126800-1774135800@southsoundblues.org
SUMMARY:Michael Crain at Dawsons\, Tacoma
DESCRIPTION:Michael Crain at Dawsons March 21st 9pm
URL:https://southsoundblues.org/event/michael-crain-at-dawsons-tacoma/
LOCATION:Dawson’s Bar & Grill\, 5443 South Tacoma Way\, Tacoma\, WA\, 98409
CATEGORIES:Featured
END:VEVENT
END:VCALENDAR