BEGIN:VCALENDAR
VERSION:2.0
PRODID:-//South Sound Blues Association - ECPv6.15.18//NONSGML v1.0//EN
CALSCALE:GREGORIAN
METHOD:PUBLISH
X-WR-CALNAME:South Sound Blues Association
X-ORIGINAL-URL:https://southsoundblues.org
X-WR-CALDESC:Events for South Sound Blues Association
REFRESH-INTERVAL;VALUE=DURATION:PT1H
X-Robots-Tag:noindex
X-PUBLISHED-TTL:PT1H
BEGIN:VTIMEZONE
TZID:America/Los_Angeles
BEGIN:DAYLIGHT
TZOFFSETFROM:-0800
TZOFFSETTO:-0700
TZNAME:PDT
DTSTART:20240310T100000
END:DAYLIGHT
BEGIN:STANDARD
TZOFFSETFROM:-0700
TZOFFSETTO:-0800
TZNAME:PST
DTSTART:20241103T090000
END:STANDARD
BEGIN:DAYLIGHT
TZOFFSETFROM:-0800
TZOFFSETTO:-0700
TZNAME:PDT
DTSTART:20250309T100000
END:DAYLIGHT
BEGIN:STANDARD
TZOFFSETFROM:-0700
TZOFFSETTO:-0800
TZNAME:PST
DTSTART:20251102T090000
END:STANDARD
BEGIN:DAYLIGHT
TZOFFSETFROM:-0800
TZOFFSETTO:-0700
TZNAME:PDT
DTSTART:20260308T100000
END:DAYLIGHT
BEGIN:STANDARD
TZOFFSETFROM:-0700
TZOFFSETTO:-0800
TZNAME:PST
DTSTART:20261101T090000
END:STANDARD
END:VTIMEZONE
BEGIN:VEVENT
DTSTART;TZID=America/Los_Angeles:20251020T180000
DTEND;TZID=America/Los_Angeles:20251020T210000
DTSTAMP:20260423T071802
CREATED:20250831T231839Z
LAST-MODIFIED:20250831T231839Z
UID:15890-1760983200-1760994000@southsoundblues.org
SUMMARY:Monday Jazz at Brother Don’s Bar & Grill\, Bremerton
DESCRIPTION:Monday Jazz at Brother Don’s Bar & Grill\, Bremerton\, 6-9 pm
URL:https://southsoundblues.org/event/monday-jazz-at-brother-dons-bar-grill-bremerton-26/
LOCATION:Brother Don’s Bar & Grill\, 4200 Kitsap Way\, Bremerton\, WA\, 98312
CATEGORIES:Featured
END:VEVENT
BEGIN:VEVENT
DTSTART;TZID=America/Los_Angeles:20251021T190000
DTEND;TZID=America/Los_Angeles:20251021T210000
DTSTAMP:20260423T071802
CREATED:20250831T233022Z
LAST-MODIFIED:20250831T233625Z
UID:15898-1761073200-1761080400@southsoundblues.org
SUMMARY:Georges BLT Tuesday Night Open Mic night hosted by Slim Wizzy & Friends\, Bonny Lake
DESCRIPTION:Georges BLT Tuesday Night Open Mic night hosted by Slim Wizzy & Friends\, Bonney Lake Tavern\, 7-9 pm
URL:https://southsoundblues.org/event/georges-blt-tuesday-night-open-mic-night-hosted-by-slim-wizzy-friends-3/
LOCATION:George’s BLT\, 18212 HWY 410 E\, Bonney Lake\, WA\, 98391
CATEGORIES:Featured
END:VEVENT
BEGIN:VEVENT
DTSTART;TZID=America/Los_Angeles:20251022T180000
DTEND;TZID=America/Los_Angeles:20251022T210000
DTSTAMP:20260423T071802
CREATED:20251002T220054Z
LAST-MODIFIED:20251002T220054Z
UID:16178-1761156000-1761166800@southsoundblues.org
SUMMARY:Tim Lerch Trio at the Spar\, Tacoma
DESCRIPTION:Tim Lerch Trio\, Wednesday Oct 22nd at the Spar in Tacoma\, 6-9 pm
URL:https://southsoundblues.org/event/tim-lerch-trio-at-the-spar-tacoma/
LOCATION:The Spar\, 2121 N 30th St\, Tacoma\, WA\, 98403
CATEGORIES:Featured
END:VEVENT
BEGIN:VEVENT
DTSTART;TZID=America/Los_Angeles:20251023T180000
DTEND;TZID=America/Los_Angeles:20251023T210000
DTSTAMP:20260423T071802
CREATED:20250918T221152Z
LAST-MODIFIED:20250918T221152Z
UID:16102-1761242400-1761253200@southsoundblues.org
SUMMARY:Annie Eastwood & Her All-Star Band Featuring Billy Stapleton at Bad Albert’s Tap & Grill\, Ballard
DESCRIPTION:Annie Eastwood & Her All-Star Band Featuring Billy Stapleton at Bad Albert’s Tap & Grill\, Ballard\nThursday October 23rd\, 6pm to 9pm 
URL:https://southsoundblues.org/event/annie-eastwood-her-all-star-band-featuring-billy-stapleton-at-bad-alberts-tap-grill-ballard-4/
LOCATION:Bad Albert’s\, 5100 Ballard Avenue Northwest\, Seattle\, WA\, 98107
CATEGORIES:Featured
END:VEVENT
BEGIN:VEVENT
DTSTART;TZID=America/Los_Angeles:20251023T190000
DTEND;TZID=America/Los_Angeles:20251023T210000
DTSTAMP:20260423T071802
CREATED:20250901T010607Z
LAST-MODIFIED:20250901T010607Z
UID:15977-1761246000-1761253200@southsoundblues.org
SUMMARY:Thursdays “Bluesland” radio show with Leo Schumaker\, KMRE 88.3 FM
DESCRIPTION:Thursdays “Bluesland” radio show with Leo Schumaker\, KMRE 88.3 FM\, 7-9pm
URL:https://southsoundblues.org/event/thursdays-bluesland-radio-show-with-leo-schumaker-kmre-88-3-fm/
LOCATION:KMRE\, Bellingham\, WA
CATEGORIES:Featured
END:VEVENT
BEGIN:VEVENT
DTSTART;TZID=America/Los_Angeles:20251023T190000
DTEND;TZID=America/Los_Angeles:20251023T230000
DTSTAMP:20260423T071802
CREATED:20250904T211312Z
LAST-MODIFIED:20250904T211518Z
UID:16022-1761246000-1761260400@southsoundblues.org
SUMMARY:McPage & Powell Band at Salmon Bay Eagles
DESCRIPTION:McPage & Powell Band @ Salmon Bay Eagles Club\nThursday October 23rd\, 7-11 pm\nMary\, Jevon\, Howard & Gregg return to the Salmon Bay Eagles Club in Ballard. Always a great time!\n\n\n\n\nSalmon Bay Eagles Club\, 5216 20th Avenue Northwest\, Seattle\, WA 98107\, USA  \n\n\n\n\n\n 
URL:https://southsoundblues.org/event/mcpage-powell-band-at-salmon-bay-eagles/
LOCATION:Salmon Bay Eagles\, 5216 20th Ave NW\, Seattle\, WA\, 98107
CATEGORIES:Featured
END:VEVENT
BEGIN:VEVENT
DTSTART;TZID=America/Los_Angeles:20251024T183000
DTEND;TZID=America/Los_Angeles:20251024T203000
DTSTAMP:20260423T071802
CREATED:20250927T012731Z
LAST-MODIFIED:20250927T012731Z
UID:16138-1761330600-1761337800@southsoundblues.org
SUMMARY:Michele D'Amour & The Love Dealers at Olalla Winery
DESCRIPTION:Michele D’Amour & The Love Dealers at Olalla Vineyard & Winery\, October 24th\, 6:30-8:30 pm\n 
URL:https://southsoundblues.org/event/michele-damour-the-love-dealers-at-olalla-winery-2/
LOCATION:Olalla Vineyard & Winery\, 13176 Olalla Valley Rd SE\, Olalla\, WA\, 98359
CATEGORIES:Featured
END:VEVENT
BEGIN:VEVENT
DTSTART;TZID=America/Los_Angeles:20251025T190000
DTEND;TZID=America/Los_Angeles:20251025T220000
DTSTAMP:20260423T071802
CREATED:20250927T013118Z
LAST-MODIFIED:20250927T013205Z
UID:16140-1761418800-1761429600@southsoundblues.org
SUMMARY:Michele D'Amour & The Love Dealers (trio) at Grape and Grain\, Everett
DESCRIPTION:Michele D’Amour & The Love Dealers (trio) at Grape and Grain\, October 25th\, 7pm\n 
URL:https://southsoundblues.org/event/michele-damour-the-love-dealers-trio-at-grape-and-grain-everett/
LOCATION:Grape and Grain\, 6502 Evergreen Way\, Everett\, WA\, 98203
CATEGORIES:Featured
END:VEVENT
BEGIN:VEVENT
DTSTART;TZID=America/Los_Angeles:20251025T190000
DTEND;TZID=America/Los_Angeles:20251025T220000
DTSTAMP:20260423T071802
CREATED:20251007T002135Z
LAST-MODIFIED:20251007T002135Z
UID:16198-1761418800-1761429600@southsoundblues.org
SUMMARY:Dusty Souls at the Spar
DESCRIPTION:Dusty Souls at the Spar October 25th\, 7-10 pm
URL:https://southsoundblues.org/event/dusty-souls-at-the-spar/
LOCATION:The Spar\, 2121 N 30th St\, Tacoma\, WA\, 98403
CATEGORIES:Featured
END:VEVENT
BEGIN:VEVENT
DTSTART;TZID=America/Los_Angeles:20251026T190000
DTEND;TZID=America/Los_Angeles:20251026T220000
DTSTAMP:20260423T071802
CREATED:20250718T231142Z
LAST-MODIFIED:20251008T002833Z
UID:15489-1761505200-1761516000@southsoundblues.org
SUMMARY:Sunday Blues at the Spar Featuring Billy Stapleton's Powerhouse Band
DESCRIPTION:Sunday Blues at the Spar Featuring Billy Stapleton’s Powerhouse\,  7-10 pm
URL:https://southsoundblues.org/event/sunday-blues-at-the-spar-36/
LOCATION:The Spar\, 2121 N 30th St\, Tacoma\, WA\, 98403
CATEGORIES:Featured
END:VEVENT
BEGIN:VEVENT
DTSTART;TZID=America/Los_Angeles:20251028T200000
DTEND;TZID=America/Los_Angeles:20251028T220000
DTSTAMP:20260423T071802
CREATED:20250612T195335Z
LAST-MODIFIED:20250612T195335Z
UID:15127-1761681600-1761688800@southsoundblues.org
SUMMARY:Every Tuesday at Billy Blues Bar & Grill\, Ben Rice & The PDX Hustle
DESCRIPTION:Every Tuesday at Billy Blues Bar & Grill\, Ben Rice & The PDX Hustle\, 8-10 pm\n“For our weekly Tuesday Groove Day at Billy Blues Bar & Grill\, we’ve been shaking things up a bit. We’ve been having fun throwing in new songs and bringing in some special guests to help us explore the music by artists who’ve influenced us. Come out and join us at our home court up in Vancouver\, 8:00 – 10:00 PM every Tuesday!
URL:https://southsoundblues.org/event/every-tuesday-at-billy-blues-bar-grill-ben-rice-the-pdx-hustle-5/
LOCATION:Billy Blues Bar & Grill\, 7115 NE Hazel Dell Ave\, Vancouver\, WA\, 98665
CATEGORIES:Featured
END:VEVENT
BEGIN:VEVENT
DTSTART;TZID=America/Los_Angeles:20251029T190000
DTEND;TZID=America/Los_Angeles:20251029T220000
DTSTAMP:20260423T071802
CREATED:20250831T235356Z
LAST-MODIFIED:20250831T235356Z
UID:15914-1761764400-1761775200@southsoundblues.org
SUMMARY:Wednesday Funky Jazz at the Spar
DESCRIPTION:Wednesday Funky Jazz at the Spar\, 7-10
URL:https://southsoundblues.org/event/wednesday-funky-jazz-at-the-spar-10/
LOCATION:The Spar\, 2121 N 30th St\, Tacoma\, WA\, 98403
CATEGORIES:Featured
END:VEVENT
BEGIN:VEVENT
DTSTART;TZID=America/Los_Angeles:20251030T190000
DTEND;TZID=America/Los_Angeles:20251030T210000
DTSTAMP:20260423T071802
CREATED:20250901T010813Z
LAST-MODIFIED:20250901T010813Z
UID:15980-1761850800-1761858000@southsoundblues.org
SUMMARY:Thursdays “Bluesland” radio show with Leo Schumaker\, KMRE 88.3 FM
DESCRIPTION:Thursdays “Bluesland” radio show with Leo Schumaker\, KMRE 88.3 FM\, 7-9pm
URL:https://southsoundblues.org/event/thursdays-bluesland-radio-show-with-leo-schumaker-kmre-88-3-fm-2/
LOCATION:KMRE\, Bellingham\, WA
CATEGORIES:Featured
END:VEVENT
BEGIN:VEVENT
DTSTART;TZID=America/Los_Angeles:20251031T183000
DTEND;TZID=America/Los_Angeles:20251031T210000
DTSTAMP:20260423T071802
CREATED:20250927T013946Z
LAST-MODIFIED:20250927T013946Z
UID:16142-1761935400-1761944400@southsoundblues.org
SUMMARY:Michele D'Amour & The Love Dealers at Sheridan Market\, Lake Forest Park
DESCRIPTION:Michele D’Amour & The Love Dealers at Sheridan Market\, October 31st\, 6:30 pm\n  \nSheridan Market\, 15348 Bothell Way NE.\, Lake Forest Park\, WA 98155 \n 
URL:https://southsoundblues.org/event/michele-damour-the-love-dealers-at-sheridan-market-lake-forest-park-2/
LOCATION:Sheridan Market\, 15348 Bothell Way NE\, Lake Forest Park\, WA\, 98155
CATEGORIES:Featured
END:VEVENT
BEGIN:VEVENT
DTSTART;TZID=America/Los_Angeles:20251031T190000
DTEND;TZID=America/Los_Angeles:20251031T210000
DTSTAMP:20260423T071802
CREATED:20250918T233709Z
LAST-MODIFIED:20250918T233709Z
UID:16110-1761937200-1761944400@southsoundblues.org
SUMMARY:Halloween Bash with Brian James Was Here at Kimball Coffeehouse\, Gig Harbor
DESCRIPTION:Halloween Bash with Brian James Was Here at Kimball Coffeehouse October 31st\, 7-9 pm
URL:https://southsoundblues.org/event/halloween-bash-with-brian-james-was-here-at-kimball-coffeehouse-gig-harbor/
LOCATION:Kimball’s Coffeehouse\, 6659 Kimball Dr\, Gig Harbor\, WA\, 98335
CATEGORIES:Featured
END:VEVENT
BEGIN:VEVENT
DTSTART;TZID=America/Los_Angeles:20251102T140000
DTEND;TZID=America/Los_Angeles:20251102T163000
DTSTAMP:20260423T071802
CREATED:20251021T203550Z
LAST-MODIFIED:20251021T203550Z
UID:16258-1762092000-1762101000@southsoundblues.org
SUMMARY:The Lonely Hearts Club - Beatles Tribute at the Chalet Theatre\, Enumclaw
DESCRIPTION:The Lonely Hearts Club – Beatles Tribute  at the Chalet Theatre\, Enumclaw\, Sunday November 2nd\, 2pm to 4:30pm
URL:https://southsoundblues.org/event/the-lonely-hearts-club-beatles-tribute-at-the-chalet-theatre-enumclaw/
LOCATION:Chalet Theatre\, 1721 Wells St\, Enumclaw\, WA\, 98022
CATEGORIES:Featured
END:VEVENT
BEGIN:VEVENT
DTSTART;TZID=America/Los_Angeles:20251102T190000
DTEND;TZID=America/Los_Angeles:20251102T220000
DTSTAMP:20260423T071802
CREATED:20250718T231345Z
LAST-MODIFIED:20250718T231345Z
UID:15491-1762110000-1762120800@southsoundblues.org
SUMMARY:Sunday Blues at the Spar
DESCRIPTION:Sunday Blues at the Spar 7-10 pm
URL:https://southsoundblues.org/event/sunday-blues-at-the-spar-37/
LOCATION:The Spar\, 2121 N 30th St\, Tacoma\, WA\, 98403
CATEGORIES:Featured
END:VEVENT
BEGIN:VEVENT
DTSTART;TZID=America/Los_Angeles:20251103T180000
DTEND;TZID=America/Los_Angeles:20251103T210000
DTSTAMP:20260423T071802
CREATED:20250831T232045Z
LAST-MODIFIED:20250831T232045Z
UID:15892-1762192800-1762203600@southsoundblues.org
SUMMARY:Monday Jazz at Brother Don’s Bar & Grill\, Bremerton
DESCRIPTION:Monday Jazz at Brother Don’s Bar & Grill\, Bremerton\, 6-9 pm
URL:https://southsoundblues.org/event/monday-jazz-at-brother-dons-bar-grill-bremerton-27/
LOCATION:Brother Don’s Bar & Grill\, 4200 Kitsap Way\, Bremerton\, WA\, 98312
CATEGORIES:Featured
END:VEVENT
BEGIN:VEVENT
DTSTART;TZID=America/Los_Angeles:20251104T190000
DTEND;TZID=America/Los_Angeles:20251104T210000
DTSTAMP:20260423T071802
CREATED:20250831T233355Z
LAST-MODIFIED:20250831T233355Z
UID:15900-1762282800-1762290000@southsoundblues.org
SUMMARY:Georges BLT Tuesday Night Open Mic night hosted by Slim Wizzy & Friends\, Bonney Lake
DESCRIPTION:Georges BLT Tuesday Night Open Mic night hosted by Slim Wizzy & Friends at Bonney Lake Tavern\, 7-9 pm
URL:https://southsoundblues.org/event/georges-blt-tuesday-night-open-mic-night-hosted-by-slim-wizzy-friends-bonney-lake/
LOCATION:George’s BLT\, 18212 HWY 410 E\, Bonney Lake\, WA\, 98391
CATEGORIES:Featured
END:VEVENT
BEGIN:VEVENT
DTSTART;TZID=America/Los_Angeles:20251105T180000
DTEND;TZID=America/Los_Angeles:20251105T210000
DTSTAMP:20260423T071802
CREATED:20251102T231542Z
LAST-MODIFIED:20251102T231542Z
UID:16435-1762365600-1762376400@southsoundblues.org
SUMMARY:Lonnie Williams & Spectrum at the Spar
DESCRIPTION: Lonnie Williams & Spectrum at the Spar
URL:https://southsoundblues.org/event/lonnie-williams-spectrum-at-the-spar/
LOCATION:The Spar\, 2121 N 30th St\, Tacoma\, WA\, 98403
CATEGORIES:Featured
END:VEVENT
BEGIN:VEVENT
DTSTART;TZID=America/Los_Angeles:20251106T173000
DTEND;TZID=America/Los_Angeles:20251106T193000
DTSTAMP:20260423T071802
CREATED:20251021T203846Z
LAST-MODIFIED:20251021T203846Z
UID:16260-1762450200-1762457400@southsoundblues.org
SUMMARY:Annie Eastwood Trio Featuring Billy Stapleton at the Cellar Cat\, Kingston
DESCRIPTION:Annie Eastwood Trio Featuring Billy Stapleton at the Cellar Cat Thursday November 6th\, 5:30 to 7:45pm
URL:https://southsoundblues.org/event/annie-eastwood-trio-featuring-billy-stapleton-at-the-cellar-cat-kingston-4/
LOCATION:Cellar Cat\, 11253 State Highway 104 NE\, Kingston\, WA\, 98346
CATEGORIES:Featured
END:VEVENT
BEGIN:VEVENT
DTSTART;TZID=America/Los_Angeles:20251107T190000
DTEND;TZID=America/Los_Angeles:20251107T210000
DTSTAMP:20260423T071802
CREATED:20251007T002440Z
LAST-MODIFIED:20251007T002440Z
UID:16200-1762542000-1762549200@southsoundblues.org
SUMMARY:Dave Keller Band at Kimball Coffeehouse\, Gig Harbor
DESCRIPTION:Dave Keller Band at Kimball Coffeehouse November 7th\, 7-9 pm
URL:https://southsoundblues.org/event/dave-keller-band-at-kimball-coffeehouse-gig-harbor/
LOCATION:Kimball’s Coffeehouse\, 6659 Kimball Dr\, Gig Harbor\, WA\, 98335
CATEGORIES:Featured
END:VEVENT
BEGIN:VEVENT
DTSTART;TZID=America/Los_Angeles:20251108T170000
DTEND;TZID=America/Los_Angeles:20251108T200000
DTSTAMP:20260423T071802
CREATED:20251021T221242Z
LAST-MODIFIED:20251021T221242Z
UID:16300-1762621200-1762632000@southsoundblues.org
SUMMARY:The 'Names' at Johnny's Dock\, Tacoma
DESCRIPTION:The ‘Names’ at Johnny’s Dock November  8th\, 5-8 pm
URL:https://southsoundblues.org/event/the-names-at-johnnys-dock-tacoma/
LOCATION:Johnny’s Dock\, 1900 E D St\, Tacoma\, WA\, 98421
CATEGORIES:Featured
END:VEVENT
BEGIN:VEVENT
DTSTART;TZID=America/Los_Angeles:20251108T183000
DTEND;TZID=America/Los_Angeles:20251108T213000
DTSTAMP:20260423T071802
CREATED:20251021T204137Z
LAST-MODIFIED:20251021T204137Z
UID:16263-1762626600-1762637400@southsoundblues.org
SUMMARY:Annie Eastwood & Chris Stevens Duo at The Repp\, Snohomish
DESCRIPTION:Annie Eastwood & Chris Stevens Duo at The Repp\, Saturday November 8th\,  6:30 to 9:30pm
URL:https://southsoundblues.org/event/annie-eastwood-chris-stevens-duo-at-the-repp-snohomish-2/
LOCATION:The Repp\, 924 1st St\, Snohomish\, WA\, 98290
CATEGORIES:Featured
END:VEVENT
BEGIN:VEVENT
DTSTART;TZID=America/Los_Angeles:20251108T190000
DTEND;TZID=America/Los_Angeles:20251108T220000
DTSTAMP:20260423T071802
CREATED:20251007T014425Z
LAST-MODIFIED:20251102T231321Z
UID:16237-1762628400-1762639200@southsoundblues.org
SUMMARY:Steve Aliment Band at the Spar\, Tacoma
DESCRIPTION: Steve Aliment Band at the Spar November 8th\, 7-10 pm\n 
URL:https://southsoundblues.org/event/live-music-at-the-spar-tacoma/
LOCATION:The Spar\, 2121 N 30th St\, Tacoma\, WA\, 98403
CATEGORIES:Featured
END:VEVENT
BEGIN:VEVENT
DTSTART;TZID=America/Los_Angeles:20251109T190000
DTEND;TZID=America/Los_Angeles:20251109T220000
DTSTAMP:20260423T071802
CREATED:20250718T231445Z
LAST-MODIFIED:20251030T003935Z
UID:15493-1762714800-1762725600@southsoundblues.org
SUMMARY:Sunday Blues at the Spar featuring Mark Hurwitz & Gin Creek
DESCRIPTION:Sunday Blues at the Spar 7-10 pm\, Mark Hurwitz & Gin Creek
URL:https://southsoundblues.org/event/sunday-blues-at-the-spar-38/
LOCATION:The Spar\, 2121 N 30th St\, Tacoma\, WA\, 98403
CATEGORIES:Featured
END:VEVENT
BEGIN:VEVENT
DTSTART;TZID=America/Los_Angeles:20251110T190000
DTEND;TZID=America/Los_Angeles:20251110T220000
DTSTAMP:20260423T071802
CREATED:20250701T213435Z
LAST-MODIFIED:20250701T213435Z
UID:15335-1762801200-1762812000@southsoundblues.org
SUMMARY:Robert Cray Band at the federal Way PAEC\, (Performing Arts & Events Center)
DESCRIPTION:The legendary Robert Cray brings soul\, grit\, and five Grammy wins to the Federal Way PAEC on Monday\, Nov 10 at 7PM.\n\n\nSeason PAECkages go on sale 6/27 at bit.ly/4ng8guA — reserve your seat early and save!\n\n\n Individual show tickets available July 18.\n\n\n#robertcray #blueslegend #pnwmusic #federalway #paecpresents
URL:https://southsoundblues.org/event/robert-cray-band-at-the-federal-way-paec-performing-arts-events-center/
LOCATION:Federal Way Performing Arts & Events Center\, 31510 Pete von Reichbauer Way S\, Federal Way\, WA\, 98003
CATEGORIES:Featured,Local South Sound Blues
END:VEVENT
BEGIN:VEVENT
DTSTART;TZID=America/Los_Angeles:20251111T190000
DTEND;TZID=America/Los_Angeles:20251111T210000
DTSTAMP:20260423T071802
CREATED:20250723T223034Z
LAST-MODIFIED:20250723T223034Z
UID:15551-1762887600-1762894800@southsoundblues.org
SUMMARY:Rob Tudor and Dave McKibbin at the Twisted Fork Saloon every Tuesday
DESCRIPTION:Rob Tudor and Dave McKibbin at the Twisted Fork Saloon every Tuesday\, Open mic\, 7-9 pm
URL:https://southsoundblues.org/event/rob-tudor-and-dave-mckibbin-at-the-twisted-fork-saloon-every-tuesday-15/
LOCATION:Twisted Fork Saloon\, 5005 Main St\, Tacoma\, WA\, 98407
CATEGORIES:Featured
END:VEVENT
BEGIN:VEVENT
DTSTART;TZID=America/Los_Angeles:20251111T190000
DTEND;TZID=America/Los_Angeles:20251111T213000
DTSTAMP:20260423T071802
CREATED:20251007T233729Z
LAST-MODIFIED:20251103T000126Z
UID:16239-1762887600-1762896600@southsoundblues.org
SUMMARY:Washington Blues Society monthly Blues Bash at Aurora Borealis\, Shoreline
DESCRIPTION:Washington Blues Society Blues Bash at Aurora Borealis featuring Nikhil Bagga and the Taylor Newville Band November 11th\, 7pm. Doors 6pm | Show 7pm | All Ages $10 Suggested Donation\nThe Blues Society will be also collecting donations for their 10\,000 Cans for Families in Need campaign. Bring non-perishables and help support families while enjoying a night of unforgettable live music. \n\nNikhil Bagga Music
URL:https://southsoundblues.org/event/washigton-blues-society-blues-bash-at-aurora-borealis-shoreline/
LOCATION:Aurora Borealis\, 16708 Aurora Ave N\, Shoreline\, WA\, 98133
CATEGORIES:Featured
END:VEVENT
BEGIN:VEVENT
DTSTART;TZID=America/Los_Angeles:20251111T193000
DTEND;TZID=America/Los_Angeles:20251111T220000
DTSTAMP:20260423T071802
CREATED:20251105T205803Z
LAST-MODIFIED:20251105T205803Z
UID:16493-1762889400-1762898400@southsoundblues.org
SUMMARY:Sonny Landreth solo at the Triple Door Mainstage\, Seattle
DESCRIPTION:Sonny Landreth solo at the Triple Door Mainstage November 11th\, 7:30 pm\nSonny Landreth: In A Rare Solo Appearance\n$35 General // $40 Premium Seating \nhttps://tickets.thetripledoor.net/eventperformances.asp?evt=1014 \nMainstage Theatre\, 216 Union Street\, Seattle
URL:https://southsoundblues.org/event/sonny-landreth-solo-at-the-triple-door-mainstage-seattle/
LOCATION:The Triple Door\, 216 Union St\,\, Seattle\, WA\, 98101
CATEGORIES:Featured
END:VEVENT
END:VCALENDAR