BEGIN:VCALENDAR
VERSION:2.0
PRODID:-//South Sound Blues Association - ECPv6.15.18//NONSGML v1.0//EN
CALSCALE:GREGORIAN
METHOD:PUBLISH
X-WR-CALNAME:South Sound Blues Association
X-ORIGINAL-URL:https://southsoundblues.org
X-WR-CALDESC:Events for South Sound Blues Association
REFRESH-INTERVAL;VALUE=DURATION:PT1H
X-Robots-Tag:noindex
X-PUBLISHED-TTL:PT1H
BEGIN:VTIMEZONE
TZID:America/Los_Angeles
BEGIN:DAYLIGHT
TZOFFSETFROM:-0800
TZOFFSETTO:-0700
TZNAME:PDT
DTSTART:20240310T100000
END:DAYLIGHT
BEGIN:STANDARD
TZOFFSETFROM:-0700
TZOFFSETTO:-0800
TZNAME:PST
DTSTART:20241103T090000
END:STANDARD
BEGIN:DAYLIGHT
TZOFFSETFROM:-0800
TZOFFSETTO:-0700
TZNAME:PDT
DTSTART:20250309T100000
END:DAYLIGHT
BEGIN:STANDARD
TZOFFSETFROM:-0700
TZOFFSETTO:-0800
TZNAME:PST
DTSTART:20251102T090000
END:STANDARD
BEGIN:DAYLIGHT
TZOFFSETFROM:-0800
TZOFFSETTO:-0700
TZNAME:PDT
DTSTART:20260308T100000
END:DAYLIGHT
BEGIN:STANDARD
TZOFFSETFROM:-0700
TZOFFSETTO:-0800
TZNAME:PST
DTSTART:20261101T090000
END:STANDARD
END:VTIMEZONE
BEGIN:VEVENT
DTSTART;TZID=America/Los_Angeles:20250723T190000
DTEND;TZID=America/Los_Angeles:20250723T220000
DTSTAMP:20260423T123449
CREATED:20250607T231153Z
LAST-MODIFIED:20250715T005304Z
UID:15017-1753297200-1753308000@southsoundblues.org
SUMMARY:Peter Adams Quartet at the Spar
DESCRIPTION:Funky Jazz at the Spar every Wednesday 7-10 pm
URL:https://southsoundblues.org/event/funky-jazz-at-the-spar-3/
LOCATION:The Spar\, 2121 N 30th St\, Tacoma\, WA\, 98403
CATEGORIES:Featured
END:VEVENT
BEGIN:VEVENT
DTSTART;TZID=America/Los_Angeles:20250724T180000
DTEND;TZID=America/Los_Angeles:20250724T210000
DTSTAMP:20260423T123449
CREATED:20250611T225242Z
LAST-MODIFIED:20250611T225242Z
UID:15105-1753380000-1753390800@southsoundblues.org
SUMMARY:Annie Eastwood & Her All-Star Band Featuring Billy Stapleton at Bad Albert’s Tap & Grill\, Ballard 
DESCRIPTION:Annie Eastwood & Her All-Star Band Featuring Billy Stapleton at Bad Albert’s Tap & Grill\, Ballard\, Thursday July 24th\, 6pm to 9pm\n \n 
URL:https://southsoundblues.org/event/annie-eastwood-her-all-star-band-featuring-billy-stapleton-at-bad-alberts-tap-grill-ballard/
LOCATION:Bad Albert’s\, 5100 Ballard Avenue Northwest\, Seattle\, WA\, 98107
CATEGORIES:Featured
END:VEVENT
BEGIN:VEVENT
DTSTART;TZID=America/Los_Angeles:20250724T190000
DTEND;TZID=America/Los_Angeles:20250724T210000
DTSTAMP:20260423T123449
CREATED:20250418T005947Z
LAST-MODIFIED:20250418T005947Z
UID:14706-1753383600-1753390800@southsoundblues.org
SUMMARY:The Mistaken at the Cove\, Olympia
DESCRIPTION:The Mistaken at the Cove\, July 24th\,  7-9 pm\, Olympia WA
URL:https://southsoundblues.org/event/the-mistaken-at-the-cove-olympia/
LOCATION:The Cove\, Olympia\, 311 Capital Way\, Olympia\, WA\, 98504
CATEGORIES:Featured
END:VEVENT
BEGIN:VEVENT
DTSTART;VALUE=DATE:20250725
DTEND;VALUE=DATE:20250728
DTSTAMP:20260423T123449
CREATED:20250715T010655Z
LAST-MODIFIED:20250715T010757Z
UID:15454-1753408800-1753581599@southsoundblues.org
SUMMARY:Centrum Jazz Port Townsend
DESCRIPTION:Jazz Pt. Townsend 2025 – Performances July 23-26\n\nSponsored by KNKX. Mainstage concerts in McCurdy Pavilion\, MC’d by KNKX’s Abe Beeson – plus stop by our table under the Centrum tent on Saturday\, July 26 and pick up some cool KNKX swag.  Tickets:  https://www.knkx.org/calendar/event/jazz-pt-townsend-2023-performances-july-28-30-24-04-2023-18-45-28 \nFRIDAY MAINSTAGE CONCERT\nMcCurdy Pavilion\nFriday\, July 25 7:30 p.m. \nMatt Wilson’s ‘Good Trouble’: Igniting a New Jazz Revolution\nAnisha Rush\, Jeff Lederer\, Ben Allison\, and Dawn Clement\nIntroducing Camila Meza \nCelebrating the Artistry of Buster Williams:\nThis is not just a performance\, it’s a statement\, a celebration of his artistry\, and a testament to his enduring influence. George Colligan \nSATURDAY AFTERNOON MAINSTAGE CONCERT\nMcCurdy Pavilion\nSaturday\, July 26 1:30 p.m. \nBebop Brilliance: Baritone and Trumpet in Harmony\nGary Smulyan\, baritone sax\nJay Thomas\, trumpet\nGeorge Cables\, piano\nMichael Glynn\, bass\nQuincy Davis\, drums\nChuck Easton\, guitar \nSaturday Soliloquy\nFeaturing Helen Sung \nChristine Jensen and the Centrum All Star Big Band Featuring Ingrid Jensen\nWhere innovation meets the heart of music \nSATURDAY EVENING MAINSTAGE CONCERT\nMcCurdy Pavilion\nSaturday\, July 26 7:30 p.m. \nOrgan Odyssey\, A Rhythmic Revival: Pat Bianchi Organ Trio\nPat Bianchi\, organ\nSteve Kovalcheck\, guitar\nJim White\, drums \nPerfect Pairings: Tunes\, Twos\, and Grooves\, a Set of Duos:\nDawn Clement\, Johnaye Kendrick\, Shane Endsley\, Steve Kovalecheck\, Sara Gazarek\, and more… \nSäje Takes the Stäge\nSara Gazarek\, Amanda Taylor\, Johnaye Kendrick\, and Erin Bentlage \nPlus Jazz in the Clubs at Fort Worden venues – Wednesday\, July 23 from 8 to 10:30 p.m.
URL:https://southsoundblues.org/event/centrum-jazz-port-townsend/
LOCATION:Fort Worden State Park\, 200 Battery Way\, Port Townsend\, WA\, 98368
CATEGORIES:Featured
END:VEVENT
BEGIN:VEVENT
DTSTART;TZID=America/Los_Angeles:20250725T200000
DTEND;TZID=America/Los_Angeles:20250725T230000
DTSTAMP:20260423T123449
CREATED:20250618T012712Z
LAST-MODIFIED:20250618T012814Z
UID:15239-1753473600-1753484400@southsoundblues.org
SUMMARY:Ron Bailey & the Tangents\, featuring Rod Cook\, at the Salmon Bay Eagles
DESCRIPTION:Ron Bailey & the Tangents at Salmon Bay Eagles July 25th\, 8-11 pm\n\n\n\n\n\n\n\nTangents perform infectious music. Ron has been pleasing audiences with his showmanship since back when. The history of these performers would fill a book and includes some of the best-known bands around the Sound. Ron & the Tangents fill the dance floor from the opening song until closing time\, so get ready to shake ‘em on down! Ron is accompanied by Kelly Van Camp on drums\, Rod Cook on guitar\, Mark Dalton on bass and Steve Flynn-keys.nd
URL:https://southsoundblues.org/event/ron-bailey-the-tangents-at-the-salmon-bay-eagles/
LOCATION:Salmon Bay Eagles\, 5216 20th Ave NW\, Seattle\, WA\, 98107
CATEGORIES:Featured
END:VEVENT
BEGIN:VEVENT
DTSTART;TZID=America/Los_Angeles:20250726T130000
DTEND;TZID=America/Los_Angeles:20250726T150000
DTSTAMP:20260423T123449
CREATED:20250527T171754Z
LAST-MODIFIED:20250527T171754Z
UID:14969-1753534800-1753542000@southsoundblues.org
SUMMARY:The Spin-Offs Band will be performing at the Chehalis Fest
DESCRIPTION:The Spin-Offs Band will be performing at the Chehalis Fest July 26th\, 1-3 pm\n \nThe Spin-Offs \n 
URL:https://southsoundblues.org/event/the-spin-offs-band-will-be-performing-at-the-chehalis-fest/
LOCATION:Chehalis Down town festival location\, 313 NW Chehalis Ave\, Chehalis\, WA\, 98553
CATEGORIES:Featured
END:VEVENT
BEGIN:VEVENT
DTSTART;TZID=America/Los_Angeles:20250726T173000
DTEND;TZID=America/Los_Angeles:20250726T203000
DTSTAMP:20260423T123449
CREATED:20250409T003532Z
LAST-MODIFIED:20250520T150545Z
UID:14620-1753551000-1753561800@southsoundblues.org
SUMMARY:Mark Dufresne Band\, featuring Billy Stapleton also\, the Blue Healers at the Johnson Farm on Anderson Island
DESCRIPTION:Mark Dufresne Band\, featuring Billy Stapleton\, also\, the Blue Healers at the Johnson Farm on Anderson Island July 26th\, 5:30 pm\n   
URL:https://southsoundblues.org/event/mark-dufresne-band-featuring-billy-stapleton-at-the-johnson-farm-on-anderson-island/
LOCATION:Johnson Farm Archival Building\, 9306 Otso Point Rd\, Anderson Island\, WA\, 98303
CATEGORIES:Featured,Local South Sound Blues,Special Event
END:VEVENT
BEGIN:VEVENT
DTSTART;TZID=America/Los_Angeles:20250726T190000
DTEND;TZID=America/Los_Angeles:20250726T220000
DTSTAMP:20260423T123449
CREATED:20250703T165426Z
LAST-MODIFIED:20250703T165426Z
UID:15363-1753556400-1753567200@southsoundblues.org
SUMMARY:The Collective at Johnny's Dock Seafood & Grill
DESCRIPTION:The Collective at Johnny’s Dock Seafood & Grill July 26th\, 7-10 pm
URL:https://southsoundblues.org/event/the-collective-at-johnnys-dock-seafood-grill/
LOCATION:Johnny’s Dock\, 1900 E D St\, Tacoma\, WA\, 98421
CATEGORIES:Featured
END:VEVENT
BEGIN:VEVENT
DTSTART;TZID=America/Los_Angeles:20250726T190000
DTEND;TZID=America/Los_Angeles:20250726T230000
DTSTAMP:20260423T123449
CREATED:20250618T001730Z
LAST-MODIFIED:20250618T001730Z
UID:15222-1753556400-1753570800@southsoundblues.org
SUMMARY:Taylor Hardin Band at the Madison Avenue Pub\, Everett
DESCRIPTION:Taylor Hardin Band\, July 26th at the Madison Avenue Pub\, 7-11 pm
URL:https://southsoundblues.org/event/taylor-hardin-band-at-the-madison-avenue-pub-everett/
LOCATION:Madison Avenue Pub\, 905 Madison St\, Everett\, WA\, 98203
CATEGORIES:Featured
END:VEVENT
BEGIN:VEVENT
DTSTART;TZID=America/Los_Angeles:20250728T180000
DTEND;TZID=America/Los_Angeles:20250728T210000
DTSTAMP:20260423T123449
CREATED:20250607T223621Z
LAST-MODIFIED:20250607T223707Z
UID:15000-1753725600-1753736400@southsoundblues.org
SUMMARY:Monday Jazz at Brother Don’s Bar & Grill\, Bremerton
DESCRIPTION:Monday Jazz at Brother Don’s Bar & Grill\, Bremerton\, 6-9 pm
URL:https://southsoundblues.org/event/monday-jazz-at-brother-dons-bar-grill-bremerton-18/
LOCATION:Brother Don’s Bar & Grill\, 4200 Kitsap Way\, Bremerton\, WA\, 98312
CATEGORIES:Featured
END:VEVENT
BEGIN:VEVENT
DTSTART;TZID=America/Los_Angeles:20250730T180000
DTEND;TZID=America/Los_Angeles:20250730T210000
DTSTAMP:20260423T123449
CREATED:20250607T231537Z
LAST-MODIFIED:20250715T005623Z
UID:15021-1753898400-1753909200@southsoundblues.org
SUMMARY:Hook Me Up at the Spar
DESCRIPTION:Funky Jazz at the Spar every Wednesday 6-9 pm
URL:https://southsoundblues.org/event/funky-jazz-at-the-spar-every-wednesday-3/
LOCATION:The Spar\, 2121 N 30th St\, Tacoma\, WA\, 98403
CATEGORIES:Featured
END:VEVENT
BEGIN:VEVENT
DTSTART;TZID=America/Los_Angeles:20250731T170000
DTEND;TZID=America/Los_Angeles:20250731T190000
DTSTAMP:20260423T123449
CREATED:20250501T002522Z
LAST-MODIFIED:20250501T002522Z
UID:14753-1753981200-1753988400@southsoundblues.org
SUMMARY:Sweet Kiss Momma at Cockrell Cider Farm\, Puyallup
DESCRIPTION:Sweet Kiss Momma at Cockrell Cider Farm\, July 31st\, 5-7 pm
URL:https://southsoundblues.org/event/sweet-kiss-momma-at-cockrell-cider-farm-puyallup/
LOCATION:COCKRELL FARMS\, 6613 114TH AVE CT E\, PUYALLUP\, WA\, 98372
CATEGORIES:Featured
END:VEVENT
BEGIN:VEVENT
DTSTART;TZID=America/Los_Angeles:20250731T180000
DTEND;TZID=America/Los_Angeles:20250731T210000
DTSTAMP:20260423T123449
CREATED:20250617T233902Z
LAST-MODIFIED:20250617T235654Z
UID:15211-1753984800-1753995600@southsoundblues.org
SUMMARY:Blues night Thursdays at The Spot\, West Seattle
DESCRIPTION:Blues night Thursdays at The Spot with great local musical talent.          Old school Delta style blues\, 6- 9 pm\n\n\n\n\n \nBlues Night continues Thursday nights with local Legends !!! Old school Delta style blues. Come nestle up to the fire…. Relax with a Spirit and some great food and listen to this local heroes !! \nthe spot west Seattle \n\n\n\n\n\n\n\n\n\n2920 SW Avalon Way Seatt
URL:https://southsoundblues.org/event/blues-night-thursdays-at-the-spot-west-seattle/
LOCATION:The Spot\, West Seattle\, 2920 SW Avalon Way\, Seattle\, WA\, 98126
CATEGORIES:Featured
END:VEVENT
BEGIN:VEVENT
DTSTART;TZID=America/Los_Angeles:20250801T190000
DTEND;TZID=America/Los_Angeles:20250801T210000
DTSTAMP:20260423T123449
CREATED:20250608T003252Z
LAST-MODIFIED:20250608T003252Z
UID:15049-1754074800-1754082000@southsoundblues.org
SUMMARY:Friday Night Music at Kimball Coffeehouse present: Jim Valley Project
DESCRIPTION:Friday Night Music at Kimball Coffeehouse present: Jim Valley Project August 1st\nThe Jim Valley Project returns! A great night of 60’s and 70’s classics that never get old\, blended with Jim Valley’s original tunes.***Kimball CoffeehouseDoors Open at 6pmMusic Starts at 7pm
URL:https://southsoundblues.org/event/friday-night-music-at-kimball-coffeehouse-present-jim-valley-project/
LOCATION:Kimball’s Coffeehouse\, 6659 Kimball Dr\, Gig Harbor\, WA\, 98335
CATEGORIES:Featured
END:VEVENT
BEGIN:VEVENT
DTSTART;TZID=America/Los_Angeles:20250801T200000
DTEND;TZID=America/Los_Angeles:20250801T223000
DTSTAMP:20260423T123449
CREATED:20250710T204529Z
LAST-MODIFIED:20250710T204529Z
UID:15406-1754078400-1754087400@southsoundblues.org
SUMMARY:The Lonely Hearts Club - Beatles Tribute at Jazzbones\, Tacoma
DESCRIPTION:The Lonely Hearts Club – Beatles Tribute\, Friday August 1st\, 8pm to 10:15pm at Jazzbones
URL:https://southsoundblues.org/event/the-lonely-hearts-club-beatles-tribute-at-jazzbones-tacoma/
LOCATION:Jazzbones\, 2803 6th Ave\, Tacoma\, WA\, 98406
CATEGORIES:Featured
END:VEVENT
BEGIN:VEVENT
DTSTART;TZID=America/Los_Angeles:20250802T190000
DTEND;TZID=America/Los_Angeles:20250802T220000
DTSTAMP:20260423T123449
CREATED:20250721T211153Z
LAST-MODIFIED:20250721T211153Z
UID:15524-1754161200-1754172000@southsoundblues.org
SUMMARY:Twang Junkies at the Spar
DESCRIPTION:Twang Junkies at the Spar\, August 2nd\, 7-10 pm
URL:https://southsoundblues.org/event/twang-junkies-at-the-spar/
LOCATION:The Spar\, 2121 N 30th St\, Tacoma\, WA\, 98403
CATEGORIES:Featured
END:VEVENT
BEGIN:VEVENT
DTSTART;TZID=America/Los_Angeles:20250802T193000
DTEND;TZID=America/Los_Angeles:20250802T220000
DTSTAMP:20260423T123449
CREATED:20250620T005609Z
LAST-MODIFIED:20250620T005609Z
UID:15255-1754163000-1754172000@southsoundblues.org
SUMMARY:John Stephan Band at the Rock Fish Grill
DESCRIPTION:John Stephan Band at the Rock Fish Grill August 2nd\, 7:30 pm\n\n\n\n\nJohn Stephan Band
URL:https://southsoundblues.org/event/john-stephan-band-at-the-rock-fish-grill/
LOCATION:Rockfish Grill & Brewery\, 320 Commercial Ave\, Anacortes\, WA\, 98221
CATEGORIES:Featured
END:VEVENT
BEGIN:VEVENT
DTSTART;TZID=America/Los_Angeles:20250803T113000
DTEND;TZID=America/Los_Angeles:20250803T133000
DTSTAMP:20260423T123449
CREATED:20250710T205322Z
LAST-MODIFIED:20250710T205322Z
UID:15410-1754220600-1754227800@southsoundblues.org
SUMMARY:Annie Eastwood & Her All-Star Band Featuring Billy Stapleton at Roslyn Farmers Market
DESCRIPTION:Sunday August 3\, 11:30am to 1:45pm\, Annie Eastwood & Her All-Star Band Featuring Billy Stapleton at the Roslyn Farmers Market
URL:https://southsoundblues.org/event/annie-eastwood-her-all-star-band-featuring-billy-stapleton-at-roslyn-farmers-market/
LOCATION:Roslyn Farmers Market\, Pennsylvania Ave.\, Roslyn\, WA\, 98941
CATEGORIES:Featured
END:VEVENT
BEGIN:VEVENT
DTSTART;TZID=America/Los_Angeles:20250803T130000
DTEND;TZID=America/Los_Angeles:20250803T190000
DTSTAMP:20260423T123449
CREATED:20250712T195952Z
LAST-MODIFIED:20250712T200138Z
UID:15438-1754226000-1754247600@southsoundblues.org
SUMMARY:The Downtown Tacoma Block Party
DESCRIPTION: The Downtown Tacoma Block Party Sunday\, August 3rd\, 1–7 PM 9th & Broadway | FREE + Family-Friendly\nGet ready for a full day of great food\, live music\, local art\, and community fun — right in the heart of Downtown Tacoma!\nThis FREE event is packed with something for everyone:\n Live performances by Antwane Tyler\, Laza\, Avery Cochrane\, DJ Phaedra and more!\n Emceed by: Kwabi Amoah-Forson of The Peace Bus\n 7 Seas Beer Garden Delicious eats from local vendors Tacoma Sunday Market pop-ups Skateboarding lessons with Alchemy Skateboarding Mural Fest hosted by Spaceworks Tacoma Kids Zone with Greentrike\n Whether you’re here for the music\, the food\, the art\, or just soaking in the community vibes\, this is one summer celebration you won’t want to miss. Bring your friends\, your family\, and your love for Tacoma!
URL:https://southsoundblues.org/event/the-downtown-tacoma-block-party/
LOCATION:Tacoma Block Party location\, 310 S 9th St\, Tacoma\, WA\, 98402
CATEGORIES:Featured
END:VEVENT
BEGIN:VEVENT
DTSTART;TZID=America/Los_Angeles:20250805T200000
DTEND;TZID=America/Los_Angeles:20250805T220000
DTSTAMP:20260423T123449
CREATED:20250718T222649Z
LAST-MODIFIED:20250718T222649Z
UID:15465-1754424000-1754431200@southsoundblues.org
SUMMARY:Every Tuesday at Billy Blues Bar & Grill\, Ben Rice & The PDX Hustle
DESCRIPTION:Every Tuesday at Billy Blues Bar & Grill\, Ben Rice & The PDX Hustle\, 8-10 pm\n“For our weekly Tuesday Groove Day at Billy Blues Bar & Grill\, we’ve been shaking things up a bit. We’ve been having fun throwing in new songs and bringing in some special guests to help us explore the music by artists who’ve influenced us. Come out and join us at our home court up in Vancouver\, 8:00 – 10:00 PM every Tuesday!
URL:https://southsoundblues.org/event/every-tuesday-at-billy-blues-bar-grill-ben-rice-the-pdx-hustle-6/
LOCATION:Billy Blues Bar & Grill\, 7115 NE Hazel Dell Ave\, Vancouver\, WA\, 98665
CATEGORIES:Featured
END:VEVENT
BEGIN:VEVENT
DTSTART;TZID=America/Los_Angeles:20250806T180000
DTEND;TZID=America/Los_Angeles:20250806T210000
DTSTAMP:20260423T123449
CREATED:20250620T010501Z
LAST-MODIFIED:20250620T010501Z
UID:15259-1754503200-1754514000@southsoundblues.org
SUMMARY:Wednesday Funky Jazz at the Spar
DESCRIPTION:Wednesday Funky Jazz at the Spar\, 6-9 pm
URL:https://southsoundblues.org/event/wednesday-funky-jazz-at-the-spar/
LOCATION:The Spar\, 2121 N 30th St\, Tacoma\, WA\, 98403
CATEGORIES:Featured
END:VEVENT
BEGIN:VEVENT
DTSTART;TZID=America/Los_Angeles:20250806T183000
DTEND;TZID=America/Los_Angeles:20250806T200000
DTSTAMP:20260423T123449
CREATED:20250630T203121Z
LAST-MODIFIED:20250630T203851Z
UID:15316-1754505000-1754510400@southsoundblues.org
SUMMARY:Paperback Writer\, Beatles Tribute band\, at Pioneer Park\, Puyallup
DESCRIPTION:August 6: Paperback Writer – Beatles Tribute band at Pioneer Park\, 6:30-8 pm\n\nPuyallup’s famous Concert in the Parks series is just around the corner! The Puyallup Night Market will have Food Trucks and Vendors on-site weekly beginning at 5PM! Let the music move you—all summer long.!\nDon’t forget your blankets & lawn chairs\, and please note – pop-up tents will be asked to be taken down 15 minutes prior to the music starting. *There is no smoking or alcohol allowed in any of Puyallup’s Parks. If inclement weather occurs\, concerts may be cancelled.\nThank you to our sponsors: Bill Korum’s Puyallup Nissan\, Barrett Financial\, Edward Jones (Blair Sexton)\, L&L Printing\, Inc.\, Mad Cap Marketing\, Murrays Waste Connections\, Port of Tacoma\, Principle Homes NW\, Tru Green\, Windemere Professional Partners\, and 15th Street Auto.\n*We will be accepting non-perishable food and hygiene items at each concert to be donated to the Puyallup Food Bank.August 6th is Boxed Cereal Night!
URL:https://southsoundblues.org/event/paperback-writer-beatles-tribute-band-at-pioneer-park-puyallup/
LOCATION:Pioneer Park\, 333 S Meridian\, Puyallup\, WA\, 98371
CATEGORIES:Featured
END:VEVENT
BEGIN:VEVENT
DTSTART;TZID=America/Los_Angeles:20250807T173000
DTEND;TZID=America/Los_Angeles:20250807T200000
DTSTAMP:20260423T123449
CREATED:20250710T205724Z
LAST-MODIFIED:20250804T192637Z
UID:15412-1754587800-1754596800@southsoundblues.org
SUMMARY:Annie Eastwood Trio Featuring Billy Stapleton at the Cellar Cat\, Kingston
DESCRIPTION:Annie Eastwood Trio Featuring Billy Stapleton at the Cellar Cat\, Kingston\, Thursday August 7th\, 5:30 to 8pm \nEclectic Rhythm & Blues\, Rock\, Blues\, Soul\, Swing and Jazz. \nVocalist Annie Eastwood is backed by the extraordinary Jeff Davies on upright and electric bass and vocals\, and Washington Blues Society award winning guitarist Billy Stapleton on rhythm\, lead and slide guitars. This dynamic trio performs music from Lucinda Williams to Alison Krauss\, Etta James to Ella\, Julie London to Emmylou Harris\, Mose Allison to Robben Ford\, Sonny Landreth to Eric Clapton\, Hendrix and Freddie King.
URL:https://southsoundblues.org/event/annie-eastwood-trio-featuring-billy-stapleton-at-the-cellar-cat-kingston-2/
LOCATION:Cellar Cat\, 11253 State Highway 104 NE\, Kingston\, WA\, 98346
CATEGORIES:Featured
END:VEVENT
BEGIN:VEVENT
DTSTART;TZID=America/Los_Angeles:20250808T190000
DTEND;TZID=America/Los_Angeles:20250808T210000
DTSTAMP:20260423T123449
CREATED:20250618T002057Z
LAST-MODIFIED:20250618T002057Z
UID:15224-1754679600-1754686800@southsoundblues.org
SUMMARY:Taylor Hardin Band at Kimball Coffeehouse\, Gig Harbor
DESCRIPTION:Taylor Hardin Band at Kimball Coffeehouse\, 7-9 pm
URL:https://southsoundblues.org/event/taylor-hardin-band-at-kimball-coffeehouse-gig-harbor/
LOCATION:Kimball’s Coffeehouse\, 6659 Kimball Dr\, Gig Harbor\, WA\, 98335
CATEGORIES:Featured
END:VEVENT
BEGIN:VEVENT
DTSTART;TZID=America/Los_Angeles:20250808T190000
DTEND;TZID=America/Los_Angeles:20250808T220000
DTSTAMP:20260423T123449
CREATED:20250527T172740Z
LAST-MODIFIED:20250527T172740Z
UID:14971-1754679600-1754690400@southsoundblues.org
SUMMARY:The Spin-Offs at Gepetto's Italian Restaurant & Sports Bar\, Montesano\, WA
DESCRIPTION:The Spin-Offs at Gepetto’s Italian Restaurant & Sports Bar\, August 8th\, 7-10 pm\n \nGepetto’s Italian Restaurant & Sports Bar\n126 Pioneer Ave E Montesano\, WA 98563
URL:https://southsoundblues.org/event/the-spin-offs-at-gepettos-italian-restaurant-sports-bar-montesano-wa/
LOCATION:Gepetto’s Italian Restaurant & Sports Bar\, Montesano\, 126 Pioneer Ave E\, Montesano\, WA\, 98563
CATEGORIES:Featured
END:VEVENT
BEGIN:VEVENT
DTSTART;VALUE=DATE:20250809
DTEND;VALUE=DATE:20250811
DTSTAMP:20260423T123449
CREATED:20250727T001111Z
LAST-MODIFIED:20250808T205304Z
UID:15562-1754704800-1754791199@southsoundblues.org
SUMMARY:The Gig Harbor Rockin' Rhythm & Blues Fest at the Gig Harbor Sportsman's Club
DESCRIPTION:The Rockin’ Rhythm & Blues Fest is back August 9th\, with a line-up of fantastic bands\, noon to 9pm at the Gig Harbor Sportsman’s Club\nhttps://www.eventbrite.com/e/gig-harbors-rockin-rb-festival-tickets-1409553064159?aff=ebdssbdestsearch\n\nThe Blues Fest supports more than incredible live music. 100% of proceeds from the festival go directly to the Permission to Start Dreaming (PTSD) Foundation\, a non-profit dedicated to the healing of veterans\, first responders and their family members. You can read more about the foundation here: https://ptsdfoundation.org/ \n CD Woodbury    Billy Spaulding\, “Soulfull 88s” \n\nHere is the lineup:\n\n\nCD Woodbury\nBudapest West\nRoemen & the Whereabouts\nThe Profits\nSoulful 88’s\nMr. Blackwatch\nHD Fusion\nThe Gigsters\n\nBring your appetite! There will be food vendors and a beer/wine garden to quench your thirst (don’t forget your ID). While you’re here\, check out the local artists and craft vendors. So\, grab a friend\, a couple lawn chairs and get ready for an epic summer concert.\nHave questions? Please contact the event organizer\, Mike Mitchell\, at 253-549-6294\n9721 Burnham DrGig Harbor\, WA 98332
URL:https://southsoundblues.org/event/the-gig-harbor-rockin-rhythm-blues-fest-at-the-gig-harbor-sportsmans-club/
LOCATION:Gig Harbor Sportsman’s Club\, 9721 Burnham Drive NW\, Gig Harbor\, WA\, 98332
CATEGORIES:Featured,Local South Sound Blues
END:VEVENT
BEGIN:VEVENT
DTSTART;TZID=America/Los_Angeles:20250811T180000
DTEND;TZID=America/Los_Angeles:20250811T210000
DTSTAMP:20260423T123449
CREATED:20250703T151539Z
LAST-MODIFIED:20250703T151539Z
UID:15355-1754935200-1754946000@southsoundblues.org
SUMMARY:Monday Jazz at Brother Don’s Bar & Grill\, Bremerton
DESCRIPTION:Monday Jazz at Brother Don’s Bar & Grill\, Bremerton\, 6-9 pm
URL:https://southsoundblues.org/event/monday-jazz-at-brother-dons-bar-grill-bremerton-19/
LOCATION:Brother Don’s Bar & Grill\, 4200 Kitsap Way\, Bremerton\, WA\, 98312
CATEGORIES:Featured
END:VEVENT
BEGIN:VEVENT
DTSTART;TZID=America/Los_Angeles:20250812T190000
DTEND;TZID=America/Los_Angeles:20250812T213000
DTSTAMP:20260423T123449
CREATED:20250617T224904Z
LAST-MODIFIED:20250617T225115Z
UID:15194-1755025200-1755034200@southsoundblues.org
SUMMARY:The Washington Blues Society Blues Bash at Aurora Borealis\, Shoreline
DESCRIPTION:The Washington Blues Society The Blues Bash at Aurora Borealis  16708 Aurora Ave N Shoreline. The Second Tuesday of each month   7 – 930 PM\, FREE – ALL AGES – Public Always Welcome
URL:https://southsoundblues.org/event/the-washington-blues-society-blues-bash-at-aurora-borealis-shoreline/
LOCATION:Aurora Borealis\, 16708 Aurora Ave N\, Shoreline\, WA\, 98133
CATEGORIES:Featured
END:VEVENT
BEGIN:VEVENT
DTSTART;TZID=America/Los_Angeles:20250812T190000
DTEND;TZID=America/Los_Angeles:20250812T223000
DTSTAMP:20260423T123449
CREATED:20250731T012002Z
LAST-MODIFIED:20250731T012207Z
UID:15581-1755025200-1755037800@southsoundblues.org
SUMMARY:North City Jazz Walk featuring Michele D'Amour & The Love Dealers\, Shoreline
DESCRIPTION:Michele D’Amour & The Love Dealers\, Tuesday\, August 12th\,  7 – 10:30 p.m.\,  at North City Jazz Walk\, Shoreline\, WA\n \n(at the North City Lounge\, 17554 15th Ave NE\, Shoreline) \nNorth City Jazz Walk info: https://www.northcityjazzwalk.org/
URL:https://southsoundblues.org/event/north-city-jazz-walk-featuring-michele-damour-the-love-dealers-shoreline/
LOCATION:North City Lounge\, 17554 15th Ave NE\, Shoreline\, WA\, 98155
CATEGORIES:Featured
END:VEVENT
BEGIN:VEVENT
DTSTART;TZID=America/Los_Angeles:20250813T180000
DTEND;TZID=America/Los_Angeles:20250813T210000
DTSTAMP:20260423T123449
CREATED:20250617T224036Z
LAST-MODIFIED:20250803T233150Z
UID:15192-1755108000-1755118800@southsoundblues.org
SUMMARY:Funky Jazz at the Spar with the Tim Lerch Trio
DESCRIPTION:Funky Jazz at the Spar every Wednesday 6-9 pm
URL:https://southsoundblues.org/event/funky-jazz-at-the-spar-every-wednesday-4/
LOCATION:The Spar\, 2121 N 30th St\, Tacoma\, WA\, 98403
CATEGORIES:Featured
END:VEVENT
END:VCALENDAR