BEGIN:VCALENDAR
VERSION:2.0
PRODID:-//South Sound Blues Association - ECPv6.15.18//NONSGML v1.0//EN
CALSCALE:GREGORIAN
METHOD:PUBLISH
X-ORIGINAL-URL:https://southsoundblues.org
X-WR-CALDESC:Events for South Sound Blues Association
REFRESH-INTERVAL;VALUE=DURATION:PT1H
X-Robots-Tag:noindex
X-PUBLISHED-TTL:PT1H
BEGIN:VTIMEZONE
TZID:America/Los_Angeles
BEGIN:DAYLIGHT
TZOFFSETFROM:-0800
TZOFFSETTO:-0700
TZNAME:PDT
DTSTART:20250309T100000
END:DAYLIGHT
BEGIN:STANDARD
TZOFFSETFROM:-0700
TZOFFSETTO:-0800
TZNAME:PST
DTSTART:20251102T090000
END:STANDARD
BEGIN:DAYLIGHT
TZOFFSETFROM:-0800
TZOFFSETTO:-0700
TZNAME:PDT
DTSTART:20260308T100000
END:DAYLIGHT
BEGIN:STANDARD
TZOFFSETFROM:-0700
TZOFFSETTO:-0800
TZNAME:PST
DTSTART:20261101T090000
END:STANDARD
BEGIN:DAYLIGHT
TZOFFSETFROM:-0800
TZOFFSETTO:-0700
TZNAME:PDT
DTSTART:20270314T100000
END:DAYLIGHT
BEGIN:STANDARD
TZOFFSETFROM:-0700
TZOFFSETTO:-0800
TZNAME:PST
DTSTART:20271107T090000
END:STANDARD
END:VTIMEZONE
BEGIN:VEVENT
DTSTART;TZID=America/Los_Angeles:20260630T193000
DTEND;TZID=America/Los_Angeles:20260630T220000
DTSTAMP:20260422T235557
CREATED:20260421T202007Z
LAST-MODIFIED:20260421T202626Z
UID:17603-1782847800-1782856800@southsoundblues.org
SUMMARY:Tuesday Vic Sorisio Jam at the Billy Blues Bar and Grill\, Vancouver\, WA
DESCRIPTION:Tuesday Vic Sorisio Jam at the Billy Blues Bar and Grill\nEverybody plays. Signups start at 7pm. Jam starts at 7:30. All styles\, original or cover\, all levels\n\n\n\n\n\n\n\n\n\n\n\n\n\nBilly Blues Bar and Grill\n7115 NE Hazel Dell Ave.\nVancouver\, WA 98665\n360-694-3114)
URL:https://southsoundblues.org/event/tuesday-vic-sorisio-jam-at-the-billy-blues-bar-and-grill-vancouver-wa/
LOCATION:Billy Blues Bar & Grill\, 7115 NE Hazel Dell Ave\, Vancouver\, WA\, 98665
CATEGORIES:Featured
END:VEVENT
BEGIN:VEVENT
DTSTART;TZID=America/Los_Angeles:20260701T180000
DTEND;TZID=America/Los_Angeles:20260701T210000
DTSTAMP:20260422T235557
CREATED:20260325T225547Z
LAST-MODIFIED:20260325T225547Z
UID:17374-1782928800-1782939600@southsoundblues.org
SUMMARY:Funky Jazz Wednesdays at the Spar
DESCRIPTION:Funky Jazz Wednesdays at the Spar 6-9 pm
URL:https://southsoundblues.org/event/funky-jazz-wednesdays-at-the-spar-24/
LOCATION:The Spar\, 2121 N 30th St\, Tacoma\, WA\, 98403
CATEGORIES:Featured
END:VEVENT
BEGIN:VEVENT
DTSTART;TZID=America/Los_Angeles:20260703T193000
DTEND;TZID=America/Los_Angeles:20260703T223000
DTSTAMP:20260422T235557
CREATED:20260419T194521Z
LAST-MODIFIED:20260419T194521Z
UID:17581-1783107000-1783117800@southsoundblues.org
SUMMARY:Moondance- Van Morrison Tribute at the Triple Door\, Seattle
DESCRIPTION:Moondance – Van Morrison Tribute\nFri\, Jul 3 @ 7:30PM \nMainstage Theatre\, 216 Union Street\, Seattle \n\n\nMoondance is a 5-star musical ensemble covering Van Morrison’s timeless up-tempo soulful\, rock\, blues anger for Steve Miller\, d Celtic ballads from the 1960’s to the present. We are a Seattle based band. The band’s performances capture the lyrical and rhythmic passion that has enchanted Van Morrison’s audiences throughout the years along with our all-star sound. Moondance has a fun\, engaging style that provides our audiences a connection to the “feel good magic” of Van Morrison’s music. \nMichael Clune\, the band leader who put Moondance together 5 years ago recalls his thoughts leading up to committing to Van Morrison’s music and legacy. “I always had super respect for the troubadours\, the songwriters with a soulful genuine delivery. I was moved by Van’s diversity of blues\, jazz\, rock\, and Americana styles\, his arrangements that were open to improvisation\, and his ability to tell a story with significant emotional depth.” Moondance is made up of 6 talented musicians that are experienced pros with big ears. Their 3 part vocal harmony arrangements and soloing expertise perform Van’s songs not only in a true tribute spirit\, but with their own musical expression that conveys a real time feeling to their audience. \n\n$20 General // $30 Premium
URL:https://southsoundblues.org/event/moondance-van-morrison-tribute-at-the-triple-door-seattle/
LOCATION:The Triple Door\, 216 Union St\,\, Seattle\, WA\, 98101
CATEGORIES:Featured
END:VEVENT
BEGIN:VEVENT
DTSTART;TZID=America/Los_Angeles:20260708T193000
DTEND;TZID=America/Los_Angeles:20260708T220000
DTSTAMP:20260422T235557
CREATED:20260419T194844Z
LAST-MODIFIED:20260419T194844Z
UID:17583-1783539000-1783548000@southsoundblues.org
SUMMARY:The Fabulous Thunderbirds at the Triple Door\, Seattle
DESCRIPTION:The Fabulous Thunderbirds\nWed\, Jul 8 @ 7:30PM \nMainstage Theatre\, 216 Union Street\, Seattle \n\n\nFor over 30 years\, The Fabulous Thunderbirds have been the quintessential American band. The group’s distinctive and powerful sound\, influenced by a diversity of musical styles\, manifested itself into a unique musical hybrid via such barnburners as “Tuff Enuff” and “Wrap It Up”. Co-founder Kim Wilson\, the sole original member\, still spearheads the group as it evolves into its newest incarnation. \n“We started as a straight blues band”\, vocalist and harmonica player Wilson says. “We now incorporate a mixture of a lot of different styles. We’re an American music band and we’re much higher energy than we were before.” \n“To be in the T-Birds\, you need to understand the different styles of music and different ways of playing\,” Wilson comments. “You have to be willing to adopt a more contemporary style. The guys we have now are able to do that.” \nThe band continues to tour extensively\, in both the U.S. and Europe. Wilson is currently writing songs on his own\, with band members and other writers. \n\n$50 General // $60 Premium
URL:https://southsoundblues.org/event/the-fabulous-thunderbirds-at-the-triple-door-seattle/
LOCATION:The Triple Door\, 216 Union St\,\, Seattle\, WA\, 98101
CATEGORIES:Featured
END:VEVENT
BEGIN:VEVENT
DTSTART;TZID=America/Los_Angeles:20260716T190000
DTEND;TZID=America/Los_Angeles:20260716T230000
DTSTAMP:20260422T235557
CREATED:20260306T011149Z
LAST-MODIFIED:20260306T011149Z
UID:17204-1784228400-1784242800@southsoundblues.org
SUMMARY:Acoustic Open Jam every Thursday at North End on Pearl
DESCRIPTION:Acoustic Open Jam every Thursday at North End on Pearl. Hosted by Lynn Sorensen\, Manuel Morais\, and Al Maier 7-11pm\nBring your guitar\, your voice\, or just come enjoy the music.\n 7–11PM\n No Cover | 21+\n Ruston
URL:https://southsoundblues.org/event/acoustic-open-jam-every-thursday-at-north-end-on-pearl-3/
LOCATION:North End On Pearl\, 5037 North Pearl Street\, Tacoma\, WA\, 98407
CATEGORIES:Featured
END:VEVENT
BEGIN:VEVENT
DTSTART;TZID=America/Los_Angeles:20260716T200000
DTEND;TZID=America/Los_Angeles:20260716T223000
DTSTAMP:20260422T235557
CREATED:20260417T193216Z
LAST-MODIFIED:20260417T193416Z
UID:17551-1784232000-1784241000@southsoundblues.org
SUMMARY:McMenamins Presents: ZZ Nation -ZZ Top tribute at the Spanish Ballroom\, Tacoma
DESCRIPTION:McMenamins Presents: ZZ Nation -ZZ Top tribute at the Spanish Ballroom July 16th\, 7pm doors\, 8pm show\nAll ages welcome.   https://www.etix.com/ticket/p/52041508/zz-nation-tacoma-mcmenamins-spanish-ballroom-elks-temple \n\n\n\n\n\n\nTickets \n\n\n\n\n\n\n\n\n\n\nAbout ZZ Nation\nSouthern California’s own ZZ NATION\, the ultimate ZZ Top tribute – raw\, loud\, and straight from the heart of Texas blues-rock.This isn’t imitation. It’s ignition.Three players\, one mission: crank that unmistakable tone\, lock in that low-down groove\, and remind the world why this band’s music still kicks harder than most modern rock.\nExpect vintage swagger\, roaring guitars\, and a rhythm section that means business.\nTurn it up. Feel the rumble. \n\n \n 
URL:https://southsoundblues.org/event/mcmenamins-presents-zz-nation-zz-top-tribute-at-the-spanish-ballroom-tacoma/
LOCATION:McMenaminsTacoma Elks\, 565 Broadway\, Tacoma\, WA\, 98402
CATEGORIES:Featured
END:VEVENT
BEGIN:VEVENT
DTSTART;TZID=America/Los_Angeles:20260718T200000
DTEND;TZID=America/Los_Angeles:20260718T223000
DTSTAMP:20260422T235557
CREATED:20260204T011541Z
LAST-MODIFIED:20260417T194138Z
UID:16915-1784404800-1784413800@southsoundblues.org
SUMMARY:Roy Rogers\, Rare solo performance\, at the Spanish Ballroom\, Tacoma
DESCRIPTION:Slide Guitarist Roy Rogers at the Spanish Ballroom on July 18th!\n7pm doors\, 8pm show- All ages welcome. Rare solo performance at spanishballroom.com! \n\n\nRoy Rogers has been considered one of the world’s preeminent master Delta slide guitarists with many decades of touring the globe. Over 20 recordings to his credit\, Rogers has garnered 8 Grammy nominations for producing\, as a recording artist\, and as a songwriter. His collaborations have garnered major media accolades worldwide for producing critically acclaimed Grammy nominated recordings for John Lee Hooker and Ramblin’ Jack Elliott\, as well as collaborations with Bonnie Raitt\, Carlos Santana\, Bela Fleck\, Allan Toussaint\, Sammy Hagar & Ray Manzarek among others. Known for his searing performances that have been named a festival favorites including New Orleans Jazz Fest\, North Sea Jazz Festival in Holland\, Montreux in Switzerland\, Pistoia in Italy\, + North American festivals in Canada & the United States\, with more than 4 decades of touring the world.  Rogers is planning a release of the new single videos from the new release  “The Sky’s The Limit” – his first recording in 10 years with product releases in January 2026.\n\n\n\nSlide Guitarist Roy Rogers – A Rare SOLO Performance \nhttps://www.etix.com/ticket/p/54337999/roy-rogers-tacoma-mcmenamins-spanish-ballroom-elks-temple \n\n\n\n\n\n\n\nTickets \n\n\n\n\n\n\n\n\n\n\nSlide Guitarist Roy Rogers – A Rare SOLO Performance\n\n \n  \n\n\n\n\n\nhttps://www.mcmenamins.com/events/275226-slide-guitarist-roy-rogers-a-rare-solo-performance
URL:https://southsoundblues.org/event/roy-rogers-at-the-spanish-ballroom-tacoma/
LOCATION:McMenaminsTacoma Elks\, 565 Broadway\, Tacoma\, WA\, 98402
CATEGORIES:Featured,Local South Sound Blues,Special Event
END:VEVENT
BEGIN:VEVENT
DTSTART;TZID=America/Los_Angeles:20260730T190000
DTEND;TZID=America/Los_Angeles:20260730T210000
DTSTAMP:20260422T235557
CREATED:20260206T002955Z
LAST-MODIFIED:20260206T002955Z
UID:16953-1785438000-1785445200@southsoundblues.org
SUMMARY:Bluesland on KMRE 88.3 FM Every Thursday
DESCRIPTION:Bluesland on KMRE 88.3 FM Every Thursday live at 7pm \nLot’s of fine blues\, soul and rock n roll.  Check out the show at 88.3 FM\, kmre.org \n\nTunein app and OnDemand.\n\n\nBluesland (Live ) Every week on Thursday at 7:00 PM\nBluesland host Leo Schumaker features the best of vintage\, classic\, and new Blues music\, plus interviews with artists\, producers\, writers\, and blues club owners. Leo is a lifetime member of The Santa Barbara Blues Society\, and holds membership in The Washington Blues Society\, The Cascade Blues Society\, and The Blues Foundation\, where he was a judge for The International Blues Challenge in Memphis\, TN.
URL:https://southsoundblues.org/event/bluesland-on-kmre-88-3-fm-every-thursday-5/
LOCATION:KMRE\, Bellingham\, WA
CATEGORIES:Featured
END:VEVENT
BEGIN:VEVENT
DTSTART;TZID=America/Los_Angeles:20260805T193000
DTEND;TZID=America/Los_Angeles:20260805T220000
DTSTAMP:20260422T235557
CREATED:20260419T195826Z
LAST-MODIFIED:20260419T195826Z
UID:17587-1785958200-1785967200@southsoundblues.org
SUMMARY:John Primer at the Triple Door\, Seattle
DESCRIPTION:John Primer\n \nWed\, Aug 5 @ 7:30PM \nMainstage Theatre\, 216 Union Street\, Seattle \n\n\nJohn Primer has undisputedly helped build the sound and style of Chicago blues as we know it today. The echoes of tradition bellowing from the birthplaces he played such as Maxwell Street\, Theresa’s\, Checkerboard and Rosa’s Lounges\, pulse from every chord in his fingers today. John Primer is a 3 time Grammy® Nominated\, Blues Hall of Fame\, Living Legend. \nGrowing up on Mississippi sharecropper land in 1945\, inspired by his family’s hard work and field songs daily\, deep devotion to spirituals on Sundays\, and blues on Saturdays. John dreamed of one day playing with the legendary Muddy Waters! \n\n$25 General // $30 Premium
URL:https://southsoundblues.org/event/john-primer-at-the-triple-door-seattle/
LOCATION:The Triple Door\, 216 Union St\,\, Seattle\, WA\, 98101
CATEGORIES:Featured
END:VEVENT
BEGIN:VEVENT
DTSTART;TZID=America/Los_Angeles:20260813T190000
DTEND;TZID=America/Los_Angeles:20260813T230000
DTSTAMP:20260422T235557
CREATED:20260306T011326Z
LAST-MODIFIED:20260306T011326Z
UID:17206-1786647600-1786662000@southsoundblues.org
SUMMARY:Acoustic Open Jam every Thursday at North End on Pearl
DESCRIPTION:Acoustic Open Jam every Thursday at North End on Pearl. Hosted by Lynn Sorensen\, Manuel Morais\, and Al Maier 7-11pm\nBring your guitar\, your voice\, or just come enjoy the music.\n 7–11PM\n No Cover | 21+\n Ruston
URL:https://southsoundblues.org/event/acoustic-open-jam-every-thursday-at-north-end-on-pearl-4/
LOCATION:North End On Pearl\, 5037 North Pearl Street\, Tacoma\, WA\, 98407
CATEGORIES:Featured
END:VEVENT
BEGIN:VEVENT
DTSTART;VALUE=DATE:20260814
DTEND;VALUE=DATE:20260818
DTSTAMP:20260422T235557
CREATED:20250825T201717Z
LAST-MODIFIED:20260115T024435Z
UID:15813-1786672800-1786931999@southsoundblues.org
SUMMARY:Downtown Tacoma Blues & Jazz Festival
DESCRIPTION:Downtown Tacoma Blues & Jazz Festival\, 8/23/2026\n \nOn Broadway between 11th St. & 13th St. \nLTDPresentslive.com
URL:https://southsoundblues.org/event/downtown-tacoma-blues-jazz-festival/
LOCATION:Tacoma Blues & Jazz fest loacation\, 1114 Broadway\, Tacoma\, WA\, 98402
CATEGORIES:Featured,Local South Sound Blues,Special Event
END:VEVENT
BEGIN:VEVENT
DTSTART;TZID=America/Los_Angeles:20260814T193000
DTEND;TZID=America/Los_Angeles:20260814T220000
DTSTAMP:20260422T235557
CREATED:20260419T195202Z
LAST-MODIFIED:20260419T195202Z
UID:17585-1786735800-1786744800@southsoundblues.org
SUMMARY:Bell Bottom Blues - Tribute to Eric Clapton at the Triple Door\, Seattle
DESCRIPTION:Bell Bottom Blues – Tribute to Eric Clapton\nFri\, Aug 14 @ 7:30PM \nMainstage Theatre\, 216 Union Street\, Seattle \n\n\nFounded in 2019\, Bell Bottom Blues has quickly become a name in the Tribute scene of the Pacific Northwest. \nPaying homage to the extensive catalog of the great Eric Clapton – including Cream & Derek and The Dominos – Bell Bottom Blues continues to thrill crowds from theaters and casinos to wineries to private events. \nIn 2025\, we welcome new front man JUSTIN KAUSAL-HAYES on lead vocals and guitar. With years of experience as a performer and bandleader\, JUSTIN strives to recreate Clapton’s sound and feel with every note. Paired with the incredible guitar skills of co-founding band member SCOTT DONALDSON\, who also brings decades of experience to the group\, they are dedicated to the timeless melodies\, driving rhythms\, and masterful guitar licks of the iconic artist. Rounding out the band are some of Seattle’s most accomplished pro musicians.Their combined talent and passion for this classic music is evident every time they take the stage. \n\n$20 advance / $25 Day of
URL:https://southsoundblues.org/event/bell-bottom-blues-tribute-to-eric-clapton-at-the-triple-door-seattle/
LOCATION:The Triple Door\, 216 Union St\,\, Seattle\, WA\, 98101
CATEGORIES:Featured
END:VEVENT
BEGIN:VEVENT
DTSTART;TZID=America/Los_Angeles:20260815T190000
DTEND;TZID=America/Los_Angeles:20260815T210000
DTSTAMP:20260422T235557
CREATED:20260305T235434Z
LAST-MODIFIED:20260305T235434Z
UID:17191-1786820400-1786827600@southsoundblues.org
SUMMARY:VANESSA COLLIER at Downtown Tacoma Blues Festival
DESCRIPTION:Multi Award-Winning Saxophone player\, Singer\, Songwriter VANESSA COLLIER Expands Her 2026 ‘Keep It Saxy’ tour- August  15th\,  Saturday\nDOWNTOWN TACOMA BLUES FESTIVAL @ 7:00 PM\n“Rare and enchanting… a study in near-perfect musicianship\, effortless playing and\, with grace… This was as sophisticated a performance as it gets… engaging as much as it was breathtaking.” \n— Music Connection
URL:https://southsoundblues.org/event/vanessa-collier-at-downtown-tacoma-blues-festival/
LOCATION:WA
CATEGORIES:Featured
END:VEVENT
BEGIN:VEVENT
DTSTART;TZID=America/Los_Angeles:20260903T190000
DTEND;TZID=America/Los_Angeles:20260903T230000
DTSTAMP:20260422T235557
CREATED:20260306T012014Z
LAST-MODIFIED:20260306T012014Z
UID:17212-1788462000-1788476400@southsoundblues.org
SUMMARY:Acoustic Open Jam every Thursday at North End on Pearl
DESCRIPTION:Acoustic Open Jam every Thursday at North End on Pearl. Hosted by Lynn Sorensen\, Manuel Morais\, and Al Maier 7-11pm\nBring your guitar\, your voice\, or just come enjoy the music.\n 7–11PM\n No Cover | 21+\n Ruston
URL:https://southsoundblues.org/event/acoustic-open-jam-every-thursday-at-north-end-on-pearl-7/
LOCATION:North End On Pearl\, 5037 North Pearl Street\, Tacoma\, WA\, 98407
CATEGORIES:Featured
END:VEVENT
END:VCALENDAR