BEGIN:VCALENDAR
VERSION:2.0
PRODID:-//South Sound Blues Association - ECPv6.15.18//NONSGML v1.0//EN
CALSCALE:GREGORIAN
METHOD:PUBLISH
X-WR-CALNAME:South Sound Blues Association
X-ORIGINAL-URL:https://southsoundblues.org
X-WR-CALDESC:Events for South Sound Blues Association
REFRESH-INTERVAL;VALUE=DURATION:PT1H
X-Robots-Tag:noindex
X-PUBLISHED-TTL:PT1H
BEGIN:VTIMEZONE
TZID:America/Los_Angeles
BEGIN:DAYLIGHT
TZOFFSETFROM:-0800
TZOFFSETTO:-0700
TZNAME:PDT
DTSTART:20220313T100000
END:DAYLIGHT
BEGIN:STANDARD
TZOFFSETFROM:-0700
TZOFFSETTO:-0800
TZNAME:PST
DTSTART:20221106T090000
END:STANDARD
BEGIN:DAYLIGHT
TZOFFSETFROM:-0800
TZOFFSETTO:-0700
TZNAME:PDT
DTSTART:20230312T100000
END:DAYLIGHT
BEGIN:STANDARD
TZOFFSETFROM:-0700
TZOFFSETTO:-0800
TZNAME:PST
DTSTART:20231105T090000
END:STANDARD
BEGIN:DAYLIGHT
TZOFFSETFROM:-0800
TZOFFSETTO:-0700
TZNAME:PDT
DTSTART:20240310T100000
END:DAYLIGHT
BEGIN:STANDARD
TZOFFSETFROM:-0700
TZOFFSETTO:-0800
TZNAME:PST
DTSTART:20241103T090000
END:STANDARD
END:VTIMEZONE
BEGIN:VEVENT
DTSTART;TZID=America/Los_Angeles:20230714T190000
DTEND;TZID=America/Los_Angeles:20230714T210000
DTSTAMP:20260425T044214
CREATED:20230628T182504Z
LAST-MODIFIED:20230628T182809Z
UID:10716-1689361200-1689368400@southsoundblues.org
SUMMARY:Kimball Coffeehouse live music Friday's
DESCRIPTION:Kimball Coffeehouse live music Friday’s\, 7-9 pm
URL:https://southsoundblues.org/event/kimball-coffeehouse-live-music-fridays/
LOCATION:Kimball’s Coffeehouse\, 6659 Kimball Dr\, Gig Harbor\, WA\, 98335
CATEGORIES:Featured
END:VEVENT
BEGIN:VEVENT
DTSTART;TZID=America/Los_Angeles:20230719T180000
DTEND;TZID=America/Los_Angeles:20230719T180000
DTSTAMP:20260425T044214
CREATED:20230531T205045Z
LAST-MODIFIED:20230716T235223Z
UID:10580-1689789600-1689789600@southsoundblues.org
SUMMARY:LTD Presents Event: Farrell/Hudson & Friends at The Spar
DESCRIPTION:Wednesday July 19th – Farrell/Hudson & friends at the Spar\, 6pm\n 
URL:https://southsoundblues.org/event/farrell-hudson-trio-at-the-spar-4/
LOCATION:The Spar\, 2121 N 30th St\, Tacoma\, WA\, 98403
CATEGORIES:Featured
END:VEVENT
BEGIN:VEVENT
DTSTART;TZID=America/Los_Angeles:20230721T203000
DTEND;TZID=America/Los_Angeles:20230721T233000
DTSTAMP:20260425T044214
CREATED:20230719T020603Z
LAST-MODIFIED:20230719T020603Z
UID:10916-1689971400-1689982200@southsoundblues.org
SUMMARY:The Filthy 5th at the Monte Bistro & Showbar Ballroom\, Everett
DESCRIPTION:Filthy 5th\, July 21st! The all-new Monte Bistro & Showbar Ballroom in Everett with 3 hours of Funk\, Soul\, and Blues. Doors at 8pm. \n \n1507 Wall St\, Everett\, WA 98201 \n(425) 426-6938
URL:https://southsoundblues.org/event/the-filthy-5th-at-the-monte-bistro-showbar-ballroom-everett/
LOCATION:Monte Bistro & Showbar Ballroom\, 1507 Wall St\, Everett\, WA\, 98201
CATEGORIES:Featured
END:VEVENT
BEGIN:VEVENT
DTSTART;TZID=America/Los_Angeles:20230722T183000
DTEND;TZID=America/Los_Angeles:20230723T220000
DTSTAMP:20260425T044214
CREATED:20230512T020139Z
LAST-MODIFIED:20230512T020139Z
UID:10428-1690050600-1690149600@southsoundblues.org
SUMMARY:Gary Clark Jr. at the Chateau Ste Michelle Amphitheatre
DESCRIPTION:Gary Clark Jr.\n\nChateau Ste Michelle Amphitheatre\nJuly 22nd\, 2023\n\n\n\n\n\nShow starts at 7:00pm\nGates will open approximately 2 hours before scheduled start \nReserve: Starting at $89.50\nGeneral Admission: Starting at $55.00 \ngaryclarkjr.com \nTickets on sale Monday\, April 3\, 2023 at 10:00am PT. Visit www.ticketmaster.com to purchase.
URL:https://southsoundblues.org/event/gary-clark-jr-at-the-chateau-ste-michelle-amphitheatre/
LOCATION:Chateau Ste. Michelle Winery\, 14111 NE 145th St\, Woodinville\, WA\, 98072
CATEGORIES:Featured,Special Event
END:VEVENT
BEGIN:VEVENT
DTSTART;TZID=America/Los_Angeles:20230722T200000
DTEND;TZID=America/Los_Angeles:20230722T200000
DTSTAMP:20260425T044214
CREATED:20230531T203356Z
LAST-MODIFIED:20230531T203356Z
UID:10570-1690056000-1690056000@southsoundblues.org
SUMMARY:Billy Stapleton's POWERHOUSE Band at the Easy Monkey Taphouse
DESCRIPTION:Saturday July 22nd – Billy Stapleton’s POWERHOUSE Band at the Easy Monkey Taphouse\, Shoreline\, 8pm
URL:https://southsoundblues.org/event/billy-stapletons-powerhouse-band-at-the-easy-monkey-taphouse/
LOCATION:Easy Monkey Taphouse\, 17537 15th Ave NE Suite B\, Shoreline\, WA\, 98155
CATEGORIES:Featured
END:VEVENT
BEGIN:VEVENT
DTSTART;TZID=America/Los_Angeles:20230722T200000
DTEND;TZID=America/Los_Angeles:20230722T230000
DTSTAMP:20260425T044214
CREATED:20230628T191816Z
LAST-MODIFIED:20230628T191816Z
UID:10733-1690056000-1690066800@southsoundblues.org
SUMMARY:Michele D'Amour & The Love Dealers at Bubba's Roadhouse\, Sultan
DESCRIPTION:Michele D’Amour & The Love Dealers\, Saturday\, July 22 at Bubba’s Roadhouse\, 8 – 11 p.m. \n \n31702 US Route 2\, Sultan\, WA
URL:https://southsoundblues.org/event/michele-damour-the-love-dealers-at-bubbas-roadhouse-sultan/
LOCATION:Bubba’s Roadhouse\, 31702 US Route 2\, Sultan\, WA\, 98294
CATEGORIES:Featured
END:VEVENT
BEGIN:VEVENT
DTSTART;TZID=America/Los_Angeles:20230723T110000
DTEND;TZID=America/Los_Angeles:20230723T110000
DTSTAMP:20260425T044214
CREATED:20230531T203756Z
LAST-MODIFIED:20230531T203756Z
UID:10572-1690110000-1690110000@southsoundblues.org
SUMMARY:Billy Stapleton's POWERHOUSE Band at the Mercer Island Farmer's Market
DESCRIPTION:Sunday July 23rd – Billy Stapleton’s POWERHOUSE Band at the Sunday Mercer Island Farmer’s Market\, 11am
URL:https://southsoundblues.org/event/billy-stapletons-powerhouse-band-at-the-mercer-island-farmers-market/
LOCATION:Mercer Island Sunday Market\, 7700 SE 32nd St\, Mercer Island\, WA\, 98040
CATEGORIES:Featured
END:VEVENT
BEGIN:VEVENT
DTSTART;TZID=America/Los_Angeles:20230726T180000
DTEND;TZID=America/Los_Angeles:20230726T200000
DTSTAMP:20260425T044214
CREATED:20230607T193520Z
LAST-MODIFIED:20230607T193520Z
UID:10612-1690394400-1690401600@southsoundblues.org
SUMMARY:University Place Music on the Square with Darelle Holden and DHQ
DESCRIPTION:July 26 – University Place Music on the Square with Darelle Holden and DHQ\, 6-8 pm
URL:https://southsoundblues.org/event/university-place-music-on-the-square-with-darelle-holden-and-dhq/
LOCATION:University place Market Square\, 3609 Market Pl W\, University Place\, WA\, 98466
CATEGORIES:Featured
END:VEVENT
BEGIN:VEVENT
DTSTART;TZID=America/Los_Angeles:20230726T190000
DTEND;TZID=America/Los_Angeles:20230726T190000
DTSTAMP:20260425T044214
CREATED:20230716T231949Z
LAST-MODIFIED:20230716T233105Z
UID:10882-1690398000-1690398000@southsoundblues.org
SUMMARY:The Hipocrats at the Mill
DESCRIPTION:The Hipocrats at the Mill\, July 26th\, 7 pm\n 
URL:https://southsoundblues.org/event/the-hipocrats-at-the-mill/
LOCATION:The Mill of Milton\, 900 Meridian E. #50\, Milton\, WA\, 98354
CATEGORIES:Featured
END:VEVENT
BEGIN:VEVENT
DTSTART;TZID=America/Los_Angeles:20230727T180000
DTEND;TZID=America/Los_Angeles:20230727T193000
DTSTAMP:20260425T044214
CREATED:20230629T001431Z
LAST-MODIFIED:20230629T170049Z
UID:10774-1690480800-1690486200@southsoundblues.org
SUMMARY:CD Woodbury Trio performs at the Si View Summer Concert Series\, North Bend WA
DESCRIPTION: CD Woodbury Trio at Thursday’s Si View Summer Concert Series\, North Bend\, July 27th\, 6pm\n \n2022 Washington Blues Society Hall of Fame inductee\, CD Woodbury has transformed himself from journeyman sideman and “the NW’s best kept secret” into an internationally recognized rising star of the Pacific NW blues scene with his work as singer\, songwriter\, and guitarist. \nTHE BAND:\n\n– CD Woodbury: Guitars\, Vocals \n– Robert Baker: Bass\, Backing Vocals \n– Matt Williams: Drums \n\nBring the whole family\, pack along a picnic blanket\, and make it a summer tradition! Si View Park Summer Concert series includes catchy tunes from classic rock to jazz and everything in between. Tasty\, prepared foods and treats are available from the Farmers Market vendors\, the kids love the Big Rock and zip-line playgrounds\, and the views of surrounding Cascades Mountains are breathtaking. \nConcerts are held during the North Bend Farmers Market on Thursday evenings 6-7:30pm at the Si View Park picnic shelter. Feel free to bring a picnic blanket or lawn chairs. All concerts are free to the public. \n 
URL:https://southsoundblues.org/event/cd-woodbury-trio-sumner-summer-concert-series-stage/
LOCATION:Si View Park picnic shelter\, 400 SE Orchard Drive\, North Bend\, WA\, 98045
CATEGORIES:Featured
END:VEVENT
BEGIN:VEVENT
DTSTART;TZID=America/Los_Angeles:20230728T160000
DTEND;TZID=America/Los_Angeles:20230729T230000
DTSTAMP:20260425T044214
CREATED:20230531T201845Z
LAST-MODIFIED:20230531T212024Z
UID:10563-1690560000-1690671600@southsoundblues.org
SUMMARY:Ellensburg Music Festival\, Friday & Saturday
DESCRIPTION:Ellensburg Music Festival\, two days of great music in downtown Ellensburg! https://www.ellensburgmusicfestival.com/tickets.html \n\n\n\n\nFriday July 28\n\n\nRanger and the “Re-Arrangers” (jazz)\nBilly Stapleton – Powerhouse (blues)\nEugenie Jones (jazz)\nEllensburg Big Band (swing dance)\nThe Hipocrats (country)\nCarlos Cascante y su Tumbao (latin)\nStacy Jones (blues)\nHarmonious Funk (all)\nAaron Crawford (country)\n\n\n\n\n\n\n\nSaturday July 29\n\n\nJoel Astley (blues)\nNick Mardon (blues)\nJacqueline Tabor (jazz)\nWind Power (swing dance)\nLeah Justine (country)\nMichael Powers (jazz)\nMel Peterson (soul)\nRusty Cage (country)\nEmerald City Throwdown (all)\n\n\n\n\n\n\n\n\n\nAddress: 609 N Main St\, Ellensburg\, WA 98926 \n\n\nPhone: (509) 925-3137
URL:https://southsoundblues.org/event/ellensburg-music-festival-friday-saturday/
LOCATION:Ellensburg Music Festival\, 609 N Main St\, Ellensburg\, WA\, 98926
CATEGORIES:Featured,Festival
END:VEVENT
BEGIN:VEVENT
DTSTART;TZID=America/Los_Angeles:20230728T190000
DTEND;TZID=America/Los_Angeles:20230728T210000
DTSTAMP:20260425T044214
CREATED:20230628T192444Z
LAST-MODIFIED:20230628T192444Z
UID:10738-1690570800-1690578000@southsoundblues.org
SUMMARY:Michele D'Amour Trio at the Vault\, Blaine
DESCRIPTION:Michele D’Amour Trio\, Friday\, July 28th at The Vault\, 7 – 9 p.m.\n  \n 
URL:https://southsoundblues.org/event/michele-damour-trio-at-the-vault-blaine/
LOCATION:The Vault Wine Bar\, 277 G St\, Blaine\, WA\, 98230
CATEGORIES:Featured
END:VEVENT
BEGIN:VEVENT
DTSTART;TZID=America/Los_Angeles:20230729T190000
DTEND;TZID=America/Los_Angeles:20230729T190000
DTSTAMP:20260425T044214
CREATED:20230531T205247Z
LAST-MODIFIED:20230531T205247Z
UID:10582-1690657200-1690657200@southsoundblues.org
SUMMARY:Groove Colony at the Spar
DESCRIPTION:Saturday July 29th\, The Groove Colony at the Spar\, 7pm
URL:https://southsoundblues.org/event/groove-colony-at-the-spar-2/
LOCATION:The Spar\, 2121 N 30th St\, Tacoma\, WA\, 98403
CATEGORIES:Featured
END:VEVENT
BEGIN:VEVENT
DTSTART;TZID=America/Los_Angeles:20230729T190000
DTEND;TZID=America/Los_Angeles:20230729T220000
DTSTAMP:20260425T044214
CREATED:20230628T193242Z
LAST-MODIFIED:20230628T193242Z
UID:10740-1690657200-1690668000@southsoundblues.org
SUMMARY:Michele D'Amour & The Love Dealers at the Rockfish Grill\, Anacortes
DESCRIPTION:Michele D’Amour & The Love Dealers\, Saturday\, July 29 – Rockfish Grill \n \n 
URL:https://southsoundblues.org/event/michele-damour-the-love-dealers-at-the-rockfish-grill-anacortes/
LOCATION:Rockfish Grill & Brewery\, 320 Commercial Ave\, Anacortes\, WA\, 98221
CATEGORIES:Featured
END:VEVENT
BEGIN:VEVENT
DTSTART;TZID=America/Los_Angeles:20230730T180000
DTEND;TZID=America/Los_Angeles:20230730T180000
DTSTAMP:20260425T044214
CREATED:20230628T235945Z
LAST-MODIFIED:20230629T000132Z
UID:10772-1690740000-1690740000@southsoundblues.org
SUMMARY:CD Woodbury and Mary McPage at CCR/Old Man Brewing\, Snohomish
DESCRIPTION:CD Woodbury and Mary McPage at CCR/Old Man Brewing\, July 30th at 6pm\n \n  \nOld Man Brewing is in the New Sports and Entertainment Lounge at Collectors Choice Restaurant \n 
URL:https://southsoundblues.org/event/cd-woodbury-and-mary-mcpage-at-ccr-old-man-brewing-snohomish/
LOCATION:CCR Sports & Entertainment\, 215 Cypress Ave\, Snohomish\, WA\, 98290
CATEGORIES:Featured,Special Event
END:VEVENT
BEGIN:VEVENT
DTSTART;TZID=America/Los_Angeles:20230802T200000
DTEND;TZID=America/Los_Angeles:20230802T200000
DTSTAMP:20260425T044214
CREATED:20230730T213546Z
LAST-MODIFIED:20230731T210506Z
UID:10974-1691006400-1691006400@southsoundblues.org
SUMMARY:Acoustic Blues Showcase at McCurdy Pavilion\, Bobby Rush\, and Friends at Fort Worden State Park
DESCRIPTION:Acoustic Blues Showcase at McCurdy Pavilion\, Featuring Bobby Rush\, and friends\, August 2nd\, 8 pm                              Fort Worden State Park\n$30. Tickets call: (800) 746-1982 or online: Centrum.org
URL:https://southsoundblues.org/event/acoustic-blues-showcase-at-mccurdy-pavilion-fort-worden-state-park/
LOCATION:Fort Worden State Park\, 200 Battery Way\, Port Townsend\, WA\, 98368
CATEGORIES:Featured,Local South Sound Blues
END:VEVENT
BEGIN:VEVENT
DTSTART;TZID=America/Los_Angeles:20230803T140000
DTEND;TZID=America/Los_Angeles:20230803T160000
DTSTAMP:20260425T044214
CREATED:20230711T222529Z
LAST-MODIFIED:20230711T222529Z
UID:10844-1691071200-1691078400@southsoundblues.org
SUMMARY:Ross Robinson at the Union City Market\, Union\, WA
DESCRIPTION:Ross Robinson at the Union City Market\, Hood Canal marina\, August 3rd\, 2-4 pm\n\nUnion City Market\, 5101 E State Route 106\, Union\, Wa.
URL:https://southsoundblues.org/event/ross-robinson-at-the-union-city-market-union-wa/
LOCATION:Hood Canal Marina\, 5101 E State Route 106\, Union\, WA\, 98592
CATEGORIES:Featured
END:VEVENT
BEGIN:VEVENT
DTSTART;TZID=America/Los_Angeles:20230803T180000
DTEND;TZID=America/Los_Angeles:20230803T193000
DTSTAMP:20260425T044214
CREATED:20230731T225115Z
LAST-MODIFIED:20230731T225115Z
UID:11011-1691085600-1691091000@southsoundblues.org
SUMMARY:Michele D'Amour and the Love Dealers at Si View Summer Concerts stage\, North Bend
DESCRIPTION:Thursday\, August 3rd – Si View Summer Concerts\, 6:00 to 7:30 p.m.\, North Bend\n \n  \nSi View Park in North Bend\, 400 SE Orchard Drive
URL:https://southsoundblues.org/event/michele-damour-and-the-love-dealers-at-si-view-summer-concerts-stage-north-bend/
LOCATION:Si View Metropolitan Park\, 400 SE Orchard Drive\, North Bend\, WA\, 98045
CATEGORIES:Featured
END:VEVENT
BEGIN:VEVENT
DTSTART;TZID=America/Los_Angeles:20230805T180000
DTEND;TZID=America/Los_Angeles:20230805T200000
DTSTAMP:20260425T044214
CREATED:20230711T222919Z
LAST-MODIFIED:20230711T222919Z
UID:10847-1691258400-1691265600@southsoundblues.org
SUMMARY:Ross Robinson at Anthony's Restaurant\, Port of Edmonds
DESCRIPTION:Ross Robinson at Anthony’s Restaurant\, Port of Edmonds\, August 5th\, 6-8 pm\n \n\nPort of Edmonds\, 458 Admiral Way\, Edmonds\, Wa
URL:https://southsoundblues.org/event/ross-robinson-at-anthonys-restaurant-port-of-edmonds-2/
LOCATION:Anthony’s Restaurant Edmonds\, 456 Admiral Way\, Edmonds\, WA\, 98020
CATEGORIES:Featured
END:VEVENT
BEGIN:VEVENT
DTSTART;TZID=America/Los_Angeles:20230805T190000
DTEND;TZID=America/Los_Angeles:20230805T190000
DTSTAMP:20260425T044214
CREATED:20230731T224443Z
LAST-MODIFIED:20230731T224443Z
UID:11009-1691262000-1691262000@southsoundblues.org
SUMMARY:Evergreen Playboys at The Spar
DESCRIPTION:Saturday\, Aug 5th – Evergreen Playboys – The Spar – 7pm
URL:https://southsoundblues.org/event/evergreen-playboys-at-the-spar/
LOCATION:The Spar\, 2121 N 30th St\, Tacoma\, WA\, 98403
CATEGORIES:Featured
END:VEVENT
BEGIN:VEVENT
DTSTART;TZID=America/Los_Angeles:20230805T200000
DTEND;TZID=America/Los_Angeles:20230805T230000
DTSTAMP:20260425T044214
CREATED:20230724T213100Z
LAST-MODIFIED:20230724T213122Z
UID:10963-1691265600-1691276400@southsoundblues.org
SUMMARY:Joel Astley Band at the Conway Muse
DESCRIPTION:August 5th\, The Joel Astley Band – 8pm at the Conway Muse\nThe multi-award-winning Joel Astley Band returns to the Conway Muse. Joel lays down great music with his killer band.  See why this band has rocketed to the top! Advanced Tickets $17.50 (Click on Green Ticket Link) Day of show $20.00 \n\nhttps://conwaymuse.com/#event=76810120;instance=20230805200000?popup=1
URL:https://southsoundblues.org/event/joel-astley-band-at-the-conway-muse/
LOCATION:Conway Muse\, 18444 Spruce St\, Conway\, WA\, 98238
CATEGORIES:Featured
END:VEVENT
BEGIN:VEVENT
DTSTART;TZID=America/Los_Angeles:20230805T200000
DTEND;TZID=America/Los_Angeles:20230805T230000
DTSTAMP:20260425T044214
CREATED:20230731T225614Z
LAST-MODIFIED:20230731T225614Z
UID:11013-1691265600-1691276400@southsoundblues.org
SUMMARY:Michele D'Amour & The Love Dealers at the Salmon Bay Eagles\, Ballard 
DESCRIPTION:Michele D’Amour & the Love Dealers\, August 5th at the Salmon Bay Eagles\, 8-11 pm\, Ballard
URL:https://southsoundblues.org/event/michele-damour-the-love-dealers-at-the-salmon-bay-eagles-ballard/
LOCATION:Salmon Bay Eagles\, 5216 20th Ave NW\, Seattle\, WA\, 98107
CATEGORIES:Featured
END:VEVENT
BEGIN:VEVENT
DTSTART;TZID=America/Los_Angeles:20230809T180000
DTEND;TZID=America/Los_Angeles:20230809T210000
DTSTAMP:20260425T044214
CREATED:20230717T001617Z
LAST-MODIFIED:20230717T001617Z
UID:10891-1691604000-1691614800@southsoundblues.org
SUMMARY:GO Four at The Spar
DESCRIPTION:Wednesday\, August 9th – GO Four – The Spar 6-9pm
URL:https://southsoundblues.org/event/go-four-at-the-spar/
LOCATION:The Spar\, 2121 N 30th St\, Tacoma\, WA\, 98403
CATEGORIES:Featured
END:VEVENT
BEGIN:VEVENT
DTSTART;TZID=America/Los_Angeles:20230811T183000
DTEND;TZID=America/Los_Angeles:20230811T210000
DTSTAMP:20260425T044214
CREATED:20230731T230052Z
LAST-MODIFIED:20230731T230052Z
UID:11015-1691778600-1691787600@southsoundblues.org
SUMMARY:Michele D'Amour & The Love Dealers at the Sheridan Market\, Lake Forest Park
DESCRIPTION:Michele D’Amour & The Love Dealers\, Friday\, August 11th at the Sheridan Market\, 6:30 to 9 p.m.\, 15348 Bothell Way NE\, Lake Forest Park 
URL:https://southsoundblues.org/event/michele-damour-the-love-dealers-at-the-sheridan-market-lake-forest-park/
LOCATION:Sheridan Market\, 15348 Bothell Way NE\, Lake Forest Park\, WA\, 98155
CATEGORIES:Featured
END:VEVENT
BEGIN:VEVENT
DTSTART;TZID=America/Los_Angeles:20230812T123000
DTEND;TZID=America/Los_Angeles:20230812T150000
DTSTAMP:20260425T044214
CREATED:20230711T223345Z
LAST-MODIFIED:20230711T223345Z
UID:10849-1691843400-1691852400@southsoundblues.org
SUMMARY:Ross Robinson at the Tenino Arts Street Fair
DESCRIPTION:Ross Robinson at the Tenino Arts Street Fair\, August 12th\, 12:30- 3pm\n\nTenino Creative Arts Fair\, Olympic Ave and Sussex Ave \, Tenino\, Wa
URL:https://southsoundblues.org/event/ross-robinson-at-the-tenino-arts-street-fair-2/
LOCATION:Tenino Arts Creative Market\, Sussex and Olympia St N\, Tenino\, WA\, 98589
CATEGORIES:Featured
END:VEVENT
BEGIN:VEVENT
DTSTART;TZID=America/Los_Angeles:20230812T190000
DTEND;TZID=America/Los_Angeles:20230812T190000
DTSTAMP:20260425T044214
CREATED:20230731T224301Z
LAST-MODIFIED:20230731T224301Z
UID:11007-1691866800-1691866800@southsoundblues.org
SUMMARY:Tim Cox Band at The Spar
DESCRIPTION:Saturday\, Aug 12th – Tim Cox Band – The Spar – 7pm
URL:https://southsoundblues.org/event/tim-cox-band-at-the-spar-2/
LOCATION:The Spar\, 2121 N 30th St\, Tacoma\, WA\, 98403
CATEGORIES:Featured
END:VEVENT
BEGIN:VEVENT
DTSTART;TZID=America/Los_Angeles:20230816T190000
DTEND;TZID=America/Los_Angeles:20230816T190000
DTSTAMP:20260425T044214
CREATED:20230731T215617Z
LAST-MODIFIED:20230731T215633Z
UID:10980-1692212400-1692212400@southsoundblues.org
SUMMARY:Butch Harrison & Friends at The Spar
DESCRIPTION:Wednesday\, Aug 16th – Butch Harrison & Friends – The Spar – 7pm
URL:https://southsoundblues.org/event/butch-harrison-friends-at-the-spar/
LOCATION:The Spar\, 2121 N 30th St\, Tacoma\, WA\, 98403
CATEGORIES:Featured
END:VEVENT
BEGIN:VEVENT
DTSTART;TZID=America/Los_Angeles:20230817T190000
DTEND;TZID=America/Los_Angeles:20230817T190000
DTSTAMP:20260425T044214
CREATED:20230716T224918Z
LAST-MODIFIED:20230716T225928Z
UID:10868-1692298800-1692298800@southsoundblues.org
SUMMARY:The "Blue Tide" at the Fiddler's Inn
DESCRIPTION:The “Blue Tide” at the Fiddler’s Inn August 17th\, 7pm.\n\nLifelong friends Daniel Rapport and Jesse Hagopian have been playing music together since childhood. Their shared interest in blues brought them together for their first band while attending Garfield High School: The Blue Tide. Over the years they have refined and distilled their sound to a duo of acoustic guitar and harmonica. Using a palette of traditional blues as the backdrop for their sound\, they incorporate contemporary influences and sound to bring about something new\, yet still gritty and familiar. Their new EP titled “Te Tranble” features an original composition inspired by Jesse Haopgian’s real life experience of surviving the Haiti earthquake of 2010.\n\nFiddlers Inn\, 9219 35th Ave NE\, Seattle\, WA
URL:https://southsoundblues.org/event/the-blue-tide-at-the-fiddlers-inn/
LOCATION:Fiddler’s Inn\, 9219 35th Ave NE\, Seattle\, WA\, 98115
CATEGORIES:Featured
END:VEVENT
BEGIN:VEVENT
DTSTART;TZID=America/Los_Angeles:20230818T190000
DTEND;TZID=America/Los_Angeles:20230818T210000
DTSTAMP:20260425T044214
CREATED:20230724T221734Z
LAST-MODIFIED:20230724T221734Z
UID:10969-1692385200-1692392400@southsoundblues.org
SUMMARY:The Tim Cox Band at Kimball Coffee House\, Gig Harbor
DESCRIPTION:The Tim Cox Band at Kimball Coffee House\, August 18th\, 7-9 pm
URL:https://southsoundblues.org/event/the-tim-cox-band-at-kimball-coffee-house-gig-harbor/
LOCATION:Kimball’s Coffeehouse\, 6659 Kimball Dr\, Gig Harbor\, WA\, 98335
CATEGORIES:Featured
END:VEVENT
BEGIN:VEVENT
DTSTART;TZID=America/Los_Angeles:20230819T200000
DTEND;TZID=America/Los_Angeles:20230819T200000
DTSTAMP:20260425T044214
CREATED:20230731T220005Z
LAST-MODIFIED:20230731T220005Z
UID:10983-1692475200-1692475200@southsoundblues.org
SUMMARY:Mark DuFresne Band featuring Billy Stapleton at the Easy Monkey Taphouse\, Shoreline
DESCRIPTION:Saturday\, Aug 19th – Mark DuFresne Band featuring Billy Stapleton – Easy Monkey Taphouse\, Shoreline – 8pm
URL:https://southsoundblues.org/event/mark-dufresne-band-featuring-billy-stapleton-at-the-easy-monkey-taphouse-shoreline/
LOCATION:Easy Monkey Taphouse\, 17537 15th Ave NE Suite B\, Shoreline\, WA\, 98155
CATEGORIES:Featured
END:VEVENT
END:VCALENDAR