BEGIN:VCALENDAR
VERSION:2.0
PRODID:-//South Sound Blues Association - ECPv6.15.18//NONSGML v1.0//EN
CALSCALE:GREGORIAN
METHOD:PUBLISH
X-ORIGINAL-URL:https://southsoundblues.org
X-WR-CALDESC:Events for South Sound Blues Association
REFRESH-INTERVAL;VALUE=DURATION:PT1H
X-Robots-Tag:noindex
X-PUBLISHED-TTL:PT1H
BEGIN:VTIMEZONE
TZID:America/Los_Angeles
BEGIN:DAYLIGHT
TZOFFSETFROM:-0800
TZOFFSETTO:-0700
TZNAME:PDT
DTSTART:20220313T100000
END:DAYLIGHT
BEGIN:STANDARD
TZOFFSETFROM:-0700
TZOFFSETTO:-0800
TZNAME:PST
DTSTART:20221106T090000
END:STANDARD
BEGIN:DAYLIGHT
TZOFFSETFROM:-0800
TZOFFSETTO:-0700
TZNAME:PDT
DTSTART:20230312T100000
END:DAYLIGHT
BEGIN:STANDARD
TZOFFSETFROM:-0700
TZOFFSETTO:-0800
TZNAME:PST
DTSTART:20231105T090000
END:STANDARD
BEGIN:DAYLIGHT
TZOFFSETFROM:-0800
TZOFFSETTO:-0700
TZNAME:PDT
DTSTART:20240310T100000
END:DAYLIGHT
BEGIN:STANDARD
TZOFFSETFROM:-0700
TZOFFSETTO:-0800
TZNAME:PST
DTSTART:20241103T090000
END:STANDARD
END:VTIMEZONE
BEGIN:VEVENT
DTSTART;TZID=America/Los_Angeles:20230428T183000
DTEND;TZID=America/Los_Angeles:20230428T210000
DTSTAMP:20260425T075435
CREATED:20230331T202334Z
LAST-MODIFIED:20230331T202529Z
UID:10095-1682706600-1682715600@southsoundblues.org
SUMMARY:Michele's D'Amour Birthday "pre-funk" at Sheridan Market & Roadhouse\, Lake Forest Park
DESCRIPTION:Friday\, April 28th – Michele’s D’Amour birthday pre-funk at Sheridan Market\, Lake Forest Park\, WA\, 6:30 to 9:00 p.m. \n  \nSheridan Market & Roadhouse                                                                                                                                                                                                                                                   15348 Bothell Way NE\nLake Forest Park WA 98155 \nPhone\n206.550.4879 \nEmail\nSheridanMkt@gmail.com \nThey serve food\, beer\, and wine \n 
URL:https://southsoundblues.org/event/micheles-damour-birthday-pre-funk-at-sheridan-market-lake-forest-park/
LOCATION:Sheridan Market\, 15348 Bothell Way NE\, Lake Forest Park\, WA\, 98155
CATEGORIES:Featured
END:VEVENT
BEGIN:VEVENT
DTSTART;TZID=America/Los_Angeles:20230428T190000
DTEND;TZID=America/Los_Angeles:20230428T210000
DTSTAMP:20260425T075435
CREATED:20230323T004140Z
LAST-MODIFIED:20230421T220337Z
UID:10044-1682708400-1682715600@southsoundblues.org
SUMMARY:Polly O'Keary & The Rhythm Method at Kimball Coffeehouse live music Friday
DESCRIPTION:Kimball Coffeehouse music Friday\, 7-9 pm\nApr28\n\nPolly O’Keary and The Rhythm Method at Kimball Coffee House\n Kimball Coffeehouse – 6659 Kimball Drive\, Suit\n\nGreat local entertainment every Friday night at Kimball Coffeehouse in Gig Harbor
URL:https://southsoundblues.org/event/kimball-coffeehouse-live-music-friday/
LOCATION:Kimball’s Coffeehouse\, 6659 Kimball Dr\, Gig Harbor\, WA\, 98335
CATEGORIES:Featured
END:VEVENT
BEGIN:VEVENT
DTSTART;TZID=America/Los_Angeles:20230428T200000
DTEND;TZID=America/Los_Angeles:20230428T200000
DTSTAMP:20260425T075435
CREATED:20230408T205349Z
LAST-MODIFIED:20230408T205349Z
UID:10124-1682712000-1682712000@southsoundblues.org
SUMMARY:Octopus Ballet at BELLA FEMMINA\, Gig Harbor
DESCRIPTION:Octopus Ballet\, April 28th\, 8:00pm\, at BELLA FEMMINA\, Gig Harbor\, WA
URL:https://southsoundblues.org/event/octopus-ballet-at-bella-femmina-gig-harbor/
LOCATION:Belle Femmina\, 3110 Harborview Dr\, Gig Harbor\, WA\, 98335 
CATEGORIES:Featured
END:VEVENT
BEGIN:VEVENT
DTSTART;TZID=America/Los_Angeles:20230505T190000
DTEND;TZID=America/Los_Angeles:20230505T190000
DTSTAMP:20260425T075435
CREATED:20230422T014347Z
LAST-MODIFIED:20230422T014347Z
UID:10272-1683313200-1683313200@southsoundblues.org
SUMMARY:Max Renshaw at the Black Angus\, Puyallup
DESCRIPTION:Fri\, May 5th at the Black Angus\, Puyallup: Max Renshaw Solo 7pm\n 
URL:https://southsoundblues.org/event/max-renshaw-at-the-black-angus-puyallup-2/
LOCATION:Black Angus\, Puyallup\, 203 35th Ave SE\, Puyallup\, WA\, 98374
CATEGORIES:Featured
END:VEVENT
BEGIN:VEVENT
DTSTART;TZID=America/Los_Angeles:20230510T180000
DTEND;TZID=America/Los_Angeles:20230510T180000
DTSTAMP:20260425T075435
CREATED:20230422T012659Z
LAST-MODIFIED:20230422T012659Z
UID:10264-1683741600-1683741600@southsoundblues.org
SUMMARY:Velocity at the Spar
DESCRIPTION:Wed\, May 10th at the Spar\, Velocity 6pm
URL:https://southsoundblues.org/event/velocity-at-the-spar-2/
LOCATION:The Spar\, 2121 N 30th St\, Tacoma\, WA\, 98403
CATEGORIES:Featured
END:VEVENT
BEGIN:VEVENT
DTSTART;TZID=America/Los_Angeles:20230512T183000
DTEND;TZID=America/Los_Angeles:20230512T203000
DTSTAMP:20260425T075435
CREATED:20230202T020933Z
LAST-MODIFIED:20230202T021001Z
UID:9781-1683916200-1683923400@southsoundblues.org
SUMMARY:Michele D'Amour & The Love Dealers at the Olalla Vineyard
DESCRIPTION:Michele D’Amour & The Love Dealers at the Olalla Vineyard\, May 12th\, 6:30 to 8:30 p.m.\n \n\n\n\n\nOlalla Vineyard\, 13176 Olalla Valley Rd SE\, Olalla\, WA 98359
URL:https://southsoundblues.org/event/michele-damour-the-love-dealers-at-the-olalla-vineyard/
LOCATION:Olalla Vinyard\, 13176 Olalla Valley Rd SE\, Olalla\, WA\, 98359
CATEGORIES:Featured
END:VEVENT
BEGIN:VEVENT
DTSTART;TZID=America/Los_Angeles:20230512T190000
DTEND;TZID=America/Los_Angeles:20230512T190000
DTSTAMP:20260425T075435
CREATED:20230422T014035Z
LAST-MODIFIED:20230422T014035Z
UID:10270-1683918000-1683918000@southsoundblues.org
SUMMARY:Daniel Pellegrini at the Black Angus\, Puyallup
DESCRIPTION:Fri\, May 12th at the Black Angus\, Puyallup: Daniel Pellegrini 7pm\n 
URL:https://southsoundblues.org/event/daniel-pellegrini-at-the-black-angus-puyallup/
LOCATION:Black Angus\, Puyallup\, 203 35th Ave SE\, Puyallup\, WA\, 98374
CATEGORIES:Featured
END:VEVENT
BEGIN:VEVENT
DTSTART;TZID=America/Los_Angeles:20230513T200000
DTEND;TZID=America/Los_Angeles:20230513T220000
DTSTAMP:20260425T075435
CREATED:20230127T070316Z
LAST-MODIFIED:20230127T070316Z
UID:9676-1684008000-1684015200@southsoundblues.org
SUMMARY:King Kom Beaux at the Mill\, SSBA blues series
DESCRIPTION:King Kom Beaux at the Mill\, May 13th\, 8-10 pm
URL:https://southsoundblues.org/event/king-kom-beaux-at-the-mill-ssba-blues-series/
LOCATION:The Mill of Milton\, 900 Meridian E. #50\, Milton\, WA\, 98354
CATEGORIES:Featured,Local South Sound Blues
END:VEVENT
BEGIN:VEVENT
DTSTART;TZID=America/Los_Angeles:20230517T180000
DTEND;TZID=America/Los_Angeles:20230517T180000
DTSTAMP:20260425T075435
CREATED:20230422T014835Z
LAST-MODIFIED:20230422T014835Z
UID:10274-1684346400-1684346400@southsoundblues.org
SUMMARY:Apollo Suns at the Spar
DESCRIPTION:Wed\, May 17th at The Spar\, Apollo Suns\, from Canada\, 6pm
URL:https://southsoundblues.org/event/apollo-suns-at-the-spar/
LOCATION:The Spar\, 2121 N 30th St\, Tacoma\, WA\, 98403
CATEGORIES:Featured
END:VEVENT
BEGIN:VEVENT
DTSTART;TZID=America/Los_Angeles:20230525T180000
DTEND;TZID=America/Los_Angeles:20230525T220000
DTSTAMP:20260425T075435
CREATED:20230211T232351Z
LAST-MODIFIED:20230518T071105Z
UID:9885-1685037600-1685052000@southsoundblues.org
SUMMARY:Portland Blues Showcase at West of the Waterway
DESCRIPTION:Karen Lovely and Ben Rice\, as well as Jason JT Thomas & Dave Melyan at West of the Waterway in Tacoma WA on Thursday\, May 25th for our Portland Blues Showcase!\nLTD Presents LIVE is proud to present: Lisa Mann’s Portland Blues Showcase feat. Karen Lovely & Ben Rice at West of the Waterway *Sponsored by SSBA and Kat McNeill & Lance Bowman* \n\n\nGrab up some advance tickets\, VIP seating is available:     https://lisamannsportlandbluesrev.rsvpify.com\n\n\n\nLisa Mann\, two-time Blues Music Award-winning bass player and 2021’s Unsigned Only Blues songwriting winner (for “It’s the Monkeys or Me” )\, will bring some of the brightest lights in the Portland Blues scene to Tacoma for ONE NIGHT ONLY!!! In addition to Lisa\, the featured artists are: \nKaren Lovely\, nominated multiple times for Contemporary Female Blues Artist in the Blues Music Awards\, and called “a first class vocalist” by Art Tipaldi of Blues Revue\, \nAND \nBen Rice\, also a multiple-time Blues Music Awards nominee\, and in 2015\, winner of Best Guitarist at the International Blues Challenge. When not working with the Portland Blues Showcase\, Ben also leads his one six piece band\, Ben Rice and the Hustle\, and appears as a special guest with Curtis Salgado. Ben and his trio opened for ZZ Top on their most recent PNW tour. \nThis powerful Northwest crew has taken on crowds all over the American West to Europe\, delivering electrifying blues and roots music everywhere they go. Lisa\, Karen and Ben will be joined by Jason “JT” Thomas\, a Cascade Blues Association nominee for Guitar Player of the Year and Dave Melyan\, the highly sought-after drummer perhaps best known for his work with Portland favorites The Insomniacs\, among many others. \nThese five are the cream of the crop of Portland’s blues scene. We are honored to welcome them all to Tacoma on May 25. It’s going to be an incredible show!
URL:https://southsoundblues.org/event/portland-blues-showcase-at-west-of-the-waterway/
LOCATION:Dock Street Deli West of the Waterway\, 1901 Dock Street\, Tacoma\, WA\, 98402
CATEGORIES:Featured,Local South Sound Blues,Special Event
END:VEVENT
BEGIN:VEVENT
DTSTART;TZID=America/Los_Angeles:20230526T190000
DTEND;TZID=America/Los_Angeles:20230526T210000
DTSTAMP:20260425T075435
CREATED:20230429T203333Z
LAST-MODIFIED:20230518T073305Z
UID:10309-1685127600-1685134800@southsoundblues.org
SUMMARY:Kimball Coffee House Live music Fridays with The T-Town Aces
DESCRIPTION:T-Town Aces are playing the Kimball Coffeehouse in Gig Harbor on May 26th\, 7-9 pm.
URL:https://southsoundblues.org/event/kimball-coffee-house-live-music-fridays/
LOCATION:Kimball’s Coffeehouse\, 6659 Kimball Dr\, Gig Harbor\, WA\, 98335
CATEGORIES:Featured
END:VEVENT
BEGIN:VEVENT
DTSTART;TZID=America/Los_Angeles:20230529T140000
DTEND;TZID=America/Los_Angeles:20230529T160000
DTSTAMP:20260425T075435
CREATED:20230328T010052Z
LAST-MODIFIED:20230328T010052Z
UID:10079-1685368800-1685376000@southsoundblues.org
SUMMARY:Ross Robinson at the Union City Market
DESCRIPTION:Ross Robinson at the Union City Market\, May 29th\, 2-4 pm\n \n5101 E State Rte 106\, Union Wa
URL:https://southsoundblues.org/event/ross-robinson-at-the-union-city-market-2/
LOCATION:Union City Market\, 5101 Wa-106\, Union\, WA\, 98592
CATEGORIES:Featured
END:VEVENT
BEGIN:VEVENT
DTSTART;TZID=America/Los_Angeles:20230602T190000
DTEND;TZID=America/Los_Angeles:20230602T190000
DTSTAMP:20260425T075435
CREATED:20230422T015200Z
LAST-MODIFIED:20230422T015200Z
UID:10276-1685732400-1685732400@southsoundblues.org
SUMMARY:Michael Powers at the Black Angus\, Puyallup
DESCRIPTION:Fri\, Jun 2nd at the Black Angus\, Puyallup: Michael Powers 7pm\n 
URL:https://southsoundblues.org/event/michael-powers-at-the-black-angus-puyallup/
LOCATION:Black Angus\, Puyallup\, 203 35th Ave SE\, Puyallup\, WA\, 98374
CATEGORIES:Featured
END:VEVENT
BEGIN:VEVENT
DTSTART;TZID=America/Los_Angeles:20230609T190000
DTEND;TZID=America/Los_Angeles:20230609T210000
DTSTAMP:20260425T075435
CREATED:20230531T060128Z
LAST-MODIFIED:20230531T060128Z
UID:10547-1686337200-1686344400@southsoundblues.org
SUMMARY:Michele D'Amour & The Love Dealers at Third Place Commons\, Bothell
DESCRIPTION:Michele D’Amour & The Love Dealers\, Friday\, June 9 – Third Place Commons\, 7 to 8:45 p.m.\, 17171 Bothell Way\, Bothell (Lake Forest Park)\, WA
URL:https://southsoundblues.org/event/michele-damour-the-love-dealers-at-third-place-commons-bothell/
LOCATION:Third Place Commons\, 17171 Bothell Way NE\, Lake Forest Park\, WA\, 98155
CATEGORIES:Featured
END:VEVENT
BEGIN:VEVENT
DTSTART;TZID=America/Los_Angeles:20230609T200000
DTEND;TZID=America/Los_Angeles:20230609T220000
DTSTAMP:20260425T075435
CREATED:20230508T221318Z
LAST-MODIFIED:20230508T221318Z
UID:10370-1686340800-1686348000@southsoundblues.org
SUMMARY:Stevie & The Blue Flames at the Salmon Bay Eagles
DESCRIPTION:Stevie & The Blue Flames at the Salmon Bay Eagles\, 8 pm\n Steve Bailey
URL:https://southsoundblues.org/event/stevie-the-blue-flames-at-the-salmon-bay-eagles/
LOCATION:Salmon Bay Eagles\, 5216 20th Ave NW\, Seattle\, WA\, 98107
CATEGORIES:Featured
END:VEVENT
BEGIN:VEVENT
DTSTART;TZID=America/Los_Angeles:20230610T190000
DTEND;TZID=America/Los_Angeles:20230610T220000
DTSTAMP:20260425T075435
CREATED:20230421T064345Z
LAST-MODIFIED:20230421T064345Z
UID:10228-1686423600-1686434400@southsoundblues.org
SUMMARY:Jim Valley Project at the Spar
DESCRIPTION:Sat\, Jun 10th. The Spar\, Tacoma: Jim Valley Project 7pm
URL:https://southsoundblues.org/event/jim-valley-project-at-the-spar-2/
LOCATION:The Spar\, 2121 N 30th St\, Tacoma\, WA\, 98403
CATEGORIES:Featured
END:VEVENT
BEGIN:VEVENT
DTSTART;TZID=America/Los_Angeles:20230610T200000
DTEND;TZID=America/Los_Angeles:20230610T223000
DTSTAMP:20260425T075435
CREATED:20230421T061331Z
LAST-MODIFIED:20230421T061331Z
UID:10211-1686427200-1686436200@southsoundblues.org
SUMMARY:Mark DuFresne Band at the Easy Monkey Taphouse
DESCRIPTION:Sat\, Jun 10th. Easy Monkey Taphouse\, Shoreline: Mark DuFresne Band feat. Billy Stapleton 8pm
URL:https://southsoundblues.org/event/mark-dufresne-band-at-the-easy-monkey-taphouse-3/
LOCATION:Easy Monkey Taphouse\, 17537 15th Ave NE Suite B\, Shoreline\, WA\, 98155
CATEGORIES:Featured
END:VEVENT
BEGIN:VEVENT
DTSTART;TZID=America/Los_Angeles:20230616T170000
DTEND;TZID=America/Los_Angeles:20230616T170000
DTSTAMP:20260425T075435
CREATED:20230421T062004Z
LAST-MODIFIED:20230421T062004Z
UID:10213-1686934800-1686934800@southsoundblues.org
SUMMARY:Billy Stapleton's POWERHOUSE at Bertelson Winery
DESCRIPTION:Fri\, Jun 16th. Bertelson Winery\, Mt. Vernon: Billy Stapleton’s POWERHOUSE\, 5pm
URL:https://southsoundblues.org/event/billy-stapletons-powerhouse-at-bertelson-winery/
LOCATION:Bertelson Winery\, 20598 Starbird Rd\, Mount Vernon\, WA\, 98274
CATEGORIES:Featured
END:VEVENT
BEGIN:VEVENT
DTSTART;TZID=America/Los_Angeles:20230617T193000
DTEND;TZID=America/Los_Angeles:20230617T220000
DTSTAMP:20260425T075435
CREATED:20230508T221720Z
LAST-MODIFIED:20230508T221720Z
UID:10372-1687030200-1687039200@southsoundblues.org
SUMMARY:Stevie & The Blue Flames at the Rockfish Grill\, Anacortes
DESCRIPTION:Stevie & The Blue Flames at the Rockfish Grill & Brewery\, 7:30 pm\n Steve Bailey \n 
URL:https://southsoundblues.org/event/stevie-the-blue-flames-at-the-rockfish-grill-anacortes/
LOCATION:Rockfish Grill & Brewery\, 320 Commercial Ave\, Anacortes\, WA\, 98221
CATEGORIES:Featured
END:VEVENT
BEGIN:VEVENT
DTSTART;TZID=America/Los_Angeles:20230621T180000
DTEND;TZID=America/Los_Angeles:20230621T180000
DTSTAMP:20260425T075435
CREATED:20230422T015857Z
LAST-MODIFIED:20230422T015857Z
UID:10280-1687370400-1687370400@southsoundblues.org
SUMMARY:All Funk 'n Games at the Spar
DESCRIPTION:Wed\, Jun 21st at The Spar\, All Funk ‘n Games\, 6pm
URL:https://southsoundblues.org/event/all-funk-n-games-at-the-spar-4/
LOCATION:The Spar\, 2121 N 30th St\, Tacoma\, WA\, 98403
CATEGORIES:Featured
END:VEVENT
BEGIN:VEVENT
DTSTART;TZID=America/Los_Angeles:20230622T200000
DTEND;TZID=America/Los_Angeles:20230622T200000
DTSTAMP:20260425T075435
CREATED:20230620T203009Z
LAST-MODIFIED:20230620T203009Z
UID:10688-1687464000-1687464000@southsoundblues.org
SUMMARY:CD Woodbury Band at the Salmon Bay Eagles
DESCRIPTION:CD Woodbury Band at the Salmon Bay Eagles 8pm
URL:https://southsoundblues.org/event/cd-woodbury-band-at-the-salmon-bay-eagles/
LOCATION:Salmon Bay Eagles\, 5216 20th Ave NW\, Seattle\, WA\, 98107
CATEGORIES:Featured
END:VEVENT
BEGIN:VEVENT
DTSTART;TZID=America/Los_Angeles:20230623T180000
DTEND;TZID=America/Los_Angeles:20230623T180000
DTSTAMP:20260425T075435
CREATED:20230512T015654Z
LAST-MODIFIED:20230512T015654Z
UID:10424-1687543200-1687543200@southsoundblues.org
SUMMARY:Taj Mahal Quartet and Los Lobos at the Chateau Ste Michelle Amphitheatre
DESCRIPTION:Taj Mahal Quartet and Los Lobos\n\nChateau Ste Michelle Amphitheatre\nJune 23rd\, 2023\n\n\n\n\n\nWith Very Special Guest North Mississippi Allstars \nShow starts at 6:30pm\nGates will open approximately 2 hours before scheduled start \nReserve: Starting at $99.50\nGeneral Admission: Starting at $69.50 \nTickets on sale Monday\, April 3\, 2023 at 10:00am PT. Visit www.ticketmaster.com to purchase.
URL:https://southsoundblues.org/event/taj-mahal-quartet-and-los-lobos-at-the-chateau-ste-michelle-amphitheatre/
LOCATION:Chateau Ste. Michelle Winery\, 14111 NE 145th St\, Woodinville\, WA\, 98072
CATEGORIES:Featured,Special Event
END:VEVENT
BEGIN:VEVENT
DTSTART;TZID=America/Los_Angeles:20230624T190000
DTEND;TZID=America/Los_Angeles:20230624T220000
DTSTAMP:20260425T075435
CREATED:20230421T064140Z
LAST-MODIFIED:20230421T064140Z
UID:10226-1687633200-1687644000@southsoundblues.org
SUMMARY:Trailer Park Kings at the Spar
DESCRIPTION:Sat\, Jun 24th. The Spar\, Tacoma: Trailer Park Kings 7pm\n \n 
URL:https://southsoundblues.org/event/trailer-park-kings-at-the-spar-5/
LOCATION:The Spar\, 2121 N 30th St\, Tacoma\, WA\, 98403
CATEGORIES:Featured
END:VEVENT
BEGIN:VEVENT
DTSTART;TZID=America/Los_Angeles:20230624T200000
DTEND;TZID=America/Los_Angeles:20230624T200000
DTSTAMP:20260425T075435
CREATED:20230421T063142Z
LAST-MODIFIED:20230421T063142Z
UID:10220-1687636800-1687636800@southsoundblues.org
SUMMARY:Billy Stapleton's POWERHOUSE at the Easy Monkey Taphouse
DESCRIPTION:Jun 24th. Easy Monkey Taphouse\, Shoreline: Billy Stapleton’s POWERHOUSE\, 8pm
URL:https://southsoundblues.org/event/billy-stapletons-powerhouse-at-the-easy-monkey-taphouse-3/
LOCATION:Easy Monkey Taphouse\, 17537 15th Ave NE Suite B\, Shoreline\, WA\, 98155
CATEGORIES:Featured
END:VEVENT
BEGIN:VEVENT
DTSTART;TZID=America/Los_Angeles:20230627T190000
DTEND;TZID=America/Los_Angeles:20230627T190000
DTSTAMP:20260425T075435
CREATED:20230531T214454Z
LAST-MODIFIED:20230531T214639Z
UID:10598-1687892400-1687892400@southsoundblues.org
SUMMARY:Mark Hurwitz & Gin Creek at the Washington Blues Society Blues Bash
DESCRIPTION:Mark Hurwitz & Gin Creek and Acoustic Avenue at the WBS Blues Bash June 27th\, Collectors Choice Restaurant\n 215 Cypress Ave\, Snohomish\, WA 98290\, 7-9:30 pm\, no cover\, 21+ 
URL:https://southsoundblues.org/event/mark-hurwitz-gin-creek-at-the-washington-blues-society-blues-bash/
LOCATION:Collectors Choice Restaurant\, 215 Cypress Ave\, Snohomish\, WA\, 98290
CATEGORIES:Featured
END:VEVENT
BEGIN:VEVENT
DTSTART;TZID=America/Los_Angeles:20230628T180000
DTEND;TZID=America/Los_Angeles:20230628T200000
DTSTAMP:20260425T075435
CREATED:20230619T213805Z
LAST-MODIFIED:20230619T215726Z
UID:10655-1687975200-1687982400@southsoundblues.org
SUMMARY:The Spin-Offs at 'Concerts on the Pier\, Port Angeles
DESCRIPTION:June 28th\, 6-8 pm Concerts on the Pier\, City Pier Stage\, 315 N. Lincoln St.\, Port Angeles\, WA\n \n98362 \nPhone: 360-457-0411\nEmail Us\nMore contact info >
URL:https://southsoundblues.org/event/the-spin-offs-at-concerts-on-the-pier-port-angeles/
LOCATION:Port Angeles City Pier Stage\, 315 N. Lincoln St.\, Port Angeles\, WA\, 98362
CATEGORIES:Featured
END:VEVENT
BEGIN:VEVENT
DTSTART;TZID=America/Los_Angeles:20230630T170000
DTEND;TZID=America/Los_Angeles:20230630T200000
DTSTAMP:20260425T075435
CREATED:20230628T202825Z
LAST-MODIFIED:20230628T202825Z
UID:10747-1688144400-1688155200@southsoundblues.org
SUMMARY:CD Woodbury Trio at Marrowstone Vinyards\, Nordland
DESCRIPTION:CD Woodbury Trio at Marrowstone Vinyards June 30th\, 5pm\n\nMarrowstone Vinyards\, 423 Meade Rd\, Nordland\, WA 98358
URL:https://southsoundblues.org/event/cd-woodbury-trio-at-marrowstone-vinyards-nordland/
LOCATION:Marrowstone vinyards\, 423 Meade Rd\, Nordland\, WA\, 98358
CATEGORIES:Featured
END:VEVENT
BEGIN:VEVENT
DTSTART;TZID=America/Los_Angeles:20230630T200000
DTEND;TZID=America/Los_Angeles:20230630T230000
DTSTAMP:20260425T075435
CREATED:20230701T002031Z
LAST-MODIFIED:20230701T002138Z
UID:10797-1688155200-1688166000@southsoundblues.org
SUMMARY:Red House at Doc's Riverside Taphouse\, Snohomish
DESCRIPTION:Red House @ Doc’s Riverside Taphouse\, 8-11 pm
URL:https://southsoundblues.org/event/red-house-at-docs-riverside-taphouse-snohomish/
LOCATION:Doc’s Riverside Taphouse\, 1423 S Machias Rd\, Snohomish\,\, WA\, 98290
CATEGORIES:Featured
END:VEVENT
BEGIN:VEVENT
DTSTART;TZID=America/Los_Angeles:20230630T213000
DTEND;TZID=America/Los_Angeles:20230630T213000
DTSTAMP:20260425T075435
CREATED:20230421T063433Z
LAST-MODIFIED:20230421T063433Z
UID:10222-1688160600-1688160600@southsoundblues.org
SUMMARY:Billy Stapleton's POWERHOUSE at Bake's Place Bistro
DESCRIPTION:Fri\, Jun 30th. Bake’s Place Bistro\, Bellevue: Billy Stapleton’s POWERHOUSE Band 9:30pm
URL:https://southsoundblues.org/event/billy-stapletons-powerhouse-at-bakes-place-bistro/
LOCATION:Bake’s Place\, 155 108th Ave NE Ste 110\, Bellevue\, WA\, 98004
CATEGORIES:Featured
END:VEVENT
BEGIN:VEVENT
DTSTART;TZID=America/Los_Angeles:20230701T190000
DTEND;TZID=America/Los_Angeles:20230701T190000
DTSTAMP:20260425T075435
CREATED:20230531T210052Z
LAST-MODIFIED:20230531T210052Z
UID:10589-1688238000-1688238000@southsoundblues.org
SUMMARY:Los Orchids at the Spar
DESCRIPTION:Saturday July 1st – Los Orchids at the Spar\, 7pm
URL:https://southsoundblues.org/event/los-orchids-at-the-spar-2/
LOCATION:The Spar\, 2121 N 30th St\, Tacoma\, WA\, 98403
CATEGORIES:Featured
END:VEVENT
END:VCALENDAR