BEGIN:VCALENDAR
VERSION:2.0
PRODID:-//South Sound Blues Association - ECPv6.15.18//NONSGML v1.0//EN
CALSCALE:GREGORIAN
METHOD:PUBLISH
X-WR-CALNAME:South Sound Blues Association
X-ORIGINAL-URL:https://southsoundblues.org
X-WR-CALDESC:Events for South Sound Blues Association
REFRESH-INTERVAL;VALUE=DURATION:PT1H
X-Robots-Tag:noindex
X-PUBLISHED-TTL:PT1H
BEGIN:VTIMEZONE
TZID:America/Los_Angeles
BEGIN:DAYLIGHT
TZOFFSETFROM:-0800
TZOFFSETTO:-0700
TZNAME:PDT
DTSTART:20220313T100000
END:DAYLIGHT
BEGIN:STANDARD
TZOFFSETFROM:-0700
TZOFFSETTO:-0800
TZNAME:PST
DTSTART:20221106T090000
END:STANDARD
BEGIN:DAYLIGHT
TZOFFSETFROM:-0800
TZOFFSETTO:-0700
TZNAME:PDT
DTSTART:20230312T100000
END:DAYLIGHT
BEGIN:STANDARD
TZOFFSETFROM:-0700
TZOFFSETTO:-0800
TZNAME:PST
DTSTART:20231105T090000
END:STANDARD
BEGIN:DAYLIGHT
TZOFFSETFROM:-0800
TZOFFSETTO:-0700
TZNAME:PDT
DTSTART:20240310T100000
END:DAYLIGHT
BEGIN:STANDARD
TZOFFSETFROM:-0700
TZOFFSETTO:-0800
TZNAME:PST
DTSTART:20241103T090000
END:STANDARD
END:VTIMEZONE
BEGIN:VEVENT
DTSTART;TZID=America/Los_Angeles:20230121T200000
DTEND;TZID=America/Los_Angeles:20230121T230000
DTSTAMP:20260425T111120
CREATED:20230104T220546Z
LAST-MODIFIED:20230104T220803Z
UID:9538-1674331200-1674342000@southsoundblues.org
SUMMARY:Michele D'Amour & The Love Dealers at the Conway Muse
DESCRIPTION:Saturday\, Jan. 21 – Michele D’Amour & The Love Dealers at the Conway Muse\, Conway – 18444 Spruce St.\, 8 to 11 p.m. \nTickets:  Welcome to the Muse – Where Magic Happens! (conwaymuse.com)
URL:https://southsoundblues.org/event/michele-damour-the-love-dealers-at-the-conway-muse/
LOCATION:Conway Muse\, 18444 Spruce St\, Conway\, WA\, 98238
CATEGORIES:Featured
END:VEVENT
BEGIN:VEVENT
DTSTART;TZID=America/Los_Angeles:20230120T190000
DTEND;TZID=America/Los_Angeles:20230120T210000
DTSTAMP:20260425T111120
CREATED:20230111T004553Z
LAST-MODIFIED:20230111T011704Z
UID:9593-1674241200-1674248400@southsoundblues.org
SUMMARY:Lonesome & Pine at Brewminatti\, Prosser WA
DESCRIPTION:Lonesome & Pine at Brewminatti Friday\, Jan 20\, 7-9 pm\n\n713 6TH STREET\nPROSSER\, WA 99350(509) 786-2269
URL:https://southsoundblues.org/event/lonesome-pine-at-brewminatti/
LOCATION:Brewminatti\, 713 6TH STREET\, Prosser\, WA\, 99350
CATEGORIES:Featured
END:VEVENT
BEGIN:VEVENT
DTSTART;TZID=America/Los_Angeles:20230120T190000
DTEND;TZID=America/Los_Angeles:20230120T210000
DTSTAMP:20260425T111120
CREATED:20221031T204916Z
LAST-MODIFIED:20221031T204916Z
UID:9128-1674241200-1674248400@southsoundblues.org
SUMMARY:Roeman and the Whereabouts at Kimball's Coffeehouse
DESCRIPTION:Roeman and the Whereabouts at Kimballs Coffeehouse\, January 20th\, 7-9 pm
URL:https://southsoundblues.org/event/roeman-and-the-whereabouts-at-kimballs-coffeehouse/
LOCATION:Kimball’s Coffeehouse\, 6659 Kimball Dr\, Gig Harbor\, WA\, 98335
CATEGORIES:Featured
END:VEVENT
BEGIN:VEVENT
DTSTART;TZID=America/Los_Angeles:20230119T193000
DTEND;TZID=America/Los_Angeles:20230122T233000
DTSTAMP:20260425T111120
CREATED:20221221T010941Z
LAST-MODIFIED:20221221T011008Z
UID:9416-1674156600-1674430200@southsoundblues.org
SUMMARY:Coco Montoya & Ronnie Baker Brooks - Celebrate Albert Collins\, at Dimitriou's Jazz Alley-Four days\, six shows
DESCRIPTION:Coco Montoya & Ronnie Baker Brooks – Celebrate Albert Collins\nDimitriou’s Jazz Alley\, January 19th\, 20th\, 21st\, and 22nd. Show times are Thursday\, Friday\, and Sunday at 7:30pm. Show times Saturday at 7:30pm and 9:30pm. Doors open at 6:00pm Thursday and 5:30pm Friday – Sunday.\n\n\nThe Washington Blues Society and Dimitiriou’s Jazz Alley welcome Coco Montoya & Ronnie Baker Brooks for four nights and six shows.\nBand members are Phillip Castleberry (bass)\, Jeff Paris (keyboards) and Rena Beavers (drums).\n\n\nTickets\nwww.jazzalley.com/www-home/artist.jsp\n\n\n\n“In a world of blues guitar pretenders\, Coco Montoya is the real McCoy. Be prepared to get scorched by the real thing.” –Billboard
URL:https://southsoundblues.org/event/coco-montoya-ronnie-baker-brooks-celebrate-albert-collins-at-dimitrious-jazz-alley-four-days-six-shows/
LOCATION:Dimitriou’s Jazz Alley\, 2033 6th Avenue\, Seattle\, WA\, 98121
CATEGORIES:Featured,Special Event
END:VEVENT
BEGIN:VEVENT
DTSTART;TZID=America/Los_Angeles:20230119T193000
DTEND;TZID=America/Los_Angeles:20230119T193000
DTSTAMP:20260425T111120
CREATED:20221017T212320Z
LAST-MODIFIED:20221017T212320Z
UID:9040-1674156600-1674156600@southsoundblues.org
SUMMARY:Elvin Bishop's Big Fun Trio\, multiple shows at Dimetriou's Jazz Alley
DESCRIPTION:Elvin Bishop’s Big Fun Trio\nTHU\, JAN 19 –SUN\, JAN 22\, 2023\n\n\n\n\n\nTickets may be purchased on-line or by phone. \nhttps://www.jazzalley.com/www-home/artist.jsp?shownum=6358\nNight of show seating typically available. \n\n\n\nKNKX\, The Washington Blues Society and Dimitriou’s Jazz Alley welcome Rock & Roll and Blues Hall of Famer Elvin Bishop! Band members are: Elvin Bishop (guitar/vocals)\, Robert Welsh (guitar/piano)\, and Willy Jordan (vocals/cajon/drums). Show times Thursday and Sunday at 7:30pm. Show times Friday and Saturday at 7:30pm and 9:30pm. Doors open at 6pm Thursday and 5:30pm Friday – Sunday.
URL:https://southsoundblues.org/event/elvin-bishops-big-fun-trio-multiple-shows-at-dimetrious-jazz-alley/
LOCATION:Dimitriou’s Jazz Alley\, 2033 6th Avenue\, Seattle\, WA\, 98121
CATEGORIES:Featured,Special Event
END:VEVENT
BEGIN:VEVENT
DTSTART;TZID=America/Los_Angeles:20230114T190000
DTEND;TZID=America/Los_Angeles:20230114T220000
DTSTAMP:20260425T111120
CREATED:20230104T215940Z
LAST-MODIFIED:20230104T215940Z
UID:9533-1673722800-1673733600@southsoundblues.org
SUMMARY:Michele D'Amour & The Love Dealers at 192 Brewing Co.\, Kenmore
DESCRIPTION:Saturday\, Jan. 14 – Michele D’Amour & The Love Dealers at 192 Brewing Co.\, Kenmore – 7324 NE 175th St.\, 7 to 10 p.m. \n \n  \n  \n  \n\nAddress:\n7324 NE 175th Street Ste. F Kenmore\, WA 98028\nTelephone:\n(425) 424-2337\nweb site\, https://192brewing.com/\nEmail\,   dw@192brewing.com\n\n 
URL:https://southsoundblues.org/event/michele-damour-the-love-dealers-at-192-brewing-co-kenmore/
LOCATION:192 Brewing\, 7324 NE 175th Street Ste. F\, Kenmore\, WA\, 98028
CATEGORIES:Featured
END:VEVENT
BEGIN:VEVENT
DTSTART;TZID=America/Los_Angeles:20230113T190000
DTEND;TZID=America/Los_Angeles:20230113T210000
DTSTAMP:20260425T111120
CREATED:20221031T204457Z
LAST-MODIFIED:20221031T204615Z
UID:9126-1673636400-1673643600@southsoundblues.org
SUMMARY:The VanHolts at Kimball's Coffeehouse
DESCRIPTION:The VanHolts at Kimball’s Coffeehouse\, January 13th\, 7-9 pm
URL:https://southsoundblues.org/event/the-vanholts-at-kimballs-coffeehouse/
LOCATION:Kimball’s Coffeehouse\, 6659 Kimball Dr\, Gig Harbor\, WA\, 98335
CATEGORIES:Featured
END:VEVENT
BEGIN:VEVENT
DTSTART;TZID=America/Los_Angeles:20230112T180000
DTEND;TZID=America/Los_Angeles:20230112T200000
DTSTAMP:20260425T111120
CREATED:20230104T215046Z
LAST-MODIFIED:20230104T215046Z
UID:9531-1673546400-1673553600@southsoundblues.org
SUMMARY:Michele D'Amour & The Love Dealers at the Spada Farmhouse Brewery\, Snohomish
DESCRIPTION:Thursday\, Jan. 12 -Michele D’Amour & The Love Dealers at the Spada Farmhouse Brewery\, Snohomish – 709 1st St.\, 6 to 8 p.m.
URL:https://southsoundblues.org/event/michele-damour-the-love-dealers-at-the-spada-farmhouse-brewery-snohomish/
LOCATION:Spada Farmhouse Brewery\, 709 1st Street\, Snohomish\, WA\, 98290
CATEGORIES:Featured
END:VEVENT
BEGIN:VEVENT
DTSTART;TZID=America/Los_Angeles:20230110T200000
DTEND;TZID=America/Los_Angeles:20230110T200000
DTSTAMP:20260425T111120
CREATED:20230106T000231Z
LAST-MODIFIED:20230106T000231Z
UID:9556-1673380800-1673380800@southsoundblues.org
SUMMARY:Ben Rice & the Hustle at Billy Blues Bar & Grill\, Vancouver
DESCRIPTION:Ben Rice & the Hustle at Billy Blues Bar & Grill\, Vancouver\, WA- January 10th at 8pm\n 
URL:https://southsoundblues.org/event/ben-rice-the-hustle-at-billy-blues-bar-grill-vancouver/
LOCATION:Billy Blues Bar & Grill\, 7115 NE Hazel Dell Ave\, Vancouver\, WA\, 98665
CATEGORIES:Featured
END:VEVENT
BEGIN:VEVENT
DTSTART;TZID=America/Los_Angeles:20230110T190000
DTEND;TZID=America/Los_Angeles:20230110T190000
DTSTAMP:20260425T111120
CREATED:20230105T015718Z
LAST-MODIFIED:20230105T015718Z
UID:9549-1673377200-1673377200@southsoundblues.org
SUMMARY:Washington Blues Society Blues Bash at Aurora Borealis
DESCRIPTION:Eric’s Maine Connection and Lonesome Pines\, the WBS Blues Bash at Aurora Borealis\, January 10th\, 7pm \nWBS entries into the International Blues Challenge in Memphis this year. \n Lonesome Pines (Steve Itterly and Mike Nichols)
URL:https://southsoundblues.org/event/washington-blues-society-blues-bash-at-aurora-borealis/
LOCATION:Aurora Borealis\, 16708 Aurora Ave N\, Shoreline\, WA\, 98133
CATEGORIES:Featured
END:VEVENT
BEGIN:VEVENT
DTSTART;TZID=America/Los_Angeles:20230107T193000
DTEND;TZID=America/Los_Angeles:20230107T220000
DTSTAMP:20260425T111120
CREATED:20221219T215946Z
LAST-MODIFIED:20221219T215946Z
UID:9398-1673119800-1673128800@southsoundblues.org
SUMMARY:Billy Stapleton's Powerhouse at Pub 282
DESCRIPTION:Billy Stapleton’s POWERHOUSE Band January 7th at Pub 282\, 7:30-10 pm\, Camano Island\n \nPub 282 \n\n\n\n\n\n\n\n370 NE Camano Dr #6\, Camano\, WA 98282 \n\nMenu: pub282.takeout7.com\n\n\n\n\n\n\n\n\nPhone: (360) 926-8960
URL:https://southsoundblues.org/event/billy-stapletons-powerhouse-at-pub-282/
LOCATION:Pub 282\, 370 NE Camano Dr #6\, Camano\, WA\, 98282
CATEGORIES:Featured
END:VEVENT
BEGIN:VEVENT
DTSTART;TZID=America/Los_Angeles:20230106T200000
DTEND;TZID=America/Los_Angeles:20230106T220000
DTSTAMP:20260425T111120
CREATED:20230104T214745Z
LAST-MODIFIED:20230104T214745Z
UID:9529-1673035200-1673042400@southsoundblues.org
SUMMARY:Michele D'Amour & The Love Dealers at the Looking Glass Coffee\, Snohomish
DESCRIPTION:Friday\, Jan. 6 – Michele D’Amour & The Love Dealers at the Looking Glass Coffee\, Snohomish – 801 1st Ave. 8 to 10 p.m.
URL:https://southsoundblues.org/event/michele-damour-the-love-dealers-at-the-looking-glass-coffee-snohomish/
LOCATION:Looking Glass Coffee\, 801 1st St\, Snohomish\, WA\, 98290
CATEGORIES:Featured
END:VEVENT
BEGIN:VEVENT
DTSTART;TZID=America/Los_Angeles:20230105T180000
DTEND;TZID=America/Los_Angeles:20230105T200000
DTSTAMP:20260425T111120
CREATED:20221216T203257Z
LAST-MODIFIED:20221216T203443Z
UID:9383-1672941600-1672948800@southsoundblues.org
SUMMARY:Whitewing Duo (featuring East Coast Dave) at Spada Farmhouse Brewery
DESCRIPTION:THURSDAY\, JANUARY 5th\, 2023  6 – 8 PM\n\nWhitewing Duo (featuring East Coast Dave) at Spada Farmhouse Brewery\n \n 
URL:https://southsoundblues.org/event/whitewing-duo-featuring-east-coast-dave-at-spada-farmhouse-brewery/
LOCATION:Spada Farmhouse Brewery\, 709 1st Street\, Snohomish\, WA\, 98290
CATEGORIES:Featured
END:VEVENT
END:VCALENDAR