BEGIN:VCALENDAR
VERSION:2.0
PRODID:-//South Sound Blues Association - ECPv6.15.18//NONSGML v1.0//EN
CALSCALE:GREGORIAN
METHOD:PUBLISH
X-ORIGINAL-URL:https://southsoundblues.org
X-WR-CALDESC:Events for South Sound Blues Association
REFRESH-INTERVAL;VALUE=DURATION:PT1H
X-Robots-Tag:noindex
X-PUBLISHED-TTL:PT1H
BEGIN:VTIMEZONE
TZID:America/Los_Angeles
BEGIN:DAYLIGHT
TZOFFSETFROM:-0800
TZOFFSETTO:-0700
TZNAME:PDT
DTSTART:20240310T100000
END:DAYLIGHT
BEGIN:STANDARD
TZOFFSETFROM:-0700
TZOFFSETTO:-0800
TZNAME:PST
DTSTART:20241103T090000
END:STANDARD
BEGIN:DAYLIGHT
TZOFFSETFROM:-0800
TZOFFSETTO:-0700
TZNAME:PDT
DTSTART:20250309T100000
END:DAYLIGHT
BEGIN:STANDARD
TZOFFSETFROM:-0700
TZOFFSETTO:-0800
TZNAME:PST
DTSTART:20251102T090000
END:STANDARD
BEGIN:DAYLIGHT
TZOFFSETFROM:-0800
TZOFFSETTO:-0700
TZNAME:PDT
DTSTART:20260308T100000
END:DAYLIGHT
BEGIN:STANDARD
TZOFFSETFROM:-0700
TZOFFSETTO:-0800
TZNAME:PST
DTSTART:20261101T090000
END:STANDARD
BEGIN:DAYLIGHT
TZOFFSETFROM:-0800
TZOFFSETTO:-0700
TZNAME:PDT
DTSTART:20270314T100000
END:DAYLIGHT
BEGIN:STANDARD
TZOFFSETFROM:-0700
TZOFFSETTO:-0800
TZNAME:PST
DTSTART:20271107T090000
END:STANDARD
END:VTIMEZONE
BEGIN:VEVENT
DTSTART;TZID=America/Los_Angeles:20260126T180000
DTEND;TZID=America/Los_Angeles:20260126T210000
DTSTAMP:20260423T035248
CREATED:20260101T012533Z
LAST-MODIFIED:20260101T012533Z
UID:16684-1769450400-1769461200@southsoundblues.org
SUMMARY:Monday Jazz at Brother Don’s Bar & Grill\, Bremerton
DESCRIPTION:Monday Jazz at Brother Don’s Bar & Grill\, Bremerton\, 6-9 pm
URL:https://southsoundblues.org/event/monday-jazz-at-brother-dons-bar-grill-bremerton-35/
LOCATION:Brother Don’s Bar & Grill\, 4200 Kitsap Way\, Bremerton\, WA\, 98312
CATEGORIES:Featured
END:VEVENT
BEGIN:VEVENT
DTSTART;TZID=America/Los_Angeles:20260124T203000
DTEND;TZID=America/Los_Angeles:20260124T223000
DTSTAMP:20260423T035248
CREATED:20251030T210226Z
LAST-MODIFIED:20251030T210226Z
UID:16388-1769286600-1769293800@southsoundblues.org
SUMMARY:Trailer Park Kings at the Oxford Saloon
DESCRIPTION:Trailer Park Kings at the Oxford Saloon January 24th\, 8:30 pm
URL:https://southsoundblues.org/event/trailer-park-kings-at-the-oxford-saloon-2/
LOCATION:Oxford Saloon\, 913 1st St\, Snohomish\, WA\, 98290
CATEGORIES:Featured
END:VEVENT
BEGIN:VEVENT
DTSTART;TZID=America/Los_Angeles:20260124T190000
DTEND;TZID=America/Los_Angeles:20260124T220000
DTSTAMP:20260423T035248
CREATED:20260110T012546Z
LAST-MODIFIED:20260110T012546Z
UID:16758-1769281200-1769292000@southsoundblues.org
SUMMARY:Sturgeon Moon at The Spar
DESCRIPTION:Sturgeon Moon at The Spar January 24th 7-10 pm
URL:https://southsoundblues.org/event/sturgeon-moon-at-the-spar/
LOCATION:The Spar\, 2121 N 30th St\, Tacoma\, WA\, 98403
CATEGORIES:Featured
END:VEVENT
BEGIN:VEVENT
DTSTART;TZID=America/Los_Angeles:20260124T190000
DTEND;TZID=America/Los_Angeles:20260124T220000
DTSTAMP:20260423T035248
CREATED:20260109T234206Z
LAST-MODIFIED:20260109T234206Z
UID:16740-1769281200-1769292000@southsoundblues.org
SUMMARY:Slainte-Irish Rock at O'Looney's Irish Pub\, Gig Harbor
DESCRIPTION:Slainte-Irish Rock at O’Looney’s Irish Pub January 24th 7pm
URL:https://southsoundblues.org/event/slainte-irish-rock-at-olooneys-irish-pub-gig-harbor/
LOCATION:O’Looney’s Irish Pub\, 322 56th St\, Gig Harbor\, WA\, 98335
CATEGORIES:Featured
END:VEVENT
BEGIN:VEVENT
DTSTART;TZID=America/Los_Angeles:20260124T190000
DTEND;TZID=America/Los_Angeles:20260124T210000
DTSTAMP:20260423T035248
CREATED:20260119T202605Z
LAST-MODIFIED:20260119T202605Z
UID:16804-1769281200-1769288400@southsoundblues.org
SUMMARY:Stickshift Annie with Kimball Conant and the Fugitives at Third Place Commons in Lake Forest Park
DESCRIPTION:Dance opportunity this Saturday January 24th\, 7pm – 9pm \n\n\n\n\nAnnie Eastwood with the Fabulous Kimball Conant and the Fugitives\nat Third Place Commons in Lake Forest Park.\n \nFree\, all-ages concert for listening\, dancing and enjoying friends at this wonderful community venue. \n\nStickshift Annie with Kimball and the Fugitives perform every style from Freddie King shuffles\, smoldering grinders and Texas 2-beat blues\, to swing\, rock & roll\, and R&B tunes. Kimball Conant performs on his vintage 1962 Gretsch electric guitar in a distinctive Chet Atkins finger style and easily shifts to a deep down Johnny Winter style acoustic slide for burning blues\, with the Dynamic Duo of Rhythm Jeff Davies on electric and upright bass and John Rockin’ em well Rockwell on drums\, and Annie singing the blues and swingin’.\n\n\nThird Place Commons in Lake Forest Park \n17171 Bothell Way NE \nLake Forest Park\, WA 98155
URL:https://southsoundblues.org/event/stickshift-annie-with-kimball-conant-and-the-fugitives-at-third-place-commons-in-lake-forest-park/
LOCATION:Third Place Commons\, 17171 Bothell Way NE\, Lake Forest Park\, WA\, 98155
CATEGORIES:Featured
END:VEVENT
BEGIN:VEVENT
DTSTART;TZID=America/Los_Angeles:20260122T200000
DTEND;TZID=America/Los_Angeles:20260122T223000
DTSTAMP:20260423T035248
CREATED:20251204T014639Z
LAST-MODIFIED:20251204T014639Z
UID:16605-1769112000-1769121000@southsoundblues.org
SUMMARY:Salmon Bay Eagles Membership Drive and Open House featuring The Stacy Jones Band\, Ballard
DESCRIPTION:Stacy Jones band is the featured performer for the Salmon Bay Eagles Membership Drive and Open House! 1/22/26\, 8pm\nThe Stacy Jones Band delivers an electrifying blend of blues\, roots rock\, and Americana that’ll keep you moving all night long. Don’t miss this incredible opportunity to experience one of Seattle’s finest artists while learning about your Eagles community. \n\nThe Stacy Jones Band delivers an electrifying blend of blues\, roots rock\, and Americana that’ll keep you moving all night long. Alongside Stacy’s dynamic lead\, the band features the rock-solid rhythm section of Tom Jones (bass) and Rick J. Bowen (drums)\, plus their newest addition\, “Best of the Blues” award winner Eric Rice.
URL:https://southsoundblues.org/event/salmon-bay-eagles-membership-drive-and-open-house-featuring-the-stacy-jones-band-ballard/
LOCATION:Salmon Bay Eagles\, 5216 20th Ave NW\, Seattle\, WA\, 98107
CATEGORIES:Featured
END:VEVENT
BEGIN:VEVENT
DTSTART;TZID=America/Los_Angeles:20260121T180000
DTEND;TZID=America/Los_Angeles:20260121T210000
DTSTAMP:20260423T035248
CREATED:20251117T014038Z
LAST-MODIFIED:20260101T014000Z
UID:16544-1769018400-1769029200@southsoundblues.org
SUMMARY:Funky Jazz Wednesdays at the Spar with LaVon Harrison
DESCRIPTION:Funky Jazz Wednesdays at the Spar 6-9 pm\, LaVon Harrison
URL:https://southsoundblues.org/event/funky-jazz-wednesdays-at-the-spar-5/
LOCATION:The Spar\, 2121 N 30th St\, Tacoma\, WA\, 98403
CATEGORIES:Featured
END:VEVENT
BEGIN:VEVENT
DTSTART;TZID=America/Los_Angeles:20260120T200000
DTEND;TZID=America/Los_Angeles:20260120T233000
DTSTAMP:20260423T035248
CREATED:20251230T022807Z
LAST-MODIFIED:20251230T022807Z
UID:16660-1768939200-1768951800@southsoundblues.org
SUMMARY:Cory Wilds Band Tuesday open Jam Night at Elmer’s Bar and Grill
DESCRIPTION:Cory Wilds Band Tuesday open Jam Night at Elmer’s Bar and Grill\, 8-11:30 pm
URL:https://southsoundblues.org/event/cory-wilds-band-tuesday-open-jam-night-at-elmers-bar-and-grill-41/
LOCATION:Elmer’s Bar & Grill\, 15027 Ambaum Blvd SW\, Burien\, WA\, 98166
CATEGORIES:Featured
END:VEVENT
BEGIN:VEVENT
DTSTART;TZID=America/Los_Angeles:20260117T190000
DTEND;TZID=America/Los_Angeles:20260117T223000
DTSTAMP:20260423T035248
CREATED:20251105T014502Z
LAST-MODIFIED:20251105T014635Z
UID:16471-1768676400-1768689000@southsoundblues.org
SUMMARY:Ana Popovic at the Historic Everett Theater with The Stacy Jones Band
DESCRIPTION:ANA POPOVIC\, BLUES SINGER AND GUITARIST WITH THE STACY JONES BAND at the Historic Everett Theatre January 17th\n7:00 PM\, Doors open at 6:00 PM  \nhttps://events.theatreconcertconsulting.com/ana-popovic/\nThe Historic Everett Theatre\, 2911 Colby Ave\, Everett\, WA 98201\nEvent Organized By: The Historic Everett Theatre \n\nhttps://events.theatreconcertconsulting.com/ana-popovic/
URL:https://southsoundblues.org/event/ana-popovic-at-the-historic-everett-theater-with-the-stacy-jones-band/
LOCATION:Everett Theatre\, 2911 Colby Ave\, Everett\, WA\, 98201
CATEGORIES:Featured
END:VEVENT
BEGIN:VEVENT
DTSTART;TZID=America/Los_Angeles:20260114T183000
DTEND;TZID=America/Los_Angeles:20260114T203000
DTSTAMP:20260423T035248
CREATED:20260109T231917Z
LAST-MODIFIED:20260109T231917Z
UID:16734-1768415400-1768422600@southsoundblues.org
SUMMARY:Kevin Jones at TK Irish Pub & Eatery\, Puyallup
DESCRIPTION:Kevin Jones at the TK Irish Pub January 14th 6:30-8:30 pm
URL:https://southsoundblues.org/event/kevin-jones-at-tk-irish-pub-eatery-puyallup/
LOCATION:Twisted Kilt\, 109 S Meridian\, Puyallup\, WA\, 98371
CATEGORIES:Featured
END:VEVENT
BEGIN:VEVENT
DTSTART;TZID=America/Los_Angeles:20260114T180000
DTEND;TZID=America/Los_Angeles:20260114T210000
DTSTAMP:20260423T035248
CREATED:20251117T013908Z
LAST-MODIFIED:20260101T013702Z
UID:16542-1768413600-1768424400@southsoundblues.org
SUMMARY:Funky Jazz Wednesdays at the Spar with The Tim Lerch Trio
DESCRIPTION:Funky Jazz Wednesdays at the Spar 6-9 pm\, The Tim Lerch Trio
URL:https://southsoundblues.org/event/funky-jazz-wednesdays-at-the-spar-4/
LOCATION:The Spar\, 2121 N 30th St\, Tacoma\, WA\, 98403
CATEGORIES:Featured
END:VEVENT
BEGIN:VEVENT
DTSTART;TZID=America/Los_Angeles:20260113T190000
DTEND;TZID=America/Los_Angeles:20260113T230000
DTSTAMP:20260423T035248
CREATED:20251230T023018Z
LAST-MODIFIED:20251230T023018Z
UID:16662-1768330800-1768345200@southsoundblues.org
SUMMARY:Billy Shew hosts the Burien Eagles Tuesday Night Jams
DESCRIPTION:Billy Shew hosts the Burien Eagles Tuesday Night Jams\,  7:00pm\n Billy Shew
URL:https://southsoundblues.org/event/billy-shew-hosts-the-burien-eagles-tuesday-night-jams-20/
LOCATION:Burien Eagles\, 920 SW 150th St\, Burien\, WA\, 98166
CATEGORIES:Featured
END:VEVENT
BEGIN:VEVENT
DTSTART;TZID=America/Los_Angeles:20260112T180000
DTEND;TZID=America/Los_Angeles:20260112T210000
DTSTAMP:20260423T035248
CREATED:20260101T012420Z
LAST-MODIFIED:20260101T012420Z
UID:16682-1768240800-1768251600@southsoundblues.org
SUMMARY:Monday Jazz at Brother Don’s Bar & Grill\, Bremerton
DESCRIPTION:Monday Jazz at Brother Don’s Bar & Grill\, Bremerton\, 6-9 pm
URL:https://southsoundblues.org/event/monday-jazz-at-brother-dons-bar-grill-bremerton-34/
LOCATION:Brother Don’s Bar & Grill\, 4200 Kitsap Way\, Bremerton\, WA\, 98312
CATEGORIES:Featured
END:VEVENT
BEGIN:VEVENT
DTSTART;TZID=America/Los_Angeles:20260111T170000
DTEND;TZID=America/Los_Angeles:20260111T200000
DTSTAMP:20260423T035248
CREATED:20251030T200224Z
LAST-MODIFIED:20251030T200224Z
UID:16364-1768150800-1768161600@southsoundblues.org
SUMMARY:Joe Faker Band Jam Sunday's at Brother Don's
DESCRIPTION:Joe Faker Band Jam Sunday’s at Brother Don’s 5-8 pm
URL:https://southsoundblues.org/event/joe-faker-band-jam-sundays-at-brother-dons-3/
LOCATION:Brother Don’s Bar & Grill\, 4200 Kitsap Way\, Bremerton\, WA\, 98312
CATEGORIES:Featured
END:VEVENT
BEGIN:VEVENT
DTSTART;TZID=America/Los_Angeles:20260110T170000
DTEND;TZID=America/Los_Angeles:20260110T200000
DTSTAMP:20260423T035248
CREATED:20260106T023205Z
LAST-MODIFIED:20260106T023205Z
UID:16716-1768064400-1768075200@southsoundblues.org
SUMMARY:Octopus Ballet will be at the Urban Elk Elk\, Tacoma
DESCRIPTION:Octopus Ballet at the Urban Elk Elk Saturday\, January 10. New time\, 5 to 8 PM\n \n  \nUrban Elk Restaurant & Allenmore
URL:https://southsoundblues.org/event/octopus-ballet-will-be-at-the-urban-elk-elk-tacoma/
LOCATION:Urban Elk\, 2013 S Cedar St\, Tacoma\, WA\, 98405
CATEGORIES:Featured
END:VEVENT
BEGIN:VEVENT
DTSTART;TZID=America/Los_Angeles:20260109T190000
DTEND;TZID=America/Los_Angeles:20260109T210000
DTSTAMP:20260423T035248
CREATED:20251204T000722Z
LAST-MODIFIED:20251204T000722Z
UID:16590-1767985200-1767992400@southsoundblues.org
SUMMARY:HD Fusion at Kimball Coffeehouse\, Gig Harbor
DESCRIPTION:HD Fusion at Kimball Coffeehouse January 9th\, 7-9 pm\n 
URL:https://southsoundblues.org/event/hd-fusion-at-kimball-coffeehouse-gig-harbor/
LOCATION:Kimball’s Coffeehouse\, 6659 Kimball Dr\, Gig Harbor\, WA\, 98335
CATEGORIES:Featured
END:VEVENT
BEGIN:VEVENT
DTSTART;TZID=America/Los_Angeles:20260108T180000
DTEND;TZID=America/Los_Angeles:20260108T210000
DTSTAMP:20260423T035248
CREATED:20260106T012439Z
LAST-MODIFIED:20260106T012439Z
UID:16707-1767895200-1767906000@southsoundblues.org
SUMMARY:Annie Eastwood & fellow Fugitives at Bad Albert’s\, Ballard
DESCRIPTION:Annie Eastwood & fellow Fugitives at Bad Albert’s\, Thursday January 8th\, 6pm to 9pm\, Featuring Guitarist and vocalist Kimball Conant \n\n\n\n\n\n\n\n \n\nAnnie Eastwood & fellow Fugitives at Bad Albert’s with Jeff Davies on bass\, John Rockin’em well on drums\, featuring the amazing guitar mastery and vast repertoire of Kimball Conant.\nLive music and featured guests on the 2nd and 4th Thursdays of each month at this favorite Ballard venue.  \n\n\n\n\n\n\n\n\n\n\n\n\n\n\n\n\n\n\n\n\n\n\n\n\n\n\nBad Albert’s\n\n\n5100 Ballard Avenue NW\, Seattle\nat the corner of Dock Street and Ballard Avenue.\n206-789-2000
URL:https://southsoundblues.org/event/annie-eastwood-fellow-fugitives-at-bad-alberts-ballard/
LOCATION:Bad Albert’s\, 5100 Ballard Avenue Northwest\, Seattle\, WA\, 98107
CATEGORIES:Featured
END:VEVENT
BEGIN:VEVENT
DTSTART;TZID=America/Los_Angeles:20260107T180000
DTEND;TZID=America/Los_Angeles:20260107T210000
DTSTAMP:20260423T035248
CREATED:20251117T013753Z
LAST-MODIFIED:20251117T013753Z
UID:16540-1767808800-1767819600@southsoundblues.org
SUMMARY:Funky Jazz Wednesdays at the Spar
DESCRIPTION:Funky Jazz Wednesdays at the Spar 6-9 pm\n\n\n\n\n\n \n\n\n  \n\n  \nhttps://www.thespartavern.com/live-music
URL:https://southsoundblues.org/event/funky-jazz-wednesdays-at-the-spar-3/
LOCATION:The Spar\, 2121 N 30th St\, Tacoma\, WA\, 98403
CATEGORIES:Featured
END:VEVENT
BEGIN:VEVENT
DTSTART;TZID=America/Los_Angeles:20260106T190000
DTEND;TZID=America/Los_Angeles:20260106T230000
DTSTAMP:20260423T035248
CREATED:20251030T203927Z
LAST-MODIFIED:20251030T203927Z
UID:16378-1767726000-1767740400@southsoundblues.org
SUMMARY:Jam every Tuesday at Brother Don’s Bar & Grill with the Tim Hall band
DESCRIPTION:Jam every Tuesday at Brother Don’s Bar & Grill with the Tim Hall band 7-10 pm
URL:https://southsoundblues.org/event/jam-every-tuesday-at-brother-dons-bar-grill-with-the-tim-hall-band-25/
LOCATION:Brother Don’s Bar & Grill\, 4200 Kitsap Way\, Bremerton\, WA\, 98312
CATEGORIES:Featured
END:VEVENT
BEGIN:VEVENT
DTSTART;TZID=America/Los_Angeles:20260103T210000
DTEND;TZID=America/Los_Angeles:20260103T233000
DTSTAMP:20260423T035248
CREATED:20251231T210507Z
LAST-MODIFIED:20251231T210507Z
UID:16674-1767474000-1767483000@southsoundblues.org
SUMMARY:Red House at the Madison Ave Pub\, Everett
DESCRIPTION:Red House at the Madison Ave Pub January 3rd\, 9pm\nAt the Madison in Everett right after the Seahawks game\, featuring our new best friend Billy Reed on keys. Come watch the game and then Red House!
URL:https://southsoundblues.org/event/red-house-at-the-madison-ave-pub-everett/
LOCATION:Madison Avenue Pub\, 905 Madison St\, Everett\, WA\, 98203
CATEGORIES:Featured
END:VEVENT
BEGIN:VEVENT
DTSTART;TZID=America/Los_Angeles:20260103T200000
DTEND;TZID=America/Los_Angeles:20260103T230000
DTSTAMP:20260423T035248
CREATED:20251117T013204Z
LAST-MODIFIED:20251117T013204Z
UID:16538-1767470400-1767481200@southsoundblues.org
SUMMARY:The Joe T. Cook Blues Band at the Salmon Bay Eagles
DESCRIPTION:Joe Cook Blues Band at the Salmon Bay Eagles  \nJanuary 3rd 8 – 11:00pm \n\nThe Joe T. Cook Blues Band performs high energy traditional Chicago and West Coast style blues\, with elements of the old school Texas sound. Joe writes and sings the band’s original blues material and nails the humor and wry commentary of the best of the blues. Band members include Tim “Stoop Down” Sherman on guitar and Conrad “El Machete” Ormsby on drums\, with Patty Mey on bass
URL:https://southsoundblues.org/event/the-joe-t-cook-blues-band-at-the-salmon-bay-eagles/
LOCATION:Salmon Bay Eagles\, 5216 20th Ave NW\, Seattle\, WA\, 98107
CATEGORIES:Featured
END:VEVENT
BEGIN:VEVENT
DTSTART;TZID=America/Los_Angeles:20251231T210000
DTEND;TZID=America/Los_Angeles:20251231T233000
DTSTAMP:20260423T035248
CREATED:20251204T010756Z
LAST-MODIFIED:20251204T011103Z
UID:16602-1767214800-1767223800@southsoundblues.org
SUMMARY:Stimpy’s New Year’s Eve Party with The Cory Wilds Band\, Kent
DESCRIPTION:Stimpy’s New Year’s Eve Party with The Cory Wilds Band 9-11:30 pm\n\n\n  \nLocation: Stimpy’s Sports Bar and Grill\, 25608 Pacific Hwy S\, Kent\, WA 98032
URL:https://southsoundblues.org/event/stimpys-new-years-eve-party-with-the-cory-wilds-band-kent/
LOCATION:Stimpy’s Sports Bar and Grill\, 25608 Pacific Hwy S\, Kent\, WA\, 98032
CATEGORIES:Featured,Local South Sound Blues
END:VEVENT
BEGIN:VEVENT
DTSTART;TZID=America/Los_Angeles:20251231T200000
DTEND;TZID=America/Los_Angeles:20251231T233000
DTSTAMP:20260423T035248
CREATED:20251230T020358Z
LAST-MODIFIED:20251230T020358Z
UID:16648-1767211200-1767223800@southsoundblues.org
SUMMARY:Dawson's NYE Party featuring The Names\, Tacoma
DESCRIPTION:Dawson’s NYE Party featuring The Names at 8pm
URL:https://southsoundblues.org/event/dawsons-nye-party-featuring-the-names-tacoma/
LOCATION:Dawson’s Bar & Grill\, 5443 South Tacoma Way\, Tacoma\, WA\, 98409
CATEGORIES:Featured
END:VEVENT
BEGIN:VEVENT
DTSTART;TZID=America/Los_Angeles:20251231T200000
DTEND;TZID=America/Los_Angeles:20251231T233000
DTSTAMP:20260423T035248
CREATED:20251021T211516Z
LAST-MODIFIED:20251021T211516Z
UID:16283-1767211200-1767223800@southsoundblues.org
SUMMARY:NYE Celebration! Annie Eastwood & Her All-Star Band Featuring Billy Stapleton and Bruce Laven at the Salmon Bay Eagles\, Ballard/Seattle
DESCRIPTION:Annie Eastwood & Her All-Star Band Featuring Billy Stapleton and Bruce Laven at the Salmon Bay Eagles\, Wednesday December 31st\, 8pm to Midnight.  \nNYE Celebration! 
URL:https://southsoundblues.org/event/nye-celebration-annie-eastwood-her-all-star-band-featuring-billy-stapleton-and-bruce-laven-at-the-salmon-bay-eagles-ballard-seattle/
LOCATION:Salmon Bay Eagles\, 5216 20th Ave NW\, Seattle\, WA\, 98107
CATEGORIES:Featured,Local South Sound Blues,Special Event
END:VEVENT
BEGIN:VEVENT
DTSTART;TZID=America/Los_Angeles:20251231T190000
DTEND;TZID=America/Los_Angeles:20251231T213000
DTSTAMP:20260423T035248
CREATED:20251105T210920Z
LAST-MODIFIED:20251105T210920Z
UID:16495-1767207600-1767216600@southsoundblues.org
SUMMARY:New Year's Eve with the Dusty 45s\, Two shows at the Triple Door\, Seattle
DESCRIPTION:New Year’s Eve with the Dusty 45s at the Triple Door mainstage\, two shows\, 7:30 pm and 10:00 pm\n7pm $120 Dinner Package // 10pm $75 Countdown Package\nhttps://tickets.thetripledoor.net/eventperformances.asp?evt=2183 \nDriven by Huels’s creative vision\, the current lineup—affectionately dubbed “Dusty Version 6.0″—features Kohen Burrill on drums and vocals\, Robin Cady on upright bass\, and Rod Cook on lead guitar and vocals. This dynamic quartet delivers high-octane live shows that have solidified the band’s reputation for stellar musicianship. \nNew Year’s Eve with The Dusty 45s\nMainstage Theatre\, 216 Union Street\, Seattle
URL:https://southsoundblues.org/event/new-years-eve-with-the-dusty-45s-two-shows-at-the-triple-door-seattle/
LOCATION:The Triple Door\, 216 Union St\,\, Seattle\, WA\, 98101
CATEGORIES:Featured,Special Event
END:VEVENT
BEGIN:VEVENT
DTSTART;TZID=America/Los_Angeles:20251231T080000
DTEND;TZID=America/Los_Angeles:20251231T170000
DTSTAMP:20260423T035248
CREATED:20251017T201650Z
LAST-MODIFIED:20251017T201947Z
UID:16251-1767168000-1767200400@southsoundblues.org
SUMMARY:Walking Papers at Jazzbones- Rockin' New Years Eve Show!
DESCRIPTION:Jazzbones\, Wednesday\, December 31\, 2025 to ring in 2026 with Walking Papers and special guests The Vases.\n\n\nDoors 8:00 PM • Show 9:00 PM • $30 • 21+\n\n\nTickets:    https://tickets.venuepilot.com/e/walking-papers-2025-12-31-jazzbones-tacoma-ebce90\n\n• General on sale — Fri\, Oct 17 at 10:00 AM\n\nWalking Papers is an American rock band from Seattle\, Washington\, formed in 2012. The band was formed by singer/guitarist Jeff Angell of The Missionary Position\, and drummer Barrett Martin formerly of Screaming Trees.[1][2] Guns N’ Roses bassist Duff McKagan and keyboardist Benjamin Anderson (also of The Missionary Position) were invited to contribute to the band’s first album and then were added as official members.[3] Their self-titled debut album\, produced by Angell and Martin and mixed by Jack Endino\, was released on August 16\, 2013[4][5] and featured contributions by Pearl Jam guitarist Mike McCready.[6][7]
URL:https://southsoundblues.org/event/walking-papers-at-jazzbones-rockin-new-years-eve-show/
LOCATION:Jazzbones\, 2803 6th Ave\, Tacoma\, WA\, 98406
CATEGORIES:Featured
END:VEVENT
BEGIN:VEVENT
DTSTART;TZID=America/Los_Angeles:20251230T080000
DTEND;TZID=America/Los_Angeles:20251230T170000
DTSTAMP:20260423T035248
CREATED:20250831T233809Z
LAST-MODIFIED:20250831T233809Z
UID:15904-1767081600-1767114000@southsoundblues.org
SUMMARY:Georges BLT Tuesday Night Open Mic night hosted by Slim Wizzy & Friends\, Bonney Lake Tavern
DESCRIPTION:Georges BLT Tuesday Night Open Mic night hosted by Slim Wizzy & Friends\, Bonney Lake Tavern\, 7-9 pm
URL:https://southsoundblues.org/event/georges-blt-tuesday-night-open-mic-night-hosted-by-slim-wizzy-friends-bonney-lake-tavern/
LOCATION:George’s BLT\, 18212 HWY 410 E\, Bonney Lake\, WA\, 98391
CATEGORIES:Featured
END:VEVENT
BEGIN:VEVENT
DTSTART;TZID=America/Los_Angeles:20251227T200000
DTEND;TZID=America/Los_Angeles:20251227T230000
DTSTAMP:20260423T035248
CREATED:20251030T194852Z
LAST-MODIFIED:20251030T214839Z
UID:16358-1766865600-1766876400@southsoundblues.org
SUMMARY:Kae & The Blaze Mann at Dawson's
DESCRIPTION:Kae & The Blaze Mann at Dawson’s December 27th\, 8-11 pm
URL:https://southsoundblues.org/event/kae-the-blaze-man-at-dawsons/
LOCATION:Dawson’s Bar & Grill\, 5443 South Tacoma Way\, Tacoma\, WA\, 98409
CATEGORIES:Featured
END:VEVENT
BEGIN:VEVENT
DTSTART;TZID=America/Los_Angeles:20251227T190000
DTEND;TZID=America/Los_Angeles:20251227T230000
DTSTAMP:20260423T035248
CREATED:20251007T013627Z
LAST-MODIFIED:20251007T013627Z
UID:16234-1766862000-1766876400@southsoundblues.org
SUMMARY:Stacy Jones Band at Pub 282\, Camano
DESCRIPTION:Stacy Jones Band at Pub 282 December 27th\, 7-11pm\n\n  Stacy Jones LIVE at Pub 282!  Blues\, rock\, and soul like you’ve never heard before—Stacy Jones is bringing her powerhouse vocals\, killer guitar\, and raw energy to Pub 282! Get ready for a night of electrifying music\, deep grooves\, and unforgettable vibes.
URL:https://southsoundblues.org/event/stacy-jones-band-at-pub-282-camano/
LOCATION:Pub 282\, 370 NE Camano Island DR\, Camano Island\, WA\, 98282
CATEGORIES:Featured
END:VEVENT
BEGIN:VEVENT
DTSTART;TZID=America/Los_Angeles:20251227T190000
DTEND;TZID=America/Los_Angeles:20251227T220000
DTSTAMP:20260423T035248
CREATED:20251030T205734Z
LAST-MODIFIED:20251205T021450Z
UID:16386-1766862000-1766872800@southsoundblues.org
SUMMARY:Trailer Park Kings at the Spar
DESCRIPTION:Trailer Park Kings at the Spar December 27th\, 7-10 pm\n \nSaturday Nights at The Spar present: THE TRAILER PARK KINGS\nThe Trailer Park Kings are:JOHN COMSTOCK – Lead Vocals\, Guitar\, SaxophoneSCOTT DONALDSON – Guitars\, MandolinTANYA HODEL – Vocals\, PercussionDAVID HODEL – Keyboards\, Backing VocalsSTAN BENSON – Bass\, Backing VocalsDAVID HUDSON – Drums\, Ringleader***In Tribute to 70s Rock — The Trailer Park Kings — a band with enough Creedence to bring Sweet Emotion to select classic rock tunes that we’ve all grown up with.
URL:https://southsoundblues.org/event/trailer-park-kings-at-the-spar-2/
LOCATION:The Spar\, 2121 N 30th St\, Tacoma\, WA\, 98403
CATEGORIES:Featured
END:VEVENT
END:VCALENDAR