BEGIN:VCALENDAR
VERSION:2.0
PRODID:-//South Sound Blues Association - ECPv6.15.18//NONSGML v1.0//EN
CALSCALE:GREGORIAN
METHOD:PUBLISH
X-ORIGINAL-URL:https://southsoundblues.org
X-WR-CALDESC:Events for South Sound Blues Association
REFRESH-INTERVAL;VALUE=DURATION:PT1H
X-Robots-Tag:noindex
X-PUBLISHED-TTL:PT1H
BEGIN:VTIMEZONE
TZID:America/Los_Angeles
BEGIN:DAYLIGHT
TZOFFSETFROM:-0800
TZOFFSETTO:-0700
TZNAME:PDT
DTSTART:20230312T100000
END:DAYLIGHT
BEGIN:STANDARD
TZOFFSETFROM:-0700
TZOFFSETTO:-0800
TZNAME:PST
DTSTART:20231105T090000
END:STANDARD
BEGIN:DAYLIGHT
TZOFFSETFROM:-0800
TZOFFSETTO:-0700
TZNAME:PDT
DTSTART:20240310T100000
END:DAYLIGHT
BEGIN:STANDARD
TZOFFSETFROM:-0700
TZOFFSETTO:-0800
TZNAME:PST
DTSTART:20241103T090000
END:STANDARD
BEGIN:DAYLIGHT
TZOFFSETFROM:-0800
TZOFFSETTO:-0700
TZNAME:PDT
DTSTART:20250309T100000
END:DAYLIGHT
BEGIN:STANDARD
TZOFFSETFROM:-0700
TZOFFSETTO:-0800
TZNAME:PST
DTSTART:20251102T090000
END:STANDARD
END:VTIMEZONE
BEGIN:VEVENT
DTSTART;TZID=America/Los_Angeles:20240301T180000
DTEND;TZID=America/Los_Angeles:20240301T203000
DTSTAMP:20260425T091123
CREATED:20240221T020742Z
LAST-MODIFIED:20240221T020742Z
UID:12166-1709316000-1709325000@southsoundblues.org
SUMMARY:Mark DuFresne at Prohibition Cellars\, Woodinville
DESCRIPTION:March 1st\, at Prohibition Cellars\, Woodinville\, Mark DuFresne\, 6-9pm
URL:https://southsoundblues.org/event/mark-dufresne-at-prohibition-cellars-woodinville/
LOCATION:Prohibition cellars\, 19501 144th Ave NE. F-900\, Woodinville\, WA\, 98072
CATEGORIES:Featured
END:VEVENT
BEGIN:VEVENT
DTSTART;TZID=America/Los_Angeles:20240301T190000
DTEND;TZID=America/Los_Angeles:20240301T210000
DTSTAMP:20260425T091123
CREATED:20240221T023241Z
LAST-MODIFIED:20240221T023241Z
UID:12182-1709319600-1709326800@southsoundblues.org
SUMMARY:The Van Holts at Kimball Coffeehouse
DESCRIPTION:Mar 1st\, Kimball Coffeehouse\, Gig Harbor\, The Van Holts\, 7pm
URL:https://southsoundblues.org/event/the-van-holts-at-kimball-coffeehouse/
LOCATION:Kimball’s Coffeehouse\, 6659 Kimball Dr\, Gig Harbor\, WA\, 98335
CATEGORIES:Featured
END:VEVENT
BEGIN:VEVENT
DTSTART;TZID=America/Los_Angeles:20240304T180000
DTEND;TZID=America/Los_Angeles:20240304T210000
DTSTAMP:20260425T091123
CREATED:20240122T214754Z
LAST-MODIFIED:20240122T222322Z
UID:12077-1709575200-1709586000@southsoundblues.org
SUMMARY:Monday Jazz at Brother Don’s Bar and Grill
DESCRIPTION:Monday Jazz at Brother Don’s Bar and Grill\, 6-9 pm\, Bremerton\, WA
URL:https://southsoundblues.org/event/monday-jazz-at-brother-dons-bar-and-grill-3/
LOCATION:Brother Don’s Bar & Grill\, 4200 Kitsap Way\, Bremerton\, WA\, 98312
CATEGORIES:Featured
END:VEVENT
BEGIN:VEVENT
DTSTART;TZID=America/Los_Angeles:20240306T180000
DTEND;TZID=America/Los_Angeles:20240306T180000
DTSTAMP:20260425T091123
CREATED:20240221T023456Z
LAST-MODIFIED:20240221T023456Z
UID:12184-1709748000-1709748000@southsoundblues.org
SUMMARY:Derrick D'MAR Martin with Farrell\, Hudson & Friends at the Spar
DESCRIPTION:Mar 6th\, at The Spar\, Tacoma\, LTD Presents: Derrick D’MAR Martin with Farrell\, Hudson & Friends\, 6pm
URL:https://southsoundblues.org/event/derrick-dmar-martin-with-farrell-hudson-friends-at-the-spar/
LOCATION:The Spar\, 2121 N 30th St\, Tacoma\, WA\, 98403
CATEGORIES:Featured
END:VEVENT
BEGIN:VEVENT
DTSTART;TZID=America/Los_Angeles:20240307T193000
DTEND;TZID=America/Los_Angeles:20240307T193000
DTSTAMP:20260425T091123
CREATED:20231126T223114Z
LAST-MODIFIED:20231126T223114Z
UID:11757-1709839800-1709839800@southsoundblues.org
SUMMARY:Rick Estrin & The Nightcats at The Triple Door\, Seattle
DESCRIPTION:Rick Estrin & The Nightcats\,Thursday\, March 7\, 2024 – 7:30 pm\, @ The Triple Door\n 
URL:https://southsoundblues.org/event/rick-estrin-the-nightcats-at-the-triple-door-seattle/
LOCATION:The Triple Door\, 216 Union St\,\, Seattle\, WA\, 98101
CATEGORIES:Featured,Special Event
END:VEVENT
BEGIN:VEVENT
DTSTART;TZID=America/Los_Angeles:20240307T200000
DTEND;TZID=America/Los_Angeles:20240307T230000
DTSTAMP:20260425T091123
CREATED:20240302T191618Z
LAST-MODIFIED:20240302T191618Z
UID:12288-1709841600-1709852400@southsoundblues.org
SUMMARY:Mark DuFresne Band at the Salmon Bay Eagles\, Ballard WA
DESCRIPTION:Thursday March 7th it’s BLUES NIGHT at Salmon Bay Eagles Blues in Ballard with THE MARK DUFRESNE BAND. 8-11pm.
URL:https://southsoundblues.org/event/mark-dufresne-band-at-the-salmon-bay-eagles-ballard-wa/
LOCATION:Salmon Bay Eagles\, 5216 20th Ave NW\, Seattle\, WA\, 98107
CATEGORIES:Featured
END:VEVENT
BEGIN:VEVENT
DTSTART;TZID=America/Los_Angeles:20240308T190000
DTEND;TZID=America/Los_Angeles:20240308T190000
DTSTAMP:20260425T091123
CREATED:20240305T021939Z
LAST-MODIFIED:20240305T021939Z
UID:12305-1709924400-1709924400@southsoundblues.org
SUMMARY:Billy Stoops Duo at O'Looney's Irish Pub\, Gig Harbor
DESCRIPTION:Billy Stoops Duo at O’Looney’s Irish Pub\, March 8th\, 7pm\n \n3222 56th St \nGig Harbor\, WA\, 98335
URL:https://southsoundblues.org/event/billy-stoops-duo-at-olooneys-irish-pub-gig-harbor/
LOCATION:O’Looney’s Gig Harbor\, 3222 56th St.\, Gig Harbor\, WA\, 98335
CATEGORIES:Featured
END:VEVENT
BEGIN:VEVENT
DTSTART;TZID=America/Los_Angeles:20240308T190000
DTEND;TZID=America/Los_Angeles:20240308T210000
DTSTAMP:20260425T091123
CREATED:20240221T021050Z
LAST-MODIFIED:20240221T021050Z
UID:12168-1709924400-1709931600@southsoundblues.org
SUMMARY:Trailer Park Kings at the Kimball Coffeehouse
DESCRIPTION:Mar 8th\, at the Kimball Coffeehouse\, Gig Harbor\, Trailer Park Kings\, 7pm
URL:https://southsoundblues.org/event/trailer-park-kings-at-the-kimball-coffeehouse/
LOCATION:Kimball’s Coffeehouse\, 6659 Kimball Dr\, Gig Harbor\, WA\, 98335
CATEGORIES:Featured
END:VEVENT
BEGIN:VEVENT
DTSTART;TZID=America/Los_Angeles:20240309T160000
DTEND;TZID=America/Los_Angeles:20240309T190000
DTSTAMP:20260425T091123
CREATED:20240305T023129Z
LAST-MODIFIED:20240305T023431Z
UID:12308-1710000000-1710010800@southsoundblues.org
SUMMARY:The Dirt Angels at Urban Elk
DESCRIPTION:The Dirt Angels at Urban Elk March 9th\, 4-7pm.
URL:https://southsoundblues.org/event/the-dirt-angels-at-urban-elk/
LOCATION:Urban Elk\, 2013 S Cedar St\, Tacoma\, WA\, 98405
CATEGORIES:Featured,Local South Sound Blues
END:VEVENT
BEGIN:VEVENT
DTSTART;TZID=America/Los_Angeles:20240309T193000
DTEND;TZID=America/Los_Angeles:20240309T193000
DTSTAMP:20260425T091123
CREATED:20231126T222505Z
LAST-MODIFIED:20231126T222619Z
UID:11754-1710012600-1710012600@southsoundblues.org
SUMMARY:Coco Montoya with John "Greyhound" Maxwell at the Triple Door\, Seattle
DESCRIPTION:Coco Montoya with John “Greyhound” Maxwell at the Triple Door\, March 9th 7:30 Pm\n\nhttps://tickets.thetripledoor.net/eventperformances.asp?evt=110 \nPlease Note: Food and Drink service is provided to all seats in the Theatre. You do not need to make a separate dinner reservation; all seated guests receive full table service.
URL:https://southsoundblues.org/event/coco-montoya-with-john-greyhound-maxwell-at-the-triple-door-seattle/
LOCATION:The Triple Door\, 216 Union St\,\, Seattle\, WA\, 98101
CATEGORIES:Featured,Special Event
END:VEVENT
BEGIN:VEVENT
DTSTART;TZID=America/Los_Angeles:20240313T080000
DTEND;TZID=America/Los_Angeles:20240313T170000
DTSTAMP:20260425T091123
CREATED:20240313T225300Z
LAST-MODIFIED:20240313T225300Z
UID:12415-1710316800-1710349200@southsoundblues.org
SUMMARY:Billy Stapleton's Powerhouse at Remlinger Farms\, Carnation
DESCRIPTION:Apr 21st\, Remlinger Farms\, Carnation\, Billy Stapleton’s Powerhouse\, 5pm\n \n\n\n\n32610 N.E. 32nd Street\nCarnation\, WA\n98014 \n\n\n\n 
URL:https://southsoundblues.org/event/billy-stapletons-powerhouse-at-remlinger-farms-carnation/
LOCATION:Remlinger Brewery\, 32610 N.E. 32nd Street\, Carnation\, WA\, 98014
CATEGORIES:Featured
END:VEVENT
BEGIN:VEVENT
DTSTART;TZID=America/Los_Angeles:20240313T180000
DTEND;TZID=America/Los_Angeles:20240313T180000
DTSTAMP:20260425T091123
CREATED:20240221T023057Z
LAST-MODIFIED:20240221T023057Z
UID:12180-1710352800-1710352800@southsoundblues.org
SUMMARY:Dr. Jop's Funkin' Shop at the Spar
DESCRIPTION:Mar 13th\, The Spar\, Tacoma\, Dr. Jop’s Funkin’ Shop\, 6pm
URL:https://southsoundblues.org/event/dr-jops-funkin-shop-at-the-spar/
LOCATION:The Spar\, 2121 N 30th St\, Tacoma\, WA\, 98403
CATEGORIES:Featured
END:VEVENT
BEGIN:VEVENT
DTSTART;TZID=America/Los_Angeles:20240314T200000
DTEND;TZID=America/Los_Angeles:20240314T220000
DTSTAMP:20260425T091123
CREATED:20240311T211003Z
LAST-MODIFIED:20240311T211003Z
UID:12365-1710446400-1710453600@southsoundblues.org
SUMMARY:Victims of Love\, Eagles Tribute band\, at Purdy's Public House
DESCRIPTION:Victims of Love\, March 14th\, 8pm-10pm at Purdy’s Public House in Sumner.\n\n\nVictims of Love – A Live Tribute to the Eagles
URL:https://southsoundblues.org/event/victims-of-love-eagles-tribute-band-at-purdys-public-house/
LOCATION:Purdy’s Public House & Arcade\, Sumner\, 16202 64th St E\, Sumner\, WA\, 98390
CATEGORIES:Featured
END:VEVENT
BEGIN:VEVENT
DTSTART;TZID=America/Los_Angeles:20240315T190000
DTEND;TZID=America/Los_Angeles:20240315T190000
DTSTAMP:20260425T091123
CREATED:20240221T023916Z
LAST-MODIFIED:20240221T023916Z
UID:12188-1710529200-1710529200@southsoundblues.org
SUMMARY:Tim Lerch Trio at Cider & Cedar\, Tacoma
DESCRIPTION:Mar 15th\, at the Cider & Cedar\, Tacoma\, Tim Lerch Trio\, 7pm
URL:https://southsoundblues.org/event/tim-lerch-trio-at-cider-cedar-tacoma/
LOCATION:Cider & Cedar\, 744 Market St.\, Tacoma\, WA\, 98402
CATEGORIES:Featured
END:VEVENT
BEGIN:VEVENT
DTSTART;TZID=America/Los_Angeles:20240315T190000
DTEND;TZID=America/Los_Angeles:20240315T210000
DTSTAMP:20260425T091123
CREATED:20240221T023704Z
LAST-MODIFIED:20240221T023704Z
UID:12186-1710529200-1710536400@southsoundblues.org
SUMMARY:Greta Matassa at the Kimball Coffeehouse
DESCRIPTION:Mar 15th\, at the Kimball Coffeehouse\, Gig Harbor\, Greta Matassa\, 7pm
URL:https://southsoundblues.org/event/greta-matassa-at-the-kimball-coffeehouse-2/
LOCATION:Kimball’s Coffeehouse\, 6659 Kimball Dr\, Gig Harbor\, WA\, 98335
CATEGORIES:Featured
END:VEVENT
BEGIN:VEVENT
DTSTART;TZID=America/Los_Angeles:20240316T190000
DTEND;TZID=America/Los_Angeles:20240316T220000
DTSTAMP:20260425T091123
CREATED:20240226T224844Z
LAST-MODIFIED:20240226T224844Z
UID:12231-1710615600-1710626400@southsoundblues.org
SUMMARY:Lost and Found at the Spar
DESCRIPTION:Lost and Found at the Spar\, March 16th at 7 pm
URL:https://southsoundblues.org/event/lost-and-found-at-the-spar/
LOCATION:The Spar\, 2121 N 30th St\, Tacoma\, WA\, 98403
CATEGORIES:Featured
END:VEVENT
BEGIN:VEVENT
DTSTART;TZID=America/Los_Angeles:20240317T143000
DTEND;TZID=America/Los_Angeles:20240317T223000
DTSTAMP:20260425T091123
CREATED:20240306T013647Z
LAST-MODIFIED:20240306T013647Z
UID:12320-1710685800-1710714600@southsoundblues.org
SUMMARY:St. Paddy's Day at Purdy's Public House with The Bog Hoppers and The Hipsters
DESCRIPTION:St. Paddy’s Day at Purdy’s Public House with The Bog Hoppers\, Celtic music\, 3-5 pm\,  and The Hipsters\, Modern Rock\, 7-10 pm.
URL:https://southsoundblues.org/event/st-paddys-day-at-purdys-public-house-with-the-bog-hoppers-and-the-hipsters/
LOCATION:Purdy’s Public House & Arcade\, 16202 64th St E\, Sumner\, WA\, 98390
CATEGORIES:Featured,Special Event
END:VEVENT
BEGIN:VEVENT
DTSTART;TZID=America/Los_Angeles:20240320T180000
DTEND;TZID=America/Los_Angeles:20240320T180000
DTSTAMP:20260425T091123
CREATED:20240221T024420Z
LAST-MODIFIED:20240221T024420Z
UID:12192-1710957600-1710957600@southsoundblues.org
SUMMARY:King Grand at the Spar
DESCRIPTION:Mar 20th\, The Spar\, Tacoma\, King Grand\, 6pm
URL:https://southsoundblues.org/event/king-grand-at-the-spar-3/
LOCATION:The Spar\, 2121 N 30th St\, Tacoma\, WA\, 98403
CATEGORIES:Featured
END:VEVENT
BEGIN:VEVENT
DTSTART;TZID=America/Los_Angeles:20240322T193000
DTEND;TZID=America/Los_Angeles:20240322T193000
DTSTAMP:20260425T091123
CREATED:20231113T213506Z
LAST-MODIFIED:20231113T213506Z
UID:11721-1711135800-1711135800@southsoundblues.org
SUMMARY:Melissa Etheridge at the Pantages Theater
DESCRIPTION:Melissa Etheridge at the Pantages Theater March 22nd\, 7:30 pm\n 
URL:https://southsoundblues.org/event/melissa-etheridge-at-the-pantages-theater/
LOCATION:Pantages Theater\, 901 Broadway\, Tacoma\, WA\, 98402
CATEGORIES:Featured
END:VEVENT
BEGIN:VEVENT
DTSTART;TZID=America/Los_Angeles:20240323T190000
DTEND;TZID=America/Los_Angeles:20240323T220000
DTSTAMP:20260425T091123
CREATED:20240221T024728Z
LAST-MODIFIED:20240221T024728Z
UID:12196-1711220400-1711231200@southsoundblues.org
SUMMARY:Twang Junkies at the Spar
DESCRIPTION:Mar 23rd\, at The Spar\, Tacoma\, Twang Junkies\, 7pm
URL:https://southsoundblues.org/event/twang-junkies-at-the-spar-4/
LOCATION:The Spar\, 2121 N 30th St\, Tacoma\, WA\, 98403
CATEGORIES:Featured
END:VEVENT
BEGIN:VEVENT
DTSTART;TZID=America/Los_Angeles:20240327T180000
DTEND;TZID=America/Los_Angeles:20240327T180000
DTSTAMP:20260425T091123
CREATED:20240221T024552Z
LAST-MODIFIED:20240221T024552Z
UID:12194-1711562400-1711562400@southsoundblues.org
SUMMARY:How Now Brown Cow at the Spar
DESCRIPTION:Mar 27th\, The Spar\, Tacoma\, How Now Brown Cow\, 6pm
URL:https://southsoundblues.org/event/how-now-brown-cow-at-the-spar-3/
LOCATION:The Spar\, 2121 N 30th St\, Tacoma\, WA\, 98403
CATEGORIES:Featured
END:VEVENT
BEGIN:VEVENT
DTSTART;TZID=America/Los_Angeles:20240329T200000
DTEND;TZID=America/Los_Angeles:20240329T223000
DTSTAMP:20260425T091123
CREATED:20240221T022200Z
LAST-MODIFIED:20240221T022200Z
UID:12176-1711742400-1711751400@southsoundblues.org
SUMMARY:Powerhouse at the Easy Monkey\, Shoreline
DESCRIPTION:March 29th\, Easy Monkey\, Shoreline\, POWERHOUSE\, 8-10:30pm
URL:https://southsoundblues.org/event/powerhouse-at-the-easy-monkey-shoreline/
LOCATION:Easy Monkey Taphouse\, 17537 15th Ave NE Suite B\, Shoreline\, WA\, 98155
CATEGORIES:Featured
END:VEVENT
BEGIN:VEVENT
DTSTART;TZID=America/Los_Angeles:20240330T190000
DTEND;TZID=America/Los_Angeles:20240330T220000
DTSTAMP:20260425T091123
CREATED:20240221T022410Z
LAST-MODIFIED:20240221T022917Z
UID:12178-1711825200-1711836000@southsoundblues.org
SUMMARY:Groove Colony at the Spar
DESCRIPTION:Mar 30th at The Spar\, Tacoma\, Groove Colony\, 7pm
URL:https://southsoundblues.org/event/groove-colony-at-the-spar-3/
LOCATION:The Spar\, 2121 N 30th St\, Tacoma\, WA\, 98403
CATEGORIES:Featured
END:VEVENT
BEGIN:VEVENT
DTSTART;TZID=America/Los_Angeles:20240330T200000
DTEND;TZID=America/Los_Angeles:20240330T220000
DTSTAMP:20260425T091123
CREATED:20231216T214904Z
LAST-MODIFIED:20231216T214904Z
UID:11816-1711828800-1711836000@southsoundblues.org
SUMMARY:Dirt Angels at The Mill
DESCRIPTION:Dirt Angels at The Mill March 30th\, 8-10 pm
URL:https://southsoundblues.org/event/dirt-angels-at-the-mill/
LOCATION:The Mill of Milton\, 900 Meridian E. #50\, Milton\, WA\, 98354
CATEGORIES:Featured
END:VEVENT
BEGIN:VEVENT
DTSTART;TZID=America/Los_Angeles:20240401T180000
DTEND;TZID=America/Los_Angeles:20240401T210000
DTSTAMP:20260425T091123
CREATED:20240307T231540Z
LAST-MODIFIED:20240307T231540Z
UID:12336-1711994400-1712005200@southsoundblues.org
SUMMARY:Monday Jazz at Brother Don’s Bar and Grill
DESCRIPTION:Monday Jazz at Brother Don’s Bar and Grill\, 6-9 pm\, Bremerton\, WA
URL:https://southsoundblues.org/event/monday-jazz-at-brother-dons-bar-and-grill-4/
LOCATION:Brother Don’s Bar & Grill\, 4200 Kitsap Way\, Bremerton\, WA\, 98312
CATEGORIES:Featured
END:VEVENT
BEGIN:VEVENT
DTSTART;TZID=America/Los_Angeles:20240403T180000
DTEND;TZID=America/Los_Angeles:20240403T180000
DTSTAMP:20260425T091123
CREATED:20240313T232202Z
LAST-MODIFIED:20240313T232202Z
UID:12437-1712167200-1712167200@southsoundblues.org
SUMMARY:Boss Tenors at The Spar
DESCRIPTION:Apr 3rd\, The Spar\, Tacoma\, Boss Tenors\, 6pm
URL:https://southsoundblues.org/event/boss-tenors-at-the-spar/
LOCATION:The Spar\, 2121 N 30th St\, Tacoma\, WA\, 98403
CATEGORIES:Featured
END:VEVENT
BEGIN:VEVENT
DTSTART;TZID=America/Los_Angeles:20240405T190000
DTEND;TZID=America/Los_Angeles:20240405T210000
DTSTAMP:20260425T091123
CREATED:20240313T231408Z
LAST-MODIFIED:20240313T231408Z
UID:12429-1712343600-1712350800@southsoundblues.org
SUMMARY:Melanie Vail & Friends at Kimball Coffeehouse
DESCRIPTION:Apr 5th\, Kimball Coffeehouse\, Gig Harbor\, Melanie Vail & Friends\, 7-9 pm
URL:https://southsoundblues.org/event/melanie-vail-friends-at-kimball-coffeehouse/
LOCATION:Kimball’s Coffeehouse\, 6659 Kimball Dr\, Gig Harbor\, WA\, 98335
CATEGORIES:Featured
END:VEVENT
BEGIN:VEVENT
DTSTART;TZID=America/Los_Angeles:20240405T203000
DTEND;TZID=America/Los_Angeles:20240405T233000
DTSTAMP:20260425T091123
CREATED:20240306T011130Z
LAST-MODIFIED:20240306T011302Z
UID:12316-1712349000-1712359800@southsoundblues.org
SUMMARY:Petty Cash\, tribute band\, at Purdy's\, Sumner
DESCRIPTION:April 5th\, Tom Petty/Johnny Cash tribute is a match that only exists in the stuff of legends. All the hits\, deep cuts\, and surprises and at a place where good food\, good drinks\, and good people know how to party! Purdys public house!\n\n\n\n\n\n\n$5 entertainment charge. Show starts at 8:30!
URL:https://southsoundblues.org/event/tom-petty-johnny-cash-tribute-band-at-purdys-sumner/
LOCATION:Purdy’s Public House & Arcade\, Sumner\, 16202 64th St E\, Sumner\, WA\, 98390
CATEGORIES:Featured
END:VEVENT
BEGIN:VEVENT
DTSTART;TZID=America/Los_Angeles:20240406T190000
DTEND;TZID=America/Los_Angeles:20240406T190000
DTSTAMP:20260425T091123
CREATED:20240313T231634Z
LAST-MODIFIED:20240313T231634Z
UID:12431-1712430000-1712430000@southsoundblues.org
SUMMARY:Mr. Blackwatch at The Spar
DESCRIPTION:Apr 6th\, The Spar\, Tacoma\, Mr. Blackwatch\, 7pm
URL:https://southsoundblues.org/event/mr-blackwatch-at-the-spar-2/
LOCATION:The Spar\, 2121 N 30th St\, Tacoma\, WA\, 98403
CATEGORIES:Featured
END:VEVENT
BEGIN:VEVENT
DTSTART;TZID=America/Los_Angeles:20240407T150000
DTEND;TZID=America/Los_Angeles:20240407T200000
DTSTAMP:20260425T091123
CREATED:20240307T223003Z
LAST-MODIFIED:20240401T183526Z
UID:12324-1712502000-1712520000@southsoundblues.org
SUMMARY:"For The Love of Music"\, Benefit Concert for the Musicians Relief Fund at the Historic Everett Theatre
DESCRIPTION:Event by Washington Blues Society and South Sound Blues Association \nApril 7th\, 3pm at historic Everett Theater\, benefit concert for the Musicians Relief Fund.\n\n\n\n\n\n\n\n\n\nWashington Blues Society \n\n\n\n\n\n\n\n\n\n\n\n\n\n\n\n\n\n\nThe Washington Blues Society Presents\, “For The Love of Music”: For the Love of Musicians a Benefit Concert for the Musicians Relief Fund\n\n\n\n\n\n\n\n\nSunday April 7th 3pm at Historic Everett Theater.\n\nLive and Silent Auction\n$20\nALL AGES – ALL WELCOME\n*all proceeds go to the WBS Musicians Relief Fund*\nLearn more Here: https://wablues.org/home-2/musicians-relief-fund/
URL:https://southsoundblues.org/event/wbs-ssba12324/
LOCATION:Everett Theatre\, 2911 Colby Ave\, Everett\, WA\, 98201
CATEGORIES:Featured,Special Event
END:VEVENT
END:VCALENDAR