BEGIN:VCALENDAR
VERSION:2.0
PRODID:-//South Sound Blues Association - ECPv6.15.18//NONSGML v1.0//EN
CALSCALE:GREGORIAN
METHOD:PUBLISH
X-ORIGINAL-URL:https://southsoundblues.org
X-WR-CALDESC:Events for South Sound Blues Association
REFRESH-INTERVAL;VALUE=DURATION:PT1H
X-Robots-Tag:noindex
X-PUBLISHED-TTL:PT1H
BEGIN:VTIMEZONE
TZID:America/Los_Angeles
BEGIN:DAYLIGHT
TZOFFSETFROM:-0800
TZOFFSETTO:-0700
TZNAME:PDT
DTSTART:20220313T100000
END:DAYLIGHT
BEGIN:STANDARD
TZOFFSETFROM:-0700
TZOFFSETTO:-0800
TZNAME:PST
DTSTART:20221106T090000
END:STANDARD
BEGIN:DAYLIGHT
TZOFFSETFROM:-0800
TZOFFSETTO:-0700
TZNAME:PDT
DTSTART:20230312T100000
END:DAYLIGHT
BEGIN:STANDARD
TZOFFSETFROM:-0700
TZOFFSETTO:-0800
TZNAME:PST
DTSTART:20231105T090000
END:STANDARD
BEGIN:DAYLIGHT
TZOFFSETFROM:-0800
TZOFFSETTO:-0700
TZNAME:PDT
DTSTART:20240310T100000
END:DAYLIGHT
BEGIN:STANDARD
TZOFFSETFROM:-0700
TZOFFSETTO:-0800
TZNAME:PST
DTSTART:20241103T090000
END:STANDARD
END:VTIMEZONE
BEGIN:VEVENT
DTSTART;TZID=America/Los_Angeles:20230812T120000
DTEND;TZID=America/Los_Angeles:20230812T210000
DTSTAMP:20260424T185207
CREATED:20230508T224613Z
LAST-MODIFIED:20230508T224613Z
UID:10382-1691841600-1691874000@southsoundblues.org
SUMMARY:Gig Harbor's Rockin' Rhythm & Blues Festival
DESCRIPTION:Gig Harbor’s Rockin’ Rhythm & Blues Festival\, August 12th\, Noon – 9 pm.\n \nFeaturing Live Bands:\nBILLY STAPLETON\nALL FUNK N’ GAMES\nROEMAN & THE WHEREABOUTS\n9\nMAGICAL HISTORY TOUR\nTHE PROFITS\nRED HOUSE\nHD FUSION WITH MADDY DULLUM\nTICKETS:\nHarbor Barber (253) 858-3613\nFinholm’s Harbor (253) 851-2292\nKimball Coffeehouse (253) 858-2625
URL:https://southsoundblues.org/event/gig-harbors-rockin-rhythm-blues-festival-3/
LOCATION:Gig Harbor Sportsman’s Club\, 9721 Burnham Drive NW\, Gig Harbor\, WA\, 98332
CATEGORIES:Festival,Local South Sound Blues
END:VEVENT
BEGIN:VEVENT
DTSTART;TZID=America/Los_Angeles:20230812T140000
DTEND;TZID=America/Los_Angeles:20230812T200000
DTSTAMP:20260424T185207
CREATED:20230514T184652Z
LAST-MODIFIED:20230514T184652Z
UID:10430-1691848800-1691870400@southsoundblues.org
SUMMARY:Brew Five Three Beer and Music Festival
DESCRIPTION:The 10th Annual Brew Five Three music festival at Chambers Bay\,  2-8 pm\nBrew Five Three:  \nThe 253’s Beer and Music Festival \n  \nAdvance Tickets: $50Chambers Bay Golf Course\n6320 Grandview Dr W\, University Place\, WA 98467
URL:https://southsoundblues.org/event/brew-five-three-beer-and-music-festival/
LOCATION:Chambers Bay Golf Course\, 6320 Grandview Dr W\, University Place\,\, WA\, 98467
CATEGORIES:Festival
END:VEVENT
BEGIN:VEVENT
DTSTART;TZID=America/Los_Angeles:20230819T140000
DTEND;TZID=America/Los_Angeles:20230819T190000
DTSTAMP:20260424T185207
CREATED:20230509T015746Z
LAST-MODIFIED:20230509T020000Z
UID:10418-1692453600-1692471600@southsoundblues.org
SUMMARY:New Orleans-style Cajun Festival
DESCRIPTION:Family\, New Orleans-style Cajun Festival at Burlington Green Park in Kent\, WA 2-7 pm.\nSpice up your taste buds and experience the soul of Louisiana in the Pacific Northwest.  Dance\, dine\, and have a ragin’ Cajun good time where Southern culture and hospitality turn historic downtown Kent into a “Little Louisiana”! \nMUSICIANS:   Bayou Envie\,      Two Loose Cajun/Zydeco\,     New Iberians\,   Eric “Two Scoops” Moore\,       Bigfoot Brass Band \nBEER GARDEN:  Logan Brewing \nFEATURED FOOD:  Po’Boy & Tings\, Dat Creole Soul\, Al’s Sausage\, The Man BBQ\, All City Ice Cream\, Where Ya at Matt\,   The Village Perk\, Altha’s Louisiana Cajun Spices \nNew Orleans-style costumes encouraged washboards\, folding chairs\, and blankets. FREE family event. \nLive music and dancing will keep festivalgoers entertained throughout the day\, with performances by local and regional Cajun and Zydeco bands.  It’s a perfect opportunity for locals and visitors to experience the vibrant and lively culture of Louisiana\, Cajun-themed food trucks\, beer/wine garden\, vendors/artists\, and activities for the kids.  This event will be held in downtown Kent Burlington Green Park.
URL:https://southsoundblues.org/event/new-orleans-style-cajun-festival/
LOCATION:Burlington green Park\, 201 E. Meeker Street\, Kent\, WA\, 98032
CATEGORIES:Festival,Local South Sound Blues
END:VEVENT
BEGIN:VEVENT
DTSTART;TZID=America/Los_Angeles:20230820T110000
DTEND;TZID=America/Los_Angeles:20230820T170000
DTSTAMP:20260424T185207
CREATED:20230505T011327Z
LAST-MODIFIED:20230505T011327Z
UID:10351-1692529200-1692550800@southsoundblues.org
SUMMARY:King Kom Beaux at the DuPont-Hudson’s Bay BBQ Competition Festival & Car Show
DESCRIPTION:King Kom Beaux at the DuPont-Hudson’s Bay BBQ Competition Festival & Car Show\, 11am\n\n\nFor the absolute best in BBQ Competition Festivals – Low and Slow Barbeque\, Heritage Car Show\, Live Music\, Local Culinary Fare\, a Beer Garden featuring local craft brews\, wines\, liquors and cocktails\, fantastic Children’s Activities and Historical Activities and Demonstrations\, come to Clocktower Park in DuPont. \nKing Kom Beaux performs on Sunday at 11am\, more music after. \n\n\n\n\nWednesday through Sunday\, 16-20 August 2023 – bring the whole family!
URL:https://southsoundblues.org/event/king-kom-beaux-at-the-dupont-hudsons-bay-bbq-competition-festival-car-show/
LOCATION:Clocktower Park\, 1400 Palisade Blvd.\, Dupont\, WA\, 98327
CATEGORIES:Festival
END:VEVENT
BEGIN:VEVENT
DTSTART;TZID=America/Los_Angeles:20230825T153000
DTEND;TZID=America/Los_Angeles:20230826T220000
DTSTAMP:20260424T185207
CREATED:20230508T225710Z
LAST-MODIFIED:20230508T225710Z
UID:10386-1692977400-1693087200@southsoundblues.org
SUMMARY:Sixth Annual Peninsula Rhythm & Blues Festival\, Ocean Park\, WA
DESCRIPTION:2023\, Sixth Annual Peninsula Rhythm & Blues Festival!\n \nPort of Peninsula\, 3311 275th Street\, Ocean Park\, WA  98640   Info: 360.244.5823
URL:https://southsoundblues.org/event/sixth-annual-peninsula-rhythm-blues-festival-ocean-park-wa/
LOCATION:Port of Peninsula\, Nahcotta\, WA\, 3311 275th St\, Ocean Park\, WA\, 98640
CATEGORIES:Festival
END:VEVENT
BEGIN:VEVENT
DTSTART;TZID=America/Los_Angeles:20230826T113000
DTEND;TZID=America/Los_Angeles:20230826T190000
DTSTAMP:20260424T185207
CREATED:20230508T230406Z
LAST-MODIFIED:20230711T210444Z
UID:10388-1693049400-1693076400@southsoundblues.org
SUMMARY:The 2023 Poverty Bay Blues & Brews Fest at Des Moines Beach Park
DESCRIPTION:The 2023 Poverty Bay Blues & Brews Fest\, August 26th\, 11:30 – 7 pm\n \nSaturday\, August 26\, 2023\, for four amazing blues performances and dozens of tasty craft-beers. Gates open at 11:00 am. \n11:30 to 1:00 Kenny-James-Miller Band\n1:30 to 3:00 Too Slim & The Taildraggers\n3:30 to 5:00 Johnny Wheels and the Swamp Donkeys\n5:30 to 7:00 Rick Estrin and the Nightcats
URL:https://southsoundblues.org/event/the-2023-poverty-bay-blues-brews-fest/
LOCATION:Des Moines Beach Park\, 22030D Cliff Ave S\, Des Moines\, WA\, 98198
CATEGORIES:Festival,Local South Sound Blues,Special Event
END:VEVENT
BEGIN:VEVENT
DTSTART;TZID=America/Los_Angeles:20230827T130000
DTEND;TZID=America/Los_Angeles:20230827T190000
DTSTAMP:20260424T185207
CREATED:20230508T232146Z
LAST-MODIFIED:20230711T211225Z
UID:10415-1693141200-1693162800@southsoundblues.org
SUMMARY:Third annual Dock Street Blues & Jazz Festival at the West of the Waterway\, Tacoma
DESCRIPTION:Dock Street Blues & Jazz Festival August 27th\, 1-7 pm\nDHudson Productions Presents:\n**ANNIKA CHAMBERS & PAUL DESLAURIERS!!**\nHailing from Houston\, Texas\, Annika & Paul have thrilled audiences all over the US and Canada with their hot and hard driving style.\nAlso performing:\nKIM FIELD & THE PERFECT GENTLEMEN\nT-TOWN ACES\nALL FUNK N’ GAMES\nCHRIS BICKLEY QUARTET\n 
URL:https://southsoundblues.org/event/dock-street-blues-jazz-festival/
LOCATION:Dock Street Deli West of the Waterway\, 1901 Dock Street\, Tacoma\, WA\, 98402
CATEGORIES:Featured,Festival,Local South Sound Blues,Special Event
END:VEVENT
END:VCALENDAR