BEGIN:VCALENDAR
VERSION:2.0
PRODID:-//South Sound Blues Association - ECPv6.15.18//NONSGML v1.0//EN
CALSCALE:GREGORIAN
METHOD:PUBLISH
X-WR-CALNAME:South Sound Blues Association
X-ORIGINAL-URL:https://southsoundblues.org
X-WR-CALDESC:Events for South Sound Blues Association
REFRESH-INTERVAL;VALUE=DURATION:PT1H
X-Robots-Tag:noindex
X-PUBLISHED-TTL:PT1H
BEGIN:VTIMEZONE
TZID:America/Los_Angeles
BEGIN:DAYLIGHT
TZOFFSETFROM:-0800
TZOFFSETTO:-0700
TZNAME:PDT
DTSTART:20230312T100000
END:DAYLIGHT
BEGIN:STANDARD
TZOFFSETFROM:-0700
TZOFFSETTO:-0800
TZNAME:PST
DTSTART:20231105T090000
END:STANDARD
BEGIN:DAYLIGHT
TZOFFSETFROM:-0800
TZOFFSETTO:-0700
TZNAME:PDT
DTSTART:20240310T100000
END:DAYLIGHT
BEGIN:STANDARD
TZOFFSETFROM:-0700
TZOFFSETTO:-0800
TZNAME:PST
DTSTART:20241103T090000
END:STANDARD
BEGIN:DAYLIGHT
TZOFFSETFROM:-0800
TZOFFSETTO:-0700
TZNAME:PDT
DTSTART:20250309T100000
END:DAYLIGHT
BEGIN:STANDARD
TZOFFSETFROM:-0700
TZOFFSETTO:-0800
TZNAME:PST
DTSTART:20251102T090000
END:STANDARD
END:VTIMEZONE
BEGIN:VEVENT
DTSTART;VALUE=DATE:20240308
DTEND;VALUE=DATE:20240312
DTSTAMP:20260424T083540
CREATED:20240222T002650Z
LAST-MODIFIED:20240222T002729Z
UID:12223-1709863200-1710122399@southsoundblues.org
SUMMARY:The 13th annual Walla Walla Guitar Festival
DESCRIPTION:The 13th annual Walla Walla Guitar Festival will be March 8\, 9\, 10\, 2024! Three days\, 40 acts in 15 venues in Downtown Walla Walla!\nGet your tickets now\, before they sell out!\nTickets & Hotel/Fest packages on sale now at …\nhttps://wallawallaguitarfestival.ticketbud.com/2024
URL:https://southsoundblues.org/event/the-13th-annual-walla-walla-guitar-festival/
LOCATION:Walla Walla Downtown\, 6 W Rose St\, Walla Walla\, WA\, 99362
CATEGORIES:Festival
END:VEVENT
END:VCALENDAR