BEGIN:VCALENDAR
VERSION:2.0
PRODID:-//South Sound Blues Association - ECPv6.15.18//NONSGML v1.0//EN
CALSCALE:GREGORIAN
METHOD:PUBLISH
X-WR-CALNAME:South Sound Blues Association
X-ORIGINAL-URL:https://southsoundblues.org
X-WR-CALDESC:Events for South Sound Blues Association
REFRESH-INTERVAL;VALUE=DURATION:PT1H
X-Robots-Tag:noindex
X-PUBLISHED-TTL:PT1H
BEGIN:VTIMEZONE
TZID:America/Los_Angeles
BEGIN:DAYLIGHT
TZOFFSETFROM:-0800
TZOFFSETTO:-0700
TZNAME:PDT
DTSTART:20230312T100000
END:DAYLIGHT
BEGIN:STANDARD
TZOFFSETFROM:-0700
TZOFFSETTO:-0800
TZNAME:PST
DTSTART:20231105T090000
END:STANDARD
BEGIN:DAYLIGHT
TZOFFSETFROM:-0800
TZOFFSETTO:-0700
TZNAME:PDT
DTSTART:20240310T100000
END:DAYLIGHT
BEGIN:STANDARD
TZOFFSETFROM:-0700
TZOFFSETTO:-0800
TZNAME:PST
DTSTART:20241103T090000
END:STANDARD
BEGIN:DAYLIGHT
TZOFFSETFROM:-0800
TZOFFSETTO:-0700
TZNAME:PDT
DTSTART:20250309T100000
END:DAYLIGHT
BEGIN:STANDARD
TZOFFSETFROM:-0700
TZOFFSETTO:-0800
TZNAME:PST
DTSTART:20251102T090000
END:STANDARD
END:VTIMEZONE
BEGIN:VEVENT
DTSTART;TZID=America/Los_Angeles:20240516T180000
DTEND;TZID=America/Los_Angeles:20240519T210000
DTSTAMP:20260424T051617
CREATED:20240229T001931Z
LAST-MODIFIED:20240502T014016Z
UID:12243-1715882400-1716152400@southsoundblues.org
SUMMARY:Sunbanks Country Blues Festival
DESCRIPTION:Sunbanks Country Blues Festival\, May 16-19th\, 2024     http://www.sunbanksfestival.com/\nhttps://www.sunbanksfestival.com/about.html
URL:https://southsoundblues.org/event/sunbanks-country-blues-festival/
LOCATION:Sunbanks Resort\, 57662 Hwy 155 N\, Electric City\, WA\, 99123
CATEGORIES:Festival
END:VEVENT
BEGIN:VEVENT
DTSTART;VALUE=DATE:20240517
DTEND;VALUE=DATE:20240521
DTSTAMP:20260424T051617
CREATED:20240229T001731Z
LAST-MODIFIED:20240229T001731Z
UID:12241-1715911200-1716170399@southsoundblues.org
SUMMARY:La Conner Guitar Festival
DESCRIPTION:La Conner Guitar Festival\, May 17-19th\, 2024
URL:https://southsoundblues.org/event/la-conner-guitar-festival/
LOCATION:La Conner Guitar Festival\, 104 Commercial\, La Conner\, WA\, 98257
CATEGORIES:Festival
END:VEVENT
END:VCALENDAR