BEGIN:VCALENDAR
VERSION:2.0
PRODID:-//South Sound Blues Association - ECPv6.15.18//NONSGML v1.0//EN
CALSCALE:GREGORIAN
METHOD:PUBLISH
X-ORIGINAL-URL:https://southsoundblues.org
X-WR-CALDESC:Events for South Sound Blues Association
REFRESH-INTERVAL;VALUE=DURATION:PT1H
X-Robots-Tag:noindex
X-PUBLISHED-TTL:PT1H
BEGIN:VTIMEZONE
TZID:America/Los_Angeles
BEGIN:DAYLIGHT
TZOFFSETFROM:-0800
TZOFFSETTO:-0700
TZNAME:PDT
DTSTART:20230312T100000
END:DAYLIGHT
BEGIN:STANDARD
TZOFFSETFROM:-0700
TZOFFSETTO:-0800
TZNAME:PST
DTSTART:20231105T090000
END:STANDARD
BEGIN:DAYLIGHT
TZOFFSETFROM:-0800
TZOFFSETTO:-0700
TZNAME:PDT
DTSTART:20240310T100000
END:DAYLIGHT
BEGIN:STANDARD
TZOFFSETFROM:-0700
TZOFFSETTO:-0800
TZNAME:PST
DTSTART:20241103T090000
END:STANDARD
BEGIN:DAYLIGHT
TZOFFSETFROM:-0800
TZOFFSETTO:-0700
TZNAME:PDT
DTSTART:20250309T100000
END:DAYLIGHT
BEGIN:STANDARD
TZOFFSETFROM:-0700
TZOFFSETTO:-0800
TZNAME:PST
DTSTART:20251102T090000
END:STANDARD
END:VTIMEZONE
BEGIN:VEVENT
DTSTART;TZID=America/Los_Angeles:20240613T190000
DTEND;TZID=America/Los_Angeles:20240613T210000
DTSTAMP:20260424T035100
CREATED:20240602T023955Z
LAST-MODIFIED:20240602T023955Z
UID:12823-1718305200-1718312400@southsoundblues.org
SUMMARY:Evan Purcell Band at APIZZA\, Little Italy\, Tacoma
DESCRIPTION:Thurs. June 13th – Evan Purcell Band (rock\, Americana) at APIZZA\,  7-9 PM
URL:https://southsoundblues.org/event/evan-purcell-band-at-apizza-little-italy-tacoma/
LOCATION:APIZZA\, 821 Pacific Ave\, Tacoma\, WA\, 98402
CATEGORIES:Festival
END:VEVENT
BEGIN:VEVENT
DTSTART;VALUE=DATE:20240621
DTEND;VALUE=DATE:20240624
DTSTAMP:20260424T035100
CREATED:20240229T002352Z
LAST-MODIFIED:20240229T002352Z
UID:12245-1718935200-1719107999@southsoundblues.org
SUMMARY:Gorge Blues and Brews Festival\, Stevenson WA
DESCRIPTION:Gorge Blues and Brews\, June 21st and 22nd\, 2024\, Skamania County Fairgrounds\, Stevenson\, WA\nhttps://www.eventbrite.com/e/29th-annual-gorge-blues-and-brews-festival-tickets-269165229447
URL:https://southsoundblues.org/event/gorge-blues-and-brews-festival-stevenson-wa/
LOCATION:Skamania County Fairgrounds\, 710 SW Rock Creek Dr\, Stevenson\, WA\, 98648
CATEGORIES:Festival
END:VEVENT
BEGIN:VEVENT
DTSTART;VALUE=DATE:20240622
DTEND;VALUE=DATE:20240625
DTSTAMP:20260424T035100
CREATED:20240228T192101Z
LAST-MODIFIED:20240530T204532Z
UID:12234-1719021600-1719194399@southsoundblues.org
SUMMARY:Rhubarb Days in downtown Sumner\, two days\, three stages of music
DESCRIPTION:Rhubarb Days in downtown Sumner. June 22-23rd\, 10-5pm-Saturday\, and 10-4pm-Sunday.\nMain Stage \nSaturday \n12:00-12:45 – Champagne Sunday \n1:15-2pm – The Spinoffs \n2:30-3:15 – Cory Wilds Band \n3:45- 5pm -Townies \nSunday \n12:00-1pm – Kage Dallas \n1:30- 2:30pm – Fabulous Murphtones \n3:00-4pm – Amelia Day and The Cloves \nArtist Stage  \nSaturday \n12:45-1:45- Gina Belliveau \n2:00pm-3pm- Andy Shofner \n3:30pm-4:30pm- Kristen Marlo \nSunday \n11:00am-12:00- Kirk Lindsey \n1:00pm-2:00pm- Rob Tudor \n3:00pm-4:00pm- Stephanie Anderson \nFood Court Stage \nJim Meck: \nSaturday June 22- 11am- 4:30pm \nSunday June 23- 11am- 3:30pm \nhttps://www.sumnermainstreet.com/events/rhubarb-days-2024/ \nFeatures several music stages\, food and fun for the whole family in the beautiful town of Sumner\, WA.
URL:https://southsoundblues.org/event/rhubarb-days-festival-in-downtown-sumner/
LOCATION:Sumner Rhubarb festival\, 923 Kincaide Ave\, Sumner\, WA\, 98390
CATEGORIES:Festival
END:VEVENT
END:VCALENDAR