BEGIN:VCALENDAR
VERSION:2.0
PRODID:-//South Sound Blues Association - ECPv6.15.18//NONSGML v1.0//EN
CALSCALE:GREGORIAN
METHOD:PUBLISH
X-ORIGINAL-URL:https://southsoundblues.org
X-WR-CALDESC:Events for South Sound Blues Association
REFRESH-INTERVAL;VALUE=DURATION:PT1H
X-Robots-Tag:noindex
X-PUBLISHED-TTL:PT1H
BEGIN:VTIMEZONE
TZID:America/Los_Angeles
BEGIN:DAYLIGHT
TZOFFSETFROM:-0800
TZOFFSETTO:-0700
TZNAME:PDT
DTSTART:20240310T100000
END:DAYLIGHT
BEGIN:STANDARD
TZOFFSETFROM:-0700
TZOFFSETTO:-0800
TZNAME:PST
DTSTART:20241103T090000
END:STANDARD
BEGIN:DAYLIGHT
TZOFFSETFROM:-0800
TZOFFSETTO:-0700
TZNAME:PDT
DTSTART:20250309T100000
END:DAYLIGHT
BEGIN:STANDARD
TZOFFSETFROM:-0700
TZOFFSETTO:-0800
TZNAME:PST
DTSTART:20251102T090000
END:STANDARD
BEGIN:DAYLIGHT
TZOFFSETFROM:-0800
TZOFFSETTO:-0700
TZNAME:PDT
DTSTART:20260308T100000
END:DAYLIGHT
BEGIN:STANDARD
TZOFFSETFROM:-0700
TZOFFSETTO:-0800
TZNAME:PST
DTSTART:20261101T090000
END:STANDARD
END:VTIMEZONE
BEGIN:VEVENT
DTSTART;VALUE=DATE:20250515
DTEND;VALUE=DATE:20250520
DTSTAMP:20260423T115637
CREATED:20250311T164719Z
LAST-MODIFIED:20250311T164847Z
UID:14449-1747274400-1747619999@southsoundblues.org
SUMMARY:Sunbanks Blues\, Country & Roots Festival
DESCRIPTION:The May lineup is in! As usual\, Billy Stoops never disappoints – some of our tried and true favorites\, a few Sunbanks first timers\, and some old friends that haven’t played in a while. Gonna be a hell of a spring!    https://www.sunbanksfestival.com/tickets.html\n\n\nSUNBANKS May 15-18\, 2025\n\n\nLeroy Bell & His Only Friends\nThe Davisson Brothers\nThe New Primitives\nAmanda Fish\nHarlis Sweetwater\nThe Strangetones\nSammy Eubanks\nPolly O’Keary & the Rhythm Method\nBilly Stoops & The Dirt Angels\nStacy Jones Band\nHeather Jones & Groove Masters\nSweet Thang & the Stumblers\nStephanie Anne Johnson\nBilly Stapleton’s Powerhouse\nOctopus Ballet
URL:https://southsoundblues.org/event/sunbanks-blues-country-roots-festival/
LOCATION:Sunbanks Resort\, 57662 Hwy 155 N\, Electric City\, WA\, 99123
CATEGORIES:Festival
END:VEVENT
BEGIN:VEVENT
DTSTART;VALUE=DATE:20250516
DTEND;VALUE=DATE:20250520
DTSTAMP:20260423T115637
CREATED:20250313T013436Z
LAST-MODIFIED:20250313T013436Z
UID:14530-1747360800-1747619999@southsoundblues.org
SUMMARY:La Conner Guitar Festival
DESCRIPTION:La Conner Guitar Festival\, May 16-18th\, 2025\nconcerts\, workshops\, exhibits and a whole lot of great fun at one beautiful location. \n  \n\n\nLa Conner Guitar Festival 2025\nListen to\, Play\, and Shop for the world’s finest handmade instruments.\nMay 16th thru 18th\nMain Venue & Box Office: Maple Hall\, 104 Commercial St. La Conner\, Washington 98257 \n\n\n\n\n\n\n\n\n\n\n\n\n\n\n\n\n\n\n\n\nhttps://www.laconnerguitarfestival.com/
URL:https://southsoundblues.org/event/la-conner-guitar-festival-2/
LOCATION:La Conner Guitar Festival\, 104 Commercial\, La Conner\, WA\, 98257
CATEGORIES:Festival
END:VEVENT
END:VCALENDAR