BEGIN:VCALENDAR
VERSION:2.0
PRODID:-//South Sound Blues Association - ECPv6.15.18//NONSGML v1.0//EN
CALSCALE:GREGORIAN
METHOD:PUBLISH
X-WR-CALNAME:South Sound Blues Association
X-ORIGINAL-URL:https://southsoundblues.org
X-WR-CALDESC:Events for South Sound Blues Association
REFRESH-INTERVAL;VALUE=DURATION:PT1H
X-Robots-Tag:noindex
X-PUBLISHED-TTL:PT1H
BEGIN:VTIMEZONE
TZID:America/Los_Angeles
BEGIN:DAYLIGHT
TZOFFSETFROM:-0800
TZOFFSETTO:-0700
TZNAME:PDT
DTSTART:20240310T100000
END:DAYLIGHT
BEGIN:STANDARD
TZOFFSETFROM:-0700
TZOFFSETTO:-0800
TZNAME:PST
DTSTART:20241103T090000
END:STANDARD
BEGIN:DAYLIGHT
TZOFFSETFROM:-0800
TZOFFSETTO:-0700
TZNAME:PDT
DTSTART:20250309T100000
END:DAYLIGHT
BEGIN:STANDARD
TZOFFSETFROM:-0700
TZOFFSETTO:-0800
TZNAME:PST
DTSTART:20251102T090000
END:STANDARD
BEGIN:DAYLIGHT
TZOFFSETFROM:-0800
TZOFFSETTO:-0700
TZNAME:PDT
DTSTART:20260308T100000
END:DAYLIGHT
BEGIN:STANDARD
TZOFFSETFROM:-0700
TZOFFSETTO:-0800
TZNAME:PST
DTSTART:20261101T090000
END:STANDARD
END:VTIMEZONE
BEGIN:VEVENT
DTSTART;VALUE=DATE:20250704
DTEND;VALUE=DATE:20250707
DTSTAMP:20260423T091623
CREATED:20250319T012606Z
LAST-MODIFIED:20250319T012606Z
UID:14566-1751594400-1751767199@southsoundblues.org
SUMMARY:Waterfront Blues Festival\, McCall Waterfront Park\, Portland
DESCRIPTION:Waterfront Blues Festival in Portland July 4-5th\, 2025                               in the bowl of Tom McCall Waterfront Park        \nThe Biggest and the best!  \n  \nhttps://waterfrontbluesfest.com/
URL:https://southsoundblues.org/event/waterfront-blues-festival-mccall-waterfront-park-portland/
LOCATION:Tom McCall Waterfront Park\, 8 SW Naito Pkwy\, Portland\, OR\, 97204
CATEGORIES:Festival
END:VEVENT
BEGIN:VEVENT
DTSTART;VALUE=DATE:20250718
DTEND;VALUE=DATE:20250722
DTSTAMP:20260423T091623
CREATED:20250502T012920Z
LAST-MODIFIED:20250502T012920Z
UID:14794-1752804000-1753063199@southsoundblues.org
SUMMARY:Winthrop Rhythm & Blues Festival\, Winthrop WA
DESCRIPTION:July 18th & 20th\, Winthrop Rhythm & Blues Festival\, Winthrop WA.\nThis is the best little festival in the beautiful Methow Valley\, packed full of exciting national and regional entertainment for all ages. Come out to enjoy amazing acts like Tab Benoit\, Samantha Fish\, Robert Randolph and\, Ben Rice & The PDX Hustle! Just the drive up there is a peak experience! \nTickets: https://winthropbluesfestival.com/tickets/ \n\n\nEarly Bird – Sold Out! \n\n\nTier One – Sold Out! \n\n\nTier Two –$165 – On Sale now thru May 31! \n\nTier Three –$170– Available June 1 thru July 16–  Last Chance Before Prices Rise at the Gate\n\nDay of Show –$175– Available July 17 (at the gate only)
URL:https://southsoundblues.org/event/winthrop-rhythm-blues-festival-winthrop-wa/
LOCATION:Winthrop Blues Ranch\, North Cascades Highway 20\, Winthrop\, WA
CATEGORIES:Festival
END:VEVENT
BEGIN:VEVENT
DTSTART;VALUE=DATE:20250725
DTEND;VALUE=DATE:20250729
DTSTAMP:20260423T091623
CREATED:20250617T221309Z
LAST-MODIFIED:20250617T221631Z
UID:15178-1753408800-1753667999@southsoundblues.org
SUMMARY:Ellensburg Music Festival
DESCRIPTION:FRIDAY JULY 25\, 2025: \n\n5-7pm: Ruby Street (jazz)\n7-9pm: Ellensburg Big Band (swing)\n7-9pm: Blake Noble (country)\n7-9pm: Powerhouse (blues)\n9-11pm: Polyrhythmics (funk)\n\n\n\n\n\nSATURDAY JULY 26\, 2025: \n\n3-5pm: Michael Powers (jazz)\n\nWine Tasting ($25 extra ticket)\n\n\n5-7pm: Global Heat (covers)\n7-9pm: Mark Lewis Quartet (jazz)\n7-9pm: Joel Astley (blues)\n9-11pm: Cherry Poppin’ Daddies (swing ska)\n\n\n\n\n\nSUNDAY JULY 27\, 2025: \n\n10am to 12pm: Gary Wyatt’s Gospel Ensemble\n12-2pm: Darren Motamedy\n\n\n\n\n\n\n\n\nhttps://www.tickettomato.com/event/8477/\n\n\n    \n  \n The primary venue will be downtown Ellensburg’s Unity Park. They will also utilize The Clymer Museum and Gallery One Art Museum as additional venues between 7-9pm each night. They will be adding an additional event this year: a wine tasting between 3-5pm on Saturday inside Unity Park (extra ticket purchase required to wine taste). Michael Powers will provide music during the wine tasting event — music will be open to any ticketed guests.  \n\n\n\nJuly 25 – 27\, 2025\n417 N Pearl St\, Ellensburg\, WA 98926
URL:https://southsoundblues.org/event/ellensburg-music-festival-2/
LOCATION:Unity Park\, 417 N. Pearl St.\, Ellensburg\, WA\, 98926
CATEGORIES:Festival
END:VEVENT
BEGIN:VEVENT
DTSTART;VALUE=DATE:20250727
DTEND;VALUE=DATE:20250805
DTSTAMP:20260423T091623
CREATED:20250715T011818Z
LAST-MODIFIED:20250715T012629Z
UID:15457-1753581600-1754272799@southsoundblues.org
SUMMARY:Centrum Acoustic Blues Workshops & Festival
DESCRIPTION:Centrum Presents Blues in the Clubs August 2nd 2025 7:30pm – 10:30pm\n\n\n\n\n\n\n\n\n\n\nAcoustic Blues Music Performance Centrum Presents: Acoustic Blues Festival\n\n\n\n\n\n\n\n\n\n\nBlues in the Clubs FORT WORDEN STATE PARK VENUES \nBuilding 204 (Up North & Up South) and The Commons. \n(venues subject to change) Admission with wristband: $30 per night \nBlues in the Clubs is a movable feast of great music in various Fort Worden venues\, with each venue operating on a first-come\, first- served basis. Your wristband is an all-access pass\, and we encourage you to move around throughout the evening to gain the full benefit of the clubs experience. \n\n\n\n\n https://centrum.org/event/blues-in-the-clubs-3-2/\n ALSO\,\nCentrum Presents Acoustic Blues Workshop & Festival July 27 2025 – August 03 2025\nhttps://centrum.org/program/acoustic-blues/\n \nIn the depths of summer\, Centrum goes deep into traditional blues. Now in its 32nd year\, the Acoustic Blues workshop week continues to offer a side of the blues that popular culture does not always recognize – its roots! \nImmerse yourself in a creative community of artists from across the globe who share a passion for early blues traditions and moving the genre forward. Centrum Blues week celebrates the music and traditions of African American folk blues\, its roots\, forerunners\, and their stories\, while at the same time coming into the future with a new twist on the past.  https://web.cvent.com/event/00d8b568-e4b5-4bbe-aa46-6e8804deedcb/summary \nAcoustic Blues brings together a creative community of artists from across the globe who share a passion for early blues traditions and moving the genre forward. Blues week celebrates the music and traditions of African American folk blues\, its roots\, forerunners\, and their stories\, while at the same time coming into the future with a new twist on the past. \nThere is no age restriction. If you are familiar with your instrument\, you will get the most out of the experience. However\, this is not required and anyone who wants to be here is encouraged to do so. Youth (those under 18) must be accompanied by an adult (21+) guardian (no charge for non-participating guardian) and will be required to sign a Centrum Student Behavior Contract. If staying in the dorm\, the guardian must also stay in the dorm. \nhttps://centrum.org/program/acoustic-blues/ \n 
URL:https://southsoundblues.org/event/centrum-acoustic-blues-workshop-festival/
LOCATION:Fort Worden State Park\, 200 Battery Way\, Port Townsend\, WA\, 98368
CATEGORIES:Festival,Seminars and Workshops
END:VEVENT
END:VCALENDAR