BEGIN:VCALENDAR
VERSION:2.0
PRODID:-//South Sound Blues Association - ECPv6.15.18//NONSGML v1.0//EN
CALSCALE:GREGORIAN
METHOD:PUBLISH
X-ORIGINAL-URL:https://southsoundblues.org
X-WR-CALDESC:Events for South Sound Blues Association
REFRESH-INTERVAL;VALUE=DURATION:PT1H
X-Robots-Tag:noindex
X-PUBLISHED-TTL:PT1H
BEGIN:VTIMEZONE
TZID:America/Los_Angeles
BEGIN:DAYLIGHT
TZOFFSETFROM:-0800
TZOFFSETTO:-0700
TZNAME:PDT
DTSTART:20250309T100000
END:DAYLIGHT
BEGIN:STANDARD
TZOFFSETFROM:-0700
TZOFFSETTO:-0800
TZNAME:PST
DTSTART:20251102T090000
END:STANDARD
BEGIN:DAYLIGHT
TZOFFSETFROM:-0800
TZOFFSETTO:-0700
TZNAME:PDT
DTSTART:20260308T100000
END:DAYLIGHT
BEGIN:STANDARD
TZOFFSETFROM:-0700
TZOFFSETTO:-0800
TZNAME:PST
DTSTART:20261101T090000
END:STANDARD
BEGIN:DAYLIGHT
TZOFFSETFROM:-0800
TZOFFSETTO:-0700
TZNAME:PDT
DTSTART:20270314T100000
END:DAYLIGHT
BEGIN:STANDARD
TZOFFSETFROM:-0700
TZOFFSETTO:-0800
TZNAME:PST
DTSTART:20271107T090000
END:STANDARD
END:VTIMEZONE
BEGIN:VEVENT
DTSTART;VALUE=DATE:20260313
DTEND;VALUE=DATE:20260317
DTSTAMP:20260422T223136
CREATED:20260110T002220Z
LAST-MODIFIED:20260110T002258Z
UID:16753-1773367200-1773626399@southsoundblues.org
SUMMARY:Walla Walla Guitar Festival
DESCRIPTION:15th Annual Walla Walla Guitar Festival Friday\, March 13\, 2026 – Sunday\, March 15\, 2026\, 3 days\, 30 acts\, in 10 venues\n  \nhttps://wwguitarfestival.ticketbud.com/2026 \nDowntown Walla Walla \n6 West Rose Street\, Walla Walla\, WA\,
URL:https://southsoundblues.org/event/walla-walla-guitar-festival-2/
LOCATION:Walla Walla Downtown\, 6 W Rose St\, Walla Walla\, WA\, 99362
CATEGORIES:Festival
END:VEVENT
END:VCALENDAR