BEGIN:VCALENDAR
VERSION:2.0
PRODID:-//South Sound Blues Association - ECPv6.15.18//NONSGML v1.0//EN
CALSCALE:GREGORIAN
METHOD:PUBLISH
X-WR-CALNAME:South Sound Blues Association
X-ORIGINAL-URL:https://southsoundblues.org
X-WR-CALDESC:Events for South Sound Blues Association
REFRESH-INTERVAL;VALUE=DURATION:PT1H
X-Robots-Tag:noindex
X-PUBLISHED-TTL:PT1H
BEGIN:VTIMEZONE
TZID:America/Los_Angeles
BEGIN:DAYLIGHT
TZOFFSETFROM:-0800
TZOFFSETTO:-0700
TZNAME:PDT
DTSTART:20250309T100000
END:DAYLIGHT
BEGIN:STANDARD
TZOFFSETFROM:-0700
TZOFFSETTO:-0800
TZNAME:PST
DTSTART:20251102T090000
END:STANDARD
BEGIN:DAYLIGHT
TZOFFSETFROM:-0800
TZOFFSETTO:-0700
TZNAME:PDT
DTSTART:20260308T100000
END:DAYLIGHT
BEGIN:STANDARD
TZOFFSETFROM:-0700
TZOFFSETTO:-0800
TZNAME:PST
DTSTART:20261101T090000
END:STANDARD
BEGIN:DAYLIGHT
TZOFFSETFROM:-0800
TZOFFSETTO:-0700
TZNAME:PDT
DTSTART:20270314T100000
END:DAYLIGHT
BEGIN:STANDARD
TZOFFSETFROM:-0700
TZOFFSETTO:-0800
TZNAME:PST
DTSTART:20271107T090000
END:STANDARD
END:VTIMEZONE
BEGIN:VEVENT
DTSTART;VALUE=DATE:20260514
DTEND;VALUE=DATE:20260519
DTSTAMP:20260422T223655
CREATED:20260211T004041Z
LAST-MODIFIED:20260211T004041Z
UID:17016-1778724000-1779069599@southsoundblues.org
SUMMARY:Lake Chelan Wine and Jazz Festival
DESCRIPTION:Lake Chelan Wine and Jazz Festival May 14-17th\nThe Lake Chelan Wine and Jazz Festival showcases a wide range of musical genres\, including funk\, R&B\, MoTown\, Latin jazz\, vocalists\, Blues\, and traditional jazz.Internationally acclaimed artists and bands perform at 9 award-winning wineries and historic downtown venues in the heart of the Lake Chelan Wine Valley.\n\nThere are two types of Festival Passes available for purchase. An All Access VIP Festival Pass ($169.00) and a Saturday Single Day Pass ($129.00). \nFull 4-Day Festival Pass – $169.00: \n\nTransportation for Friday and Saturday performances\nA glass of wine at check-in\nSpecials and discounts at participating local businesses and wineries\n\nSaturday Single Day Pass – $129.00: \n\nAccess to all Saturday performances\nA glass wine at check-in\nTransportation for Saturday performances\nSpecials and discounts at participating local businesses and wineries\n\nFood and wine are available for purchase at each venue. Performance schedules are designed for you to see multiple shows each day and to enjoy artists at different venues. \n\nOver 40 performances at 9 wineries and venues throughout the Lake Chelan Wine Valley over 4 days.\nAward-winning wines served at every performance venue\n“Weatherproofed” weekend outdoor venues.\nSpecials and discounts for ticket holders are offered by local businesses\, eateries\, and wineries around the lake.\nNet proceeds from festival ticket sales benefit local Chelan and Manson school music programs.\n\nLearn more at https://www.chelanwinejazz.com \n\nhttps://www.facebook.com/lakechelanwineandjazzfestival/about\n \nMeet the bands and incredible artists taking our 9 stages this May. Today we’re introducing CD Woodbury! \n \nThis Washington Blues Society Hall of Fame inductee is a force of nature on the guitar. Stay tuned as we reveal more of our world-class lineup for the @lakechelanwinejazz May 14-17\, 2026 \nFour days\, nine venues\, twenty bands\, forty six shows visit: chelanwineandjazz.com
URL:https://southsoundblues.org/event/lake-chelan-wine-and-jazz-festival/
LOCATION:WA
CATEGORIES:Festival
END:VEVENT
BEGIN:VEVENT
DTSTART;VALUE=DATE:20260514
DTEND;VALUE=DATE:20260519
DTSTAMP:20260422T223655
CREATED:20260110T000920Z
LAST-MODIFIED:20260110T001344Z
UID:16746-1778724000-1779069599@southsoundblues.org
SUMMARY:Sunbanks Blues\, Roots\, Americana festival
DESCRIPTION:Sunbanks Blues\, Roots\, Americana festival May 14th-17th
URL:https://southsoundblues.org/event/sunbanks-blues-roots-americana-festival/
LOCATION:Sunbanks Resort\, 57662 Hwy 155 N\, Electric City\, WA\, 99123
CATEGORIES:Festival
END:VEVENT
END:VCALENDAR