BEGIN:VCALENDAR
VERSION:2.0
PRODID:-//South Sound Blues Association - ECPv6.15.18//NONSGML v1.0//EN
CALSCALE:GREGORIAN
METHOD:PUBLISH
X-ORIGINAL-URL:https://southsoundblues.org
X-WR-CALDESC:Events for South Sound Blues Association
REFRESH-INTERVAL;VALUE=DURATION:PT1H
X-Robots-Tag:noindex
X-PUBLISHED-TTL:PT1H
BEGIN:VTIMEZONE
TZID:America/Los_Angeles
BEGIN:DAYLIGHT
TZOFFSETFROM:-0800
TZOFFSETTO:-0700
TZNAME:PDT
DTSTART:20250309T100000
END:DAYLIGHT
BEGIN:STANDARD
TZOFFSETFROM:-0700
TZOFFSETTO:-0800
TZNAME:PST
DTSTART:20251102T090000
END:STANDARD
BEGIN:DAYLIGHT
TZOFFSETFROM:-0800
TZOFFSETTO:-0700
TZNAME:PDT
DTSTART:20260308T100000
END:DAYLIGHT
BEGIN:STANDARD
TZOFFSETFROM:-0700
TZOFFSETTO:-0800
TZNAME:PST
DTSTART:20261101T090000
END:STANDARD
BEGIN:DAYLIGHT
TZOFFSETFROM:-0800
TZOFFSETTO:-0700
TZNAME:PDT
DTSTART:20270314T100000
END:DAYLIGHT
BEGIN:STANDARD
TZOFFSETFROM:-0700
TZOFFSETTO:-0800
TZNAME:PST
DTSTART:20271107T090000
END:STANDARD
END:VTIMEZONE
BEGIN:VEVENT
DTSTART;VALUE=DATE:20260619
DTEND;VALUE=DATE:20260622
DTSTAMP:20260422T235617
CREATED:20250918T195657Z
LAST-MODIFIED:20250918T195657Z
UID:16069-1781834400-1782007199@southsoundblues.org
SUMMARY:Gorge Blues and Brews Festival at the Skamania County Fairgrounds in Stevenson
DESCRIPTION:Gorge Blues and Brews Festival! June 19th and 20th at the Skamania County Fairgrounds in Stevenson\, WA\n\nA weekend of craft beer\, local wine\, spirits\, mouthwatering food\, and live blues music!\n\n\n Must be 21+ to attend.
URL:https://southsoundblues.org/event/gorge-blues-and-brews-festival-at-the-skamania-county-fairgrounds-in-stevenson/
LOCATION:Skamania County Fairgrounds\, 710 SW Rock Creek Dr\, Stevenson\, WA\, 98648
CATEGORIES:Festival
END:VEVENT
BEGIN:VEVENT
DTSTART;TZID=America/Los_Angeles:20260620T140000
DTEND;TZID=America/Los_Angeles:20260620T150000
DTSTAMP:20260422T235617
CREATED:20260312T045939Z
LAST-MODIFIED:20260312T045939Z
UID:17260-1781964000-1781967600@southsoundblues.org
SUMMARY:Michele D'Amour & the Love Dealers at Gorge Blues and Brews festival
DESCRIPTION:Michele D’Amour & the Love Dealers at Gorge Blues and Brews festival opening set 2-3 pm\nSkamania County Fairgrounds\, Stevenson WA \n \n 
URL:https://southsoundblues.org/event/michele-damour-the-love-dealers-at-gorge-blues-and-brews-festival/
LOCATION:Skamania County Fairgrounds\, 710 SW Rock Creek Dr\, Stevenson\, WA\, 98648
CATEGORIES:Festival
END:VEVENT
END:VCALENDAR