BEGIN:VCALENDAR
VERSION:2.0
PRODID:-//South Sound Blues Association - ECPv6.15.18//NONSGML v1.0//EN
CALSCALE:GREGORIAN
METHOD:PUBLISH
X-WR-CALNAME:South Sound Blues Association
X-ORIGINAL-URL:https://southsoundblues.org
X-WR-CALDESC:Events for South Sound Blues Association
REFRESH-INTERVAL;VALUE=DURATION:PT1H
X-Robots-Tag:noindex
X-PUBLISHED-TTL:PT1H
BEGIN:VTIMEZONE
TZID:America/Los_Angeles
BEGIN:DAYLIGHT
TZOFFSETFROM:-0800
TZOFFSETTO:-0700
TZNAME:PDT
DTSTART:20220313T100000
END:DAYLIGHT
BEGIN:STANDARD
TZOFFSETFROM:-0700
TZOFFSETTO:-0800
TZNAME:PST
DTSTART:20221106T090000
END:STANDARD
BEGIN:DAYLIGHT
TZOFFSETFROM:-0800
TZOFFSETTO:-0700
TZNAME:PDT
DTSTART:20230312T100000
END:DAYLIGHT
BEGIN:STANDARD
TZOFFSETFROM:-0700
TZOFFSETTO:-0800
TZNAME:PST
DTSTART:20231105T090000
END:STANDARD
BEGIN:DAYLIGHT
TZOFFSETFROM:-0800
TZOFFSETTO:-0700
TZNAME:PDT
DTSTART:20240310T100000
END:DAYLIGHT
BEGIN:STANDARD
TZOFFSETFROM:-0700
TZOFFSETTO:-0800
TZNAME:PST
DTSTART:20241103T090000
END:STANDARD
END:VTIMEZONE
BEGIN:VEVENT
DTSTART;TZID=America/Los_Angeles:20230820T130000
DTEND;TZID=America/Los_Angeles:20230820T160000
DTSTAMP:20260425T041738
CREATED:20230710T223920Z
LAST-MODIFIED:20230725T015743Z
UID:10816-1692536400-1692547200@southsoundblues.org
SUMMARY:The Washington Blues Society's 2023 International Blues Challenge Finals at the Conway Muse
DESCRIPTION:The Washington Blues Society’s 2023 International Blues Challenge Finals                                Sunday Aug 20th at the Conway Muse\, 1pm.\nThe James Howard Band won the Washington Blues Society’s competition in 2016 to represent the Pacific Northwest at the prestigious International Blues Challenge in Memphis Tennessee. ‘Guitarist extraordinaire’. \nMid Nite Bourbon is a Power Trio. Each member could take the spotlight at any time. Coming from divergent backgrounds their chemistry shines brightly through an emotionally charged performance. \nBlue Tide is an acoustic blues collaboration of two lifetime friends\, one having a direct lineage to family musical history in the Mississippi delta area. They have an impressive\, newly released album\, “Plague Blues” that shows their creative talent. \nBlues Healers are a creative husband & wife duo. Their original songs are unique\, and fun with gripping story telling delivered with a finely choreographed presentation. They also have an excellent new album titled ‘Transmissions”. \n\n\n\n\nAddress: 18444 Spruce St\, Conway\, WA 98238
URL:https://southsoundblues.org/event/the-washington-blues-societys-2023-international-blues-challenge-finals-at-the-conway-muse/
LOCATION:Conway Muse\, 18444 Spruce St\, Conway\, WA\, 98238
CATEGORIES:Featured,IBC,Special Event
END:VEVENT
END:VCALENDAR