BEGIN:VCALENDAR
VERSION:2.0
PRODID:-//South Sound Blues Association - ECPv6.15.18//NONSGML v1.0//EN
CALSCALE:GREGORIAN
METHOD:PUBLISH
X-ORIGINAL-URL:https://southsoundblues.org
X-WR-CALDESC:Events for South Sound Blues Association
REFRESH-INTERVAL;VALUE=DURATION:PT1H
X-Robots-Tag:noindex
X-PUBLISHED-TTL:PT1H
BEGIN:VTIMEZONE
TZID:America/Los_Angeles
BEGIN:DAYLIGHT
TZOFFSETFROM:-0800
TZOFFSETTO:-0700
TZNAME:PDT
DTSTART:20230312T100000
END:DAYLIGHT
BEGIN:STANDARD
TZOFFSETFROM:-0700
TZOFFSETTO:-0800
TZNAME:PST
DTSTART:20231105T090000
END:STANDARD
BEGIN:DAYLIGHT
TZOFFSETFROM:-0800
TZOFFSETTO:-0700
TZNAME:PDT
DTSTART:20240310T100000
END:DAYLIGHT
BEGIN:STANDARD
TZOFFSETFROM:-0700
TZOFFSETTO:-0800
TZNAME:PST
DTSTART:20241103T090000
END:STANDARD
BEGIN:DAYLIGHT
TZOFFSETFROM:-0800
TZOFFSETTO:-0700
TZNAME:PDT
DTSTART:20250309T100000
END:DAYLIGHT
BEGIN:STANDARD
TZOFFSETFROM:-0700
TZOFFSETTO:-0800
TZNAME:PST
DTSTART:20251102T090000
END:STANDARD
END:VTIMEZONE
BEGIN:VEVENT
DTSTART;TZID=America/Los_Angeles:20240109T190000
DTEND;TZID=America/Los_Angeles:20240109T190000
DTSTAMP:20260424T210410
CREATED:20240102T211629Z
LAST-MODIFIED:20240102T211629Z
UID:11923-1704826800-1704826800@southsoundblues.org
SUMMARY:WBS Blues Bash and IBC sendoff Party at Aurora Borealis
DESCRIPTION:BLUES BASH AND IBC sendoff party\, Tuesday January 9th at Aurora Borealis\, 7pm \n \nMusic From International Blues Challenge contestants representing Washington State : James Howard Band and the Blue Healers duo  \n  \nALL Ages Welcome https://borealisonaurora.com/  \n 
URL:https://southsoundblues.org/event/wbs-blues-bash-and-ibc-sendoff-party-at-aurora-borealis/
LOCATION:Aurora Borealis\, 16708 Aurora Ave N\, Shoreline\, WA\, 98133
CATEGORIES:IBC,Special Event
END:VEVENT
END:VCALENDAR