BEGIN:VCALENDAR
VERSION:2.0
PRODID:-//South Sound Blues Association - ECPv6.15.18//NONSGML v1.0//EN
CALSCALE:GREGORIAN
METHOD:PUBLISH
X-ORIGINAL-URL:https://southsoundblues.org
X-WR-CALDESC:Events for South Sound Blues Association
REFRESH-INTERVAL;VALUE=DURATION:PT1H
X-Robots-Tag:noindex
X-PUBLISHED-TTL:PT1H
BEGIN:VTIMEZONE
TZID:America/Los_Angeles
BEGIN:DAYLIGHT
TZOFFSETFROM:-0800
TZOFFSETTO:-0700
TZNAME:PDT
DTSTART:20230312T100000
END:DAYLIGHT
BEGIN:STANDARD
TZOFFSETFROM:-0700
TZOFFSETTO:-0800
TZNAME:PST
DTSTART:20231105T090000
END:STANDARD
BEGIN:DAYLIGHT
TZOFFSETFROM:-0800
TZOFFSETTO:-0700
TZNAME:PDT
DTSTART:20240310T100000
END:DAYLIGHT
BEGIN:STANDARD
TZOFFSETFROM:-0700
TZOFFSETTO:-0800
TZNAME:PST
DTSTART:20241103T090000
END:STANDARD
BEGIN:DAYLIGHT
TZOFFSETFROM:-0800
TZOFFSETTO:-0700
TZNAME:PDT
DTSTART:20250309T100000
END:DAYLIGHT
BEGIN:STANDARD
TZOFFSETFROM:-0700
TZOFFSETTO:-0800
TZNAME:PST
DTSTART:20251102T090000
END:STANDARD
END:VTIMEZONE
BEGIN:VEVENT
DTSTART;TZID=America/Los_Angeles:20240102T200000
DTEND;TZID=America/Los_Angeles:20240102T233000
DTSTAMP:20260424T075209
CREATED:20231216T224353Z
LAST-MODIFIED:20231216T224353Z
UID:11821-1704225600-1704238200@southsoundblues.org
SUMMARY:Cory Wilds Band Tuesday open Jam Night at Elmer’s Bar and Grill
DESCRIPTION:Cory Wilds Band Tuesday open Jam Night at Elmer’s Bar and Grill\, 8-11:30 pm
URL:https://southsoundblues.org/event/cory-wilds-band-tuesday-open-jam-night-at-elmers-bar-and-grill-14/
LOCATION:Elmer’s Bar & Grill\, 15027 Ambaum Blvd SW\, Burien\, WA\, 98166
CATEGORIES:Local South Sound Blues
END:VEVENT
BEGIN:VEVENT
DTSTART;TZID=America/Los_Angeles:20240103T180000
DTEND;TZID=America/Los_Angeles:20240103T180000
DTSTAMP:20260424T075209
CREATED:20231228T025719Z
LAST-MODIFIED:20231228T025719Z
UID:11902-1704304800-1704304800@southsoundblues.org
SUMMARY:Annie Eastwood’s Jazz Quartet featuring Billy Stapleton at The Spar
DESCRIPTION:Wednesday\, Jan 3rd – Annie Eastwood’s Jazz Quartet feat. Billy Stapleton – The Spar – 6pm
URL:https://southsoundblues.org/event/annie-eastwoods-jazz-quartet-featuring-billy-stapleton-at-the-spar/
LOCATION:The Spar\, 2121 N 30th St\, Tacoma\, WA\, 98403
CATEGORIES:Local South Sound Blues
END:VEVENT
BEGIN:VEVENT
DTSTART;TZID=America/Los_Angeles:20240103T190000
DTEND;TZID=America/Los_Angeles:20240103T220000
DTSTAMP:20260424T075209
CREATED:20231219T001343Z
LAST-MODIFIED:20231219T001343Z
UID:11838-1704308400-1704319200@southsoundblues.org
SUMMARY:Wednesdays Blues “Jam Night” with Brian Olver and Glenn Hummel at Purdy’s\, Sumner
DESCRIPTION:Wednesdays Blues “Jam Night” with Brian Olver and Glenn Hummel at Purdy’s\, Sumner\, WA. 7-10 pm
URL:https://southsoundblues.org/event/wednesdays-blues-jam-night-with-brian-olver-and-glenn-hummel-at-purdys-sumner-3/
LOCATION:Purdy’s Public House & Arcade\, Sumner\, 16202 64th St E\, Sumner\, WA\, 98390
CATEGORIES:Local South Sound Blues
END:VEVENT
BEGIN:VEVENT
DTSTART;TZID=America/Los_Angeles:20240104T200000
DTEND;TZID=America/Los_Angeles:20240104T233000
DTSTAMP:20260424T075209
CREATED:20231219T001816Z
LAST-MODIFIED:20231219T001816Z
UID:11842-1704398400-1704411000@southsoundblues.org
SUMMARY:Thursdays at the Stars Bar & Grill\, Jam hosted by Billy Shew
DESCRIPTION:Thursdays at the Stars Bar & Grill\, Jam hosted by Billy Shew\, 8-11:30 pm
URL:https://southsoundblues.org/event/thursdays-at-the-stars-bar-grill-jam-hosted-by-billy-shew-20/
LOCATION:Stars Bar & Grill\, 31216 Pacific Hwy S\, Federal Way\, WA\, 98003
CATEGORIES:Local South Sound Blues
END:VEVENT
BEGIN:VEVENT
DTSTART;TZID=America/Los_Angeles:20240105T180000
DTEND;TZID=America/Los_Angeles:20240105T180000
DTSTAMP:20260424T075209
CREATED:20240103T033048Z
LAST-MODIFIED:20240103T033048Z
UID:11925-1704477600-1704477600@southsoundblues.org
SUMMARY:King Kom Beaux at The Garage\, Bremerton
DESCRIPTION:King Kom Beaux at The Garage January 5th\, 6pm
URL:https://southsoundblues.org/event/king-kom-beaux-at-the-garage-bremerton/
LOCATION:The Garage Bar and Grill\, 6812 Kitsap Way\, Bremerton\, WA\, 98312
CATEGORIES:Local South Sound Blues
END:VEVENT
BEGIN:VEVENT
DTSTART;TZID=America/Los_Angeles:20240105T190000
DTEND;TZID=America/Los_Angeles:20240105T210000
DTSTAMP:20260424T075209
CREATED:20240101T024953Z
LAST-MODIFIED:20240101T024953Z
UID:11920-1704481200-1704488400@southsoundblues.org
SUMMARY:Rod Cook at O'Looney's Irish Pub\, Gig Harbor
DESCRIPTION:Rod Cook at O’Looney’s Irish Pub\, Gig Harbor\, January 5\, 7-9 pm\n \nO’Looney’s\, 3222 56th St. Gig Harbor\, WA\, 98335
URL:https://southsoundblues.org/event/rod-cook-at-olooneys-irish-pub-gig-harbor/
LOCATION:O’Looney’s Irish Pub\, 3222 56th St\, Gig Harbor\, WA\, 98335
CATEGORIES:Local South Sound Blues
END:VEVENT
BEGIN:VEVENT
DTSTART;TZID=America/Los_Angeles:20240107T180000
DTEND;TZID=America/Los_Angeles:20240107T210000
DTSTAMP:20260424T075209
CREATED:20231012T001820Z
LAST-MODIFIED:20231114T204922Z
UID:11455-1704650400-1704661200@southsoundblues.org
SUMMARY:CD Woodbury Trio and Mid-Nite Bourbon at Spanish Ballroom
DESCRIPTION:CD Woodbury Trio and Mid-Nite Bourbon at Spanish Ballroom\, January 7th\, 6-9 pm\n5pm doors\, 6pm show $10 advance & $15 day of show\, All ages welcome \nhttps://www.mcmenamins.com/events/248940-mid-nite-bourbon \n \nWith a zest for blues/rock influenced music\, Mid Nite Bourbon took off into the Greater Tacoma music scene with their unique blend of music they call “Outlaw Blues”. The trio has been in high demand for private and public shows and are working on their debut album scheduled for Spring of 2024. \n \nNotable 2022 Washington Blues Society Hall of Fame inductee\, CD Woodbury has transformed himself from journeyman sideman and “the NW’s best kept secret” into an internationally recognized rising star of the Pacific NW blues scene with his work as singer\, songwriter\, and guitarist. \n 
URL:https://southsoundblues.org/event/cd-woodbury-trio-and-mid-nite-bourbon-at-spanish-ballroom/
LOCATION:McMenaminsTacoma Elks\, 565 Broadway\, Tacoma\, WA\, 98402
CATEGORIES:Featured,Local South Sound Blues
END:VEVENT
BEGIN:VEVENT
DTSTART;TZID=America/Los_Angeles:20240107T190000
DTEND;TZID=America/Los_Angeles:20240107T220000
DTSTAMP:20260424T075212
CREATED:20231220T014035Z
LAST-MODIFIED:20231220T014035Z
UID:11852-1704654000-1704664800@southsoundblues.org
SUMMARY:Sunday Blues at the Spar with Blues Redemption
DESCRIPTION:Sunday\, Jan 7th – Blues Redemption w/Doug Skoog at The Spar – 7pm
URL:https://southsoundblues.org/event/sunday-blues-at-the-spar-with-blues-redemption-2/
LOCATION:The Spar\, 2121 N 30th St\, Tacoma\, WA\, 98403
CATEGORIES:Local South Sound Blues
END:VEVENT
BEGIN:VEVENT
DTSTART;TZID=America/Los_Angeles:20240108T200000
DTEND;TZID=America/Los_Angeles:20240108T220000
DTSTAMP:20260424T075212
CREATED:20240104T215225Z
LAST-MODIFIED:20240104T220141Z
UID:11956-1704744000-1704751200@southsoundblues.org
SUMMARY:Mike Witmer hosts “Mojo Mike’s Blues Revue” every Monday on KVSH 101.9 FM
DESCRIPTION:Mike Witmer hosts “Mojo Mike’s Blues Revue” every Monday on KVSH 101.9 FM 8-10 pm
URL:https://southsoundblues.org/event/mike-witmer-hosts-mojo-mikes-blues-revue-every-monday-on-kvsh-101-9-fm-13/
LOCATION:WA
CATEGORIES:Local South Sound Blues
END:VEVENT
BEGIN:VEVENT
DTSTART;TZID=America/Los_Angeles:20240109T190000
DTEND;TZID=America/Los_Angeles:20240109T220000
DTSTAMP:20260424T075212
CREATED:20231216T224544Z
LAST-MODIFIED:20231216T224544Z
UID:11823-1704826800-1704837600@southsoundblues.org
SUMMARY:Tuesday Bluesday at Brother Don’s Bar & Grill in Bremerton\, Jam with The Tim Hall Band
DESCRIPTION:Tuesday Bluesday at Brother Don’s Bar & Grill in Bremerton\, Jam with The Tim Hall Band\, 7-10 pm
URL:https://southsoundblues.org/event/tuesday-bluesday-at-brother-dons-bar-grill-in-bremerton-jam-with-the-tim-hall-band/
LOCATION:Brother Don’s Bar & Grill\, 4200 Kitsap Way\, Bremerton\, WA\, 98312
CATEGORIES:Local South Sound Blues
END:VEVENT
BEGIN:VEVENT
DTSTART;TZID=America/Los_Angeles:20240110T180000
DTEND;TZID=America/Los_Angeles:20240110T210000
DTSTAMP:20260424T075212
CREATED:20231219T001512Z
LAST-MODIFIED:20231219T001512Z
UID:11840-1704909600-1704920400@southsoundblues.org
SUMMARY:Billy Shew and Friends host an open Jam every Wednesday at Stockton’s
DESCRIPTION:Billy Shew and Friends host an open Jam every Wednesday at Stockton’s\, 6-9pm
URL:https://southsoundblues.org/event/billy-shew-and-friends-host-an-open-jam-every-wednesday-at-stocktons-13/
LOCATION:Stockton’s Restaurant & Spirits\, 23220 Maple Valley Black Diamond Rd SE\, Maple Valley\, WA\, 98038
CATEGORIES:Local South Sound Blues
END:VEVENT
BEGIN:VEVENT
DTSTART;TZID=America/Los_Angeles:20240111T190000
DTEND;TZID=America/Los_Angeles:20240111T220000
DTSTAMP:20260424T075212
CREATED:20231219T002002Z
LAST-MODIFIED:20231219T002002Z
UID:11845-1704999600-1705010400@southsoundblues.org
SUMMARY:“Billy the Pocket Jam” Thursday nights at Dawson’s
DESCRIPTION:“Billy the Pocket Jam” Thursday nights at Dawson’s\, 7-10 pm
URL:https://southsoundblues.org/event/billy-the-pocket-jam-thursday-nights-at-dawsons-26/
LOCATION:Dawson’s Bar & Grill\, 5443 South Tacoma Way\, Tacoma\, WA\, 98409
CATEGORIES:Local South Sound Blues
END:VEVENT
BEGIN:VEVENT
DTSTART;TZID=America/Los_Angeles:20240113T160000
DTEND;TZID=America/Los_Angeles:20240113T183000
DTSTAMP:20260424T075212
CREATED:20231221T184004Z
LAST-MODIFIED:20231221T184004Z
UID:11880-1705161600-1705170600@southsoundblues.org
SUMMARY:Maia Santell and House Blend at the Urban Elk
DESCRIPTION:Maia Santell & House Blend at the Urban Elk\, January 13th\, 4pm
URL:https://southsoundblues.org/event/maia-santell-and-house-blend-at-the-urban-elk/
LOCATION:Urban Elk\, 2013 S Cedar St\, Tacoma\, WA\, 98405
CATEGORIES:Local South Sound Blues
END:VEVENT
BEGIN:VEVENT
DTSTART;TZID=America/Los_Angeles:20240114T190000
DTEND;TZID=America/Los_Angeles:20240114T220000
DTSTAMP:20260424T075212
CREATED:20231220T014352Z
LAST-MODIFIED:20231220T014352Z
UID:11855-1705258800-1705269600@southsoundblues.org
SUMMARY:Sunday Blues at the Spar with the Chris Stevens Band
DESCRIPTION:Sunday\, Jan 14th – Chris Stevens Band – The Spar – 7pm
URL:https://southsoundblues.org/event/sunday-blues-at-the-spar-with-the-chris-stevens-band/
LOCATION:The Spar\, 2121 N 30th St\, Tacoma\, WA\, 98403
CATEGORIES:Local South Sound Blues
END:VEVENT
BEGIN:VEVENT
DTSTART;TZID=America/Los_Angeles:20240114T190000
DTEND;TZID=America/Los_Angeles:20240114T230000
DTSTAMP:20260424T075212
CREATED:20231216T224042Z
LAST-MODIFIED:20231216T224042Z
UID:11819-1705258800-1705273200@southsoundblues.org
SUMMARY:Billy Shew Blues Jam\, every Sunday at Dawson’s
DESCRIPTION:Billy Shew Blues Jam\, every Sunday at Dawson’s\, 7-11 pm
URL:https://southsoundblues.org/event/billy-shew-blues-jam-every-sunday-at-dawsons-13/
LOCATION:Dawson’s Bar & Grill\, 5443 South Tacoma Way\, Tacoma\, WA\, 98409
CATEGORIES:Local South Sound Blues
END:VEVENT
BEGIN:VEVENT
DTSTART;TZID=America/Los_Angeles:20240116T190000
DTEND;TZID=America/Los_Angeles:20240116T190000
DTSTAMP:20260424T075212
CREATED:20231216T224758Z
LAST-MODIFIED:20231216T224758Z
UID:11825-1705431600-1705431600@southsoundblues.org
SUMMARY:Billy Shew and friends Jam every Tuesday at the Burien Eagles
DESCRIPTION:Billy Shew and friends Jam every Tuesday at the Burien Eagles\, 7pm
URL:https://southsoundblues.org/event/billy-shew-and-friends-jam-every-tuesday-at-the-burien-eagles-18/
LOCATION:Burien Eagles\, 920 SW 150th St\, Burien\, WA\, 98166
CATEGORIES:Local South Sound Blues
END:VEVENT
BEGIN:VEVENT
DTSTART;TZID=America/Los_Angeles:20240118T190000
DTEND;TZID=America/Los_Angeles:20240118T190000
DTSTAMP:20260424T075212
CREATED:20231208T210626Z
LAST-MODIFIED:20231208T211000Z
UID:11788-1705604400-1705604400@southsoundblues.org
SUMMARY:Itterly & Pitman with Robin Kallsen at the Snapdragon\, Vashon
DESCRIPTION:Itterly & Pitman with Robin Kallsen at the Snapdragon\, January 18th \, 7pm\n \nSteve Itterly & Jonathan Pitman are an electrifying country blues duo\, bringing together the acclaimed blues guitarist and songwriter\, Steve Itterly\, and harmonica virtuoso\, Jonathan Pitman. Their performances resonate with a dynamic connection\, evident in the rhythmic boot stomping and impassioned solos that characterize their music. Joined by Robin Kallsen on bass.
URL:https://southsoundblues.org/event/itterly-pitman-with-robin-kallsen-at-the-snapdragon-vashon/
LOCATION:Snapdragon\, 17817 Vashon Hwy\, Vashon\, WA\, 98070
CATEGORIES:Local South Sound Blues
END:VEVENT
BEGIN:VEVENT
DTSTART;TZID=America/Los_Angeles:20240118T190000
DTEND;TZID=America/Los_Angeles:20240118T220000
DTSTAMP:20260424T075212
CREATED:20231219T002201Z
LAST-MODIFIED:20231219T002201Z
UID:11848-1705604400-1705615200@southsoundblues.org
SUMMARY:Thursday’s Front Street Blues Revue at the Slippery Pig Brewery
DESCRIPTION:Thursday’s Front Street Blues Revue at the Slippery Pig Brewery\, Poulsbo\, 7-10 pm
URL:https://southsoundblues.org/event/thursdays-front-street-blues-revue-at-the-slippery-pig-brewery-4/
LOCATION:Slippery Pig Brewery\, 18801 Front St NE\, Poulsbo\, WA\, 98370
CATEGORIES:Local South Sound Blues
END:VEVENT
BEGIN:VEVENT
DTSTART;TZID=America/Los_Angeles:20240121T170000
DTEND;TZID=America/Los_Angeles:20240121T200000
DTSTAMP:20260424T075212
CREATED:20231217T001952Z
LAST-MODIFIED:20231217T001952Z
UID:11832-1705856400-1705867200@southsoundblues.org
SUMMARY:Brother Don's Sundays Blues Jam
DESCRIPTION:Brother Don’s Sundays Blues Jam\, 5-8 pm
URL:https://southsoundblues.org/event/brother-dons-sundays-blues-jam/
LOCATION:Brother Don’s Bar & Grill\, 4200 Kitsap Way\, Bremerton\, WA\, 98312
CATEGORIES:Local South Sound Blues
END:VEVENT
BEGIN:VEVENT
DTSTART;TZID=America/Los_Angeles:20240121T190000
DTEND;TZID=America/Los_Angeles:20240121T220000
DTSTAMP:20260424T075212
CREATED:20231220T014628Z
LAST-MODIFIED:20231220T014628Z
UID:11857-1705863600-1705874400@southsoundblues.org
SUMMARY:Sunday Blues at the Spar with Joe T. Cook Blues Band
DESCRIPTION:Sunday\, Jan 21st – Joe T. Cook Blues Band w/Tim Sherman – The Spar – 7pm
URL:https://southsoundblues.org/event/sunday-blues-at-the-spar-with-joe-t-cook-blues-band/
LOCATION:The Spar\, 2121 N 30th St\, Tacoma\, WA\, 98403
CATEGORIES:Local South Sound Blues
END:VEVENT
BEGIN:VEVENT
DTSTART;TZID=America/Los_Angeles:20240123T190000
DTEND;TZID=America/Los_Angeles:20240123T210000
DTSTAMP:20260424T075212
CREATED:20231216T225753Z
LAST-MODIFIED:20231216T230329Z
UID:11827-1706036400-1706043600@southsoundblues.org
SUMMARY:Rob Tudor and Dave McKibbin at the Twisted Fork Saloon every Tuesday
DESCRIPTION:Rob Tudor and Dave McKibbin at the Twisted Fork Saloon every Tuesday\, 7-9 pm\n 
URL:https://southsoundblues.org/event/rob-tudor-and-dave-mckibbin-at-the-twisted-fork-saloon-every-tuesday/
LOCATION:Twisted Fork Saloon\, 5005 Main St\, Tacoma\, WA\, 98407
CATEGORIES:Local South Sound Blues
END:VEVENT
BEGIN:VEVENT
DTSTART;TZID=America/Los_Angeles:20240125T190000
DTEND;TZID=America/Los_Angeles:20240125T220000
DTSTAMP:20260424T075212
CREATED:20231219T002342Z
LAST-MODIFIED:20231219T002342Z
UID:11850-1706209200-1706220000@southsoundblues.org
SUMMARY:“Billy the Pocket Jam” Thursday nights at Dawson’s
DESCRIPTION:“Billy the Pocket Jam” Thursday nights at Dawson’s\, 7-10 pm
URL:https://southsoundblues.org/event/billy-the-pocket-jam-thursday-nights-at-dawsons-27/
LOCATION:Dawson’s Bar & Grill\, 5443 South Tacoma Way\, Tacoma\, WA\, 98409
CATEGORIES:Local South Sound Blues
END:VEVENT
BEGIN:VEVENT
DTSTART;TZID=America/Los_Angeles:20240126T190000
DTEND;TZID=America/Los_Angeles:20240126T210000
DTSTAMP:20260424T075212
CREATED:20231214T202243Z
LAST-MODIFIED:20231214T202243Z
UID:11803-1706295600-1706302800@southsoundblues.org
SUMMARY:Mark Hurwitz and Gin Creek at Kimball Coffeehouse
DESCRIPTION:Mark Hurwitz and Gin Creek at Kimball Coffeehouse January 26th\, 7-9 pm
URL:https://southsoundblues.org/event/mark-hurwitz-and-gin-creek-at-kimball-coffeehouse-3/
LOCATION:Kimball’s Coffeehouse\, 6659 Kimball Dr\, Gig Harbor\, WA\, 98335
CATEGORIES:Local South Sound Blues
END:VEVENT
BEGIN:VEVENT
DTSTART;TZID=America/Los_Angeles:20240128T190000
DTEND;TZID=America/Los_Angeles:20240128T220000
DTSTAMP:20260424T075212
CREATED:20231220T014855Z
LAST-MODIFIED:20231220T014855Z
UID:11859-1706468400-1706479200@southsoundblues.org
SUMMARY:Sunday Blues at the Spar with The Kevin Sutton Band
DESCRIPTION:Sunday\, Jan 28th – Kevin Sutton Band – The Spar – 7pm
URL:https://southsoundblues.org/event/sunday-blues-at-the-spar-with-the-kevin-sutton-band/
LOCATION:The Spar\, 2121 N 30th St\, Tacoma\, WA\, 98403
CATEGORIES:Local South Sound Blues
END:VEVENT
BEGIN:VEVENT
DTSTART;TZID=America/Los_Angeles:20240130T190000
DTEND;TZID=America/Los_Angeles:20240130T210000
DTSTAMP:20260424T075212
CREATED:20231111T163327Z
LAST-MODIFIED:20231111T163327Z
UID:11719-1706641200-1706648400@southsoundblues.org
SUMMARY:Tuesday "Blues Showcase" at Purdy's in Sumner\, with the T-Town Aces
DESCRIPTION:Tuesday “Blues Showcase” at Purdy’s\, January 30th with the T-Town Aces!  7-9 pm.
URL:https://southsoundblues.org/event/tuesday-blues-showcase-at-purdys-in-sumner-with-the-t-town-aces/
LOCATION:Purdy’s Public House & Arcade\, Sumner\, 16202 64th St E\, Sumner\, WA\, 98390
CATEGORIES:Local South Sound Blues
END:VEVENT
END:VCALENDAR