BEGIN:VCALENDAR
VERSION:2.0
PRODID:-//South Sound Blues Association - ECPv6.15.18//NONSGML v1.0//EN
CALSCALE:GREGORIAN
METHOD:PUBLISH
X-ORIGINAL-URL:https://southsoundblues.org
X-WR-CALDESC:Events for South Sound Blues Association
REFRESH-INTERVAL;VALUE=DURATION:PT1H
X-Robots-Tag:noindex
X-PUBLISHED-TTL:PT1H
BEGIN:VTIMEZONE
TZID:America/Los_Angeles
BEGIN:DAYLIGHT
TZOFFSETFROM:-0800
TZOFFSETTO:-0700
TZNAME:PDT
DTSTART:20230312T100000
END:DAYLIGHT
BEGIN:STANDARD
TZOFFSETFROM:-0700
TZOFFSETTO:-0800
TZNAME:PST
DTSTART:20231105T090000
END:STANDARD
BEGIN:DAYLIGHT
TZOFFSETFROM:-0800
TZOFFSETTO:-0700
TZNAME:PDT
DTSTART:20240310T100000
END:DAYLIGHT
BEGIN:STANDARD
TZOFFSETFROM:-0700
TZOFFSETTO:-0800
TZNAME:PST
DTSTART:20241103T090000
END:STANDARD
BEGIN:DAYLIGHT
TZOFFSETFROM:-0800
TZOFFSETTO:-0700
TZNAME:PDT
DTSTART:20250309T100000
END:DAYLIGHT
BEGIN:STANDARD
TZOFFSETFROM:-0700
TZOFFSETTO:-0800
TZNAME:PST
DTSTART:20251102T090000
END:STANDARD
END:VTIMEZONE
BEGIN:VEVENT
DTSTART;TZID=America/Los_Angeles:20240901T190000
DTEND;TZID=America/Los_Angeles:20240901T220000
DTSTAMP:20260423T203753
CREATED:20240727T013838Z
LAST-MODIFIED:20240727T013913Z
UID:13090-1725217200-1725228000@southsoundblues.org
SUMMARY:Sunday Blues at the Spar with The Dana Lupinacci Band
DESCRIPTION:Sunday Blues at the Spar\, Sept 1st\, with the Dana Lupinacci Band\, 7-10p
URL:https://southsoundblues.org/event/sunday-blues-with-the-dana-lupinacci-band/
LOCATION:The Spar\, 2121 N 30th St\, Tacoma\, WA\, 98403
CATEGORIES:Local South Sound Blues
END:VEVENT
BEGIN:VEVENT
DTSTART;TZID=America/Los_Angeles:20240903T190000
DTEND;TZID=America/Los_Angeles:20240903T190000
DTSTAMP:20260423T203753
CREATED:20240820T205213Z
LAST-MODIFIED:20240820T205213Z
UID:13245-1725390000-1725390000@southsoundblues.org
SUMMARY:Billy Shew hosts the Burien Eagles Tuesday Night Jams
DESCRIPTION:Billy Shew hosts the Burien Eagles Tuesday Night Jams\,  7:00pm
URL:https://southsoundblues.org/event/billy-shew-hosts-the-burien-eagles-tuesday-night-jams/
LOCATION:Burien Eagles\, 920 SW 150th St\, Burien\, WA\, 98166
CATEGORIES:Local South Sound Blues
END:VEVENT
BEGIN:VEVENT
DTSTART;TZID=America/Los_Angeles:20240903T190000
DTEND;TZID=America/Los_Angeles:20240903T220000
DTSTAMP:20260423T203753
CREATED:20240815T033107Z
LAST-MODIFIED:20240815T033107Z
UID:13229-1725390000-1725400800@southsoundblues.org
SUMMARY:Rob Tudor and Dave McKibbin at the Twisted Fork Saloon every Tuesday
DESCRIPTION:Rob Tudor and Dave McKibbin at the Twisted Fork Saloon every Tuesday\, 7-9 pm
URL:https://southsoundblues.org/event/rob-tudor-and-dave-mckibbin-at-the-twisted-fork-saloon-every-tuesday-8/
LOCATION:Twisted Fork Saloon\, 5005 Main St\, Tacoma\, WA\, 98407
CATEGORIES:Local South Sound Blues
END:VEVENT
BEGIN:VEVENT
DTSTART;TZID=America/Los_Angeles:20240904T190000
DTEND;TZID=America/Los_Angeles:20240904T220000
DTSTAMP:20260423T203753
CREATED:20240820T210123Z
LAST-MODIFIED:20240820T210123Z
UID:13253-1725476400-1725487200@southsoundblues.org
SUMMARY:Wednesdays Blues “Jam Night” with Brian Olver and Glenn Hummel at Purdy’s\, Sumner
DESCRIPTION:Wednesdays Blues “Jam Night” with Brian Olver and Glenn Hummel at Purdy’s\, Sumner\, WA. 7-10 pm
URL:https://southsoundblues.org/event/wednesdays-blues-jam-night-with-brian-olver-and-glenn-hummel-at-purdys-sumner-12/
LOCATION:Purdy’s Public House & Arcade\, Sumner\, 16202 64th St E\, Sumner\, WA\, 98390
CATEGORIES:Local South Sound Blues
END:VEVENT
BEGIN:VEVENT
DTSTART;TZID=America/Los_Angeles:20240905T190000
DTEND;TZID=America/Los_Angeles:20240905T220000
DTSTAMP:20260423T203753
CREATED:20240821T191522Z
LAST-MODIFIED:20240821T191522Z
UID:13291-1725562800-1725573600@southsoundblues.org
SUMMARY:'Firehouse Jam' every Thursday Night with host Billy Shew at the L&M Firehouse\, Orting
DESCRIPTION:‘Firehouse Jam’ every Thursday Night with host Billy Shew at the L&M Firehouse\, 7pm\n \nThe September 5th ‘grand opening’ of this Jam will include guest players Rick Thompson\, Jim Collins\, and Paul Martinez.
URL:https://southsoundblues.org/event/firehouse-jam-every-thursday-night-with-host-billy-shew-at-the-lm-firehouse-orting/
LOCATION:L and M Firehouse\, Orting\, 533 Harman Way S\, Orting\, WA\, 98360
CATEGORIES:Local South Sound Blues
END:VEVENT
BEGIN:VEVENT
DTSTART;TZID=America/Los_Angeles:20240906T210000
DTEND;TZID=America/Los_Angeles:20240906T210000
DTSTAMP:20260423T203753
CREATED:20240903T050601Z
LAST-MODIFIED:20240903T050601Z
UID:13376-1725656400-1725656400@southsoundblues.org
SUMMARY:Mid-Nite Bourbon at Nicole's Bar\, Olympia
DESCRIPTION:Mid-Nite Bourbon at Nicole’s Bar\, September 6th\, 9pm\n \n\n\n\n\n\n\n\n\n\n\n\n\n\n\nMid-Nite Bourbon will be coming to Nicole’s Bar in Olympia\, WA.  109 Legion Way SW\, Olympia\, WA 98501  (360) 915-7968\nDon’t miss this night of high energy rock and blues! 21+ show. There will be a modest cover charge at the door.
URL:https://southsoundblues.org/event/mid-nite-bourbon-at-nicoles-bar-olympia/
LOCATION:Nicole’s Bar\, 109 Legion Way SW\, Olympia\, WA\, 98501
CATEGORIES:Local South Sound Blues
END:VEVENT
BEGIN:VEVENT
DTSTART;TZID=America/Los_Angeles:20240908T170000
DTEND;TZID=America/Los_Angeles:20240908T170000
DTSTAMP:20260423T203753
CREATED:20240903T051747Z
LAST-MODIFIED:20240903T051747Z
UID:13379-1725814800-1725814800@southsoundblues.org
SUMMARY:Blues Vespers featuring The Joe Cook Blues Band at Kilworth Memorial Chapel
DESCRIPTION:Blues Vespers featuring The Joe Cook Blues Band at Kilworth Memorial Chapel\, September 8th\, 5 pm\n \n\nJoin the Joe Cook Blues Band\, Washington Blues Society BB Award Winners for Best Blues Band and Best Traditional Blues Act\, for a set of high energy authentic Chicago blues and swing featuring Stoop Down Tim Sherman on guitar\, Conrad Ormsby on drums and Patty Mey on bass.\n\n\n\n\n\n\n\nSpecial Guest is guitarist / banjoist Forest Beutel with some great traditional Blues and folk.
URL:https://southsoundblues.org/event/blues-vespers-featuring-the-joe-cook-blues-band-at-kilworth-memorial-chapel/
LOCATION:Kilworth Memorial Chapel\, 3410 N 18th St\, Tacoma\, WA\, 98416
CATEGORIES:Local South Sound Blues
END:VEVENT
BEGIN:VEVENT
DTSTART;TZID=America/Los_Angeles:20240908T173000
DTEND;TZID=America/Los_Angeles:20240908T193000
DTSTAMP:20260423T203753
CREATED:20240906T005315Z
LAST-MODIFIED:20240906T010349Z
UID:13414-1725816600-1725823800@southsoundblues.org
SUMMARY:Joel Astley Band at the Grange\, Duvall
DESCRIPTION:Joel Astley Band\, September 8\, Duvall\, WA  The Grange 5:30-7:30 pm\n \n\nGates open to the patio at 5:00\, with the Grange Dinner and Full Bar menus available at our walk-up counter service. Music starts at 5:30. It is community seating\, so you may be sharing a table with others. First come\, first served on seats\, so come early! Babes in arms are free\, with all others… \n\nOrder Now! $10.00    https://thegrangeduvall.com/events/ 
URL:https://southsoundblues.org/event/joel-astley-band-at-the-grange-duvall/
LOCATION:The Grange\, 15611 Main St NE\, Duvall\, WA\, 98019
CATEGORIES:Local South Sound Blues
END:VEVENT
BEGIN:VEVENT
DTSTART;TZID=America/Los_Angeles:20240908T190000
DTEND;TZID=America/Los_Angeles:20240908T220000
DTSTAMP:20260423T203753
CREATED:20240727T015324Z
LAST-MODIFIED:20240727T015324Z
UID:13099-1725822000-1725832800@southsoundblues.org
SUMMARY:Sunday Blues at the Spar with The T-Town Aces
DESCRIPTION:Sept 8th\, Sunday Blues at the Spar with The T-Town Aces 7-10p
URL:https://southsoundblues.org/event/sunday-blues-at-the-spar-with-the-t-town-aces-2/
LOCATION:The Spar\, 2121 N 30th St\, Tacoma\, WA\, 98403
CATEGORIES:Local South Sound Blues
END:VEVENT
BEGIN:VEVENT
DTSTART;TZID=America/Los_Angeles:20240910T200000
DTEND;TZID=America/Los_Angeles:20240910T233000
DTSTAMP:20260423T203753
CREATED:20240820T205416Z
LAST-MODIFIED:20240820T205416Z
UID:13247-1725998400-1726011000@southsoundblues.org
SUMMARY:Cory Wilds Band Tuesday open Jam Night at Elmer’s Bar and Grill
DESCRIPTION:Cory Wilds Band Tuesday open Jam Night at Elmer’s Bar and Grill\, 8-11:30 pm
URL:https://southsoundblues.org/event/cory-wilds-band-tuesday-open-jam-night-at-elmers-bar-and-grill-22/
LOCATION:Elmer’s Bar & Grill\, 15027 Ambaum Blvd SW\, Burien\, WA\, 98166
CATEGORIES:Local South Sound Blues
END:VEVENT
BEGIN:VEVENT
DTSTART;TZID=America/Los_Angeles:20240911T180000
DTEND;TZID=America/Los_Angeles:20240911T210000
DTSTAMP:20260423T203753
CREATED:20240820T210430Z
LAST-MODIFIED:20240820T210430Z
UID:13255-1726077600-1726088400@southsoundblues.org
SUMMARY:Billy Shew and Friends host an open Jam every Wednesday at Stockton’s
DESCRIPTION:Billy Shew and Friends host an open Jam every Wednesday at Stockton’s\, 6-9pm
URL:https://southsoundblues.org/event/billy-shew-and-friends-host-an-open-jam-every-wednesday-at-stocktons-21/
LOCATION:Stockton’s Restaurant & Spirits\, 23220 Maple Valley Black Diamond Rd SE\, Maple Valley\, WA\, 98038
CATEGORIES:Local South Sound Blues
END:VEVENT
BEGIN:VEVENT
DTSTART;TZID=America/Los_Angeles:20240914T190000
DTEND;TZID=America/Los_Angeles:20240914T220000
DTSTAMP:20260423T203753
CREATED:20240904T171544Z
LAST-MODIFIED:20240904T171611Z
UID:13404-1726340400-1726351200@southsoundblues.org
SUMMARY:John Stephan Band at the Spar
DESCRIPTION:John Stephan Band at the Spar Saturday\, September 14th\, 7-10 pm
URL:https://southsoundblues.org/event/john-stephan-band-at-the-spar/
LOCATION:The Spar\, 2121 N 30th St\, Tacoma\, WA\, 98403
CATEGORIES:Local South Sound Blues
END:VEVENT
BEGIN:VEVENT
DTSTART;TZID=America/Los_Angeles:20240914T200000
DTEND;TZID=America/Los_Angeles:20240914T200000
DTSTAMP:20260423T203753
CREATED:20240706T214251Z
LAST-MODIFIED:20240706T214251Z
UID:12992-1726344000-1726344000@southsoundblues.org
SUMMARY:Mark Hurwitz Combo at Dawson's Bar & Grill
DESCRIPTION:Mark Hurwitz Combo at Dawson’s Bar & Grill\, September 14th\, 8pm
URL:https://southsoundblues.org/event/mark-hurwitz-combo-at-dawsons-bar-grill/
LOCATION:Dawson’s Bar & Grill\, 5443 South Tacoma Way\, Tacoma\, WA\, 98409
CATEGORIES:Local South Sound Blues
END:VEVENT
BEGIN:VEVENT
DTSTART;TZID=America/Los_Angeles:20240915T190000
DTEND;TZID=America/Los_Angeles:20240915T220000
DTSTAMP:20260423T203753
CREATED:20240727T015720Z
LAST-MODIFIED:20240902T201827Z
UID:13101-1726426800-1726437600@southsoundblues.org
SUMMARY:Sunday Blues at the Spar with McPage & Powell
DESCRIPTION:Sunday Blues at the Spar with Sept 15th\, McPage & Powell\, 7-10 pm\n  \n 
URL:https://southsoundblues.org/event/sunday-blues-at-the-spar-with-billy-stapletons-powerhouse-band/
LOCATION:The Spar\, 2121 N 30th St\, Tacoma\, WA\, 98403
CATEGORIES:Local South Sound Blues
END:VEVENT
BEGIN:VEVENT
DTSTART;TZID=America/Los_Angeles:20240915T190000
DTEND;TZID=America/Los_Angeles:20240915T230000
DTSTAMP:20260423T203753
CREATED:20240820T204228Z
LAST-MODIFIED:20240820T204228Z
UID:13238-1726426800-1726441200@southsoundblues.org
SUMMARY:Billy Shew Blues Jam\, every Sunday at Dawson’s
DESCRIPTION:Billy Shew Blues Jam\, every Sunday at Dawson’s\, 7-11 pm
URL:https://southsoundblues.org/event/billy-shew-blues-jam-every-sunday-at-dawsons-22/
LOCATION:Dawson’s Bar & Grill\, 5443 South Tacoma Way\, Tacoma\, WA\, 98409
CATEGORIES:Local South Sound Blues
END:VEVENT
BEGIN:VEVENT
DTSTART;TZID=America/Los_Angeles:20240916T200000
DTEND;TZID=America/Los_Angeles:20240916T220000
DTSTAMP:20260423T203753
CREATED:20240820T204732Z
LAST-MODIFIED:20240820T204732Z
UID:13243-1726516800-1726524000@southsoundblues.org
SUMMARY:Mike Witmer hosts “Mojo Mike’s Blues Revue” every Monday on KVSH 101.9 FM
DESCRIPTION:Mike Witmer hosts “Mojo Mike’s Blues Revue” every Monday on KVSH 101.9 FM 8-10 pm
URL:https://southsoundblues.org/event/mike-witmer-hosts-mojo-mikes-blues-revue-every-monday-on-kvsh-101-9-fm-23/
LOCATION:WA
CATEGORIES:Local South Sound Blues
END:VEVENT
BEGIN:VEVENT
DTSTART;TZID=America/Los_Angeles:20240917T190000
DTEND;TZID=America/Los_Angeles:20240917T210000
DTSTAMP:20260423T203753
CREATED:20240820T205900Z
LAST-MODIFIED:20240820T205900Z
UID:13251-1726599600-1726606800@southsoundblues.org
SUMMARY:Rob Tudor and Dave McKibbin at the Twisted Fork Saloon every Tuesday
DESCRIPTION:Rob Tudor and Dave McKibbin at the Twisted Fork Saloon every Tuesday\, 7-9 pm
URL:https://southsoundblues.org/event/rob-tudor-and-dave-mckibbin-at-the-twisted-fork-saloon-every-tuesday-9/
LOCATION:Twisted Fork Saloon\, 5005 Main St\, Tacoma\, WA\, 98407
CATEGORIES:Local South Sound Blues
END:VEVENT
BEGIN:VEVENT
DTSTART;TZID=America/Los_Angeles:20240917T190000
DTEND;TZID=America/Los_Angeles:20240917T220000
DTSTAMP:20260423T203753
CREATED:20240820T205618Z
LAST-MODIFIED:20240820T205618Z
UID:13249-1726599600-1726610400@southsoundblues.org
SUMMARY:Jam every Tuesday at Brother Don’s Bar & Grill with the Tim Hall band
DESCRIPTION:Jam every Tuesday at Brother Don’s Bar & Grill with the Tim Hall band\, 7-10 pm.
URL:https://southsoundblues.org/event/jam-every-tuesday-at-brother-dons-bar-grill-with-the-tim-hall-band-5/
LOCATION:Brother Don’s Bar & Grill\, 4200 Kitsap Way\, Bremerton\, WA\, 98312
CATEGORIES:Local South Sound Blues
END:VEVENT
BEGIN:VEVENT
DTSTART;TZID=America/Los_Angeles:20240918T180000
DTEND;TZID=America/Los_Angeles:20240918T180000
DTSTAMP:20260423T203753
CREATED:20240915T230110Z
LAST-MODIFIED:20240915T230110Z
UID:13440-1726682400-1726682400@southsoundblues.org
SUMMARY:Stocktons Wednesday Night Jam with Billy Shew and Friends
DESCRIPTION:Wednesday night Jam with Billy Shew and guest Gavin Stone\, 6pm
URL:https://southsoundblues.org/event/stocktons-wednesday-night-jam-with-billy-shew-and-friends/
LOCATION:Stockton’s Restaurant & Spirits\, 23220 Maple Valley Black Diamond Rd SE\, Maple Valley\, WA\, 98038
CATEGORIES:Local South Sound Blues
END:VEVENT
BEGIN:VEVENT
DTSTART;TZID=America/Los_Angeles:20240919T190000
DTEND;TZID=America/Los_Angeles:20240919T190000
DTSTAMP:20260423T203753
CREATED:20240915T230642Z
LAST-MODIFIED:20240915T230642Z
UID:13442-1726772400-1726772400@southsoundblues.org
SUMMARY:Firehouse Jam with Billy Shew and Friends at the L&M Firehouse\, Orting
DESCRIPTION:Firehouse Jam with Billy Shew and Friends at the L&M Firehouse\, 7pm\nSeptember 19th Guest -Rod Cook \n  \n\n Rod Cook
URL:https://southsoundblues.org/event/firehouse-jam-with-billy-shew-and-friends-at-the-lm-firehouse-orting/
LOCATION:L and M Firehouse\, Orting\, 533 Harman Way S\, Orting\, WA\, 98360
CATEGORIES:Local South Sound Blues
END:VEVENT
BEGIN:VEVENT
DTSTART;TZID=America/Los_Angeles:20240919T190000
DTEND;TZID=America/Los_Angeles:20240919T220000
DTSTAMP:20260423T203753
CREATED:20240820T210752Z
LAST-MODIFIED:20240820T210752Z
UID:13257-1726772400-1726783200@southsoundblues.org
SUMMARY:“Billy the Pocket Jam” Thursday nights at Dawson’s
DESCRIPTION:“Billy the Pocket Jam” Thursday nights at Dawson’s\, 7-10 pm
URL:https://southsoundblues.org/event/billy-the-pocket-jam-thursday-nights-at-dawsons-37/
LOCATION:Dawson’s Bar & Grill\, 5443 South Tacoma Way\, Tacoma\, WA\, 98409
CATEGORIES:Local South Sound Blues
END:VEVENT
BEGIN:VEVENT
DTSTART;TZID=America/Los_Angeles:20240920T190000
DTEND;TZID=America/Los_Angeles:20240920T210000
DTSTAMP:20260423T203753
CREATED:20240709T210200Z
LAST-MODIFIED:20240709T210200Z
UID:13019-1726858800-1726866000@southsoundblues.org
SUMMARY:Mark Hurwitz Combo at Kimball Coffeehouse
DESCRIPTION:Mark Hurwitz Combo at Kimball Coffeehouse September 20th\, 7-9 pm
URL:https://southsoundblues.org/event/mark-hurwitz-combo-at-kimball-coffeehouse/
LOCATION:Kimball’s Coffeehouse\, 6659 Kimball Dr\, Gig Harbor\, WA\, 98335
CATEGORIES:Local South Sound Blues
END:VEVENT
BEGIN:VEVENT
DTSTART;TZID=America/Los_Angeles:20240920T213000
DTEND;TZID=America/Los_Angeles:20240920T230000
DTSTAMP:20260423T203753
CREATED:20240815T024322Z
LAST-MODIFIED:20240815T024322Z
UID:13202-1726867800-1726873200@southsoundblues.org
SUMMARY:Billy Stapleton’s Powerhouse Band at Bakes
DESCRIPTION:Sept 20th\, Bakes\, Bellevue: Billy Stapleton’s Powerhouse Band\, 9:30-11pm
URL:https://southsoundblues.org/event/billy-stapletons-powerhouse-band-at-bakes/
LOCATION:Bake’s Place\, 155 108th Ave NE Ste 110\, Bellevue\, WA\, 98004
CATEGORIES:Local South Sound Blues
END:VEVENT
BEGIN:VEVENT
DTSTART;TZID=America/Los_Angeles:20240921T200000
DTEND;TZID=America/Los_Angeles:20240921T200000
DTSTAMP:20260423T203753
CREATED:20240311T221307Z
LAST-MODIFIED:20240311T221307Z
UID:12387-1726948800-1726948800@southsoundblues.org
SUMMARY:King Kom Beaux at the Manchester Pub\,
DESCRIPTION:King Kom Beaux at the Manchester Pub\, September 21st\, 8pm
URL:https://southsoundblues.org/event/king-kom-beaux-at-the-manchester-pub/
LOCATION:Manchester Pub\, 2350 Colchester Dr E\, Manchester\, WA\, 98366
CATEGORIES:Featured,Local South Sound Blues
END:VEVENT
BEGIN:VEVENT
DTSTART;TZID=America/Los_Angeles:20240922T190000
DTEND;TZID=America/Los_Angeles:20240922T220000
DTSTAMP:20260423T203753
CREATED:20240727T020026Z
LAST-MODIFIED:20240918T231610Z
UID:13103-1727031600-1727042400@southsoundblues.org
SUMMARY:Sunday Blues at the Spar with Johnny Burgin
DESCRIPTION:Sunday Blues at the Spar with Johnny Burgin September 22nd\, 7-10 pm\nJohnny grew up in Mississippi and South Carolina and went to University of Chicago with the intention of becoming a writer.  When a friend took him out to a West Side ghetto club to hear the blues singer Tail Dragger\, it was a conversion moment.  The blues came to life for Johnny and he fell headfirst into the vibrant Chicago blues scene.  Choosing the blues clubs over the library\, Johnny eagerly absorbed the lessons from the blues masters who practiced their craft nightly. \n  \n 
URL:https://southsoundblues.org/event/sunday-blues-at-the-spar-with-johnny-burgin/
LOCATION:The Spar\, 2121 N 30th St\, Tacoma\, WA\, 98403
CATEGORIES:Local South Sound Blues
END:VEVENT
BEGIN:VEVENT
DTSTART;TZID=America/Los_Angeles:20240922T190000
DTEND;TZID=America/Los_Angeles:20240922T230000
DTSTAMP:20260423T203753
CREATED:20240906T010903Z
LAST-MODIFIED:20240906T011224Z
UID:13421-1727031600-1727046000@southsoundblues.org
SUMMARY:Sunday Jam with Billy Shew featuring guest -Joel Astley at Dawson's
DESCRIPTION:September 22\, Tacoma\, WA – Dawson’s Jam guest -Joel Astley with Billy Shew 7-11\n Joel Astley       Billy Shew \n 
URL:https://southsoundblues.org/event/sunday-jam-every-sunday-with-billy-shew-featuring-joel-astley-at-dawsons/
LOCATION:Dawson’s Bar & Grill\, 5443 South Tacoma Way\, Tacoma\, WA\, 98409
CATEGORIES:Local South Sound Blues
END:VEVENT
BEGIN:VEVENT
DTSTART;TZID=America/Los_Angeles:20240924T190000
DTEND;TZID=America/Los_Angeles:20240924T210000
DTSTAMP:20260423T203753
CREATED:20240424T193837Z
LAST-MODIFIED:20240424T193837Z
UID:12604-1727204400-1727211600@southsoundblues.org
SUMMARY:'Tuesday Blues Showcase' featuring Michele D'Amour & The Love Dealers at Purdy's Public House & Arcade
DESCRIPTION:‘Tuesday Blues Showcase’ with Michele D’Amour & The Love Dealers at Purdy’s Public House & Arcade September 24th\, 7-9 pm
URL:https://southsoundblues.org/event/tuesday-blues-showcase-featuring-michele-damour-the-love-dealers-at-purdys-public-house-arcade/
LOCATION:Purdy’s Public House & Arcade\, Sumner\, 16202 64th St E\, Sumner\, WA\, 98390
CATEGORIES:Local South Sound Blues,SSBA Event
END:VEVENT
BEGIN:VEVENT
DTSTART;TZID=America/Los_Angeles:20240925T180000
DTEND;TZID=America/Los_Angeles:20240925T180000
DTSTAMP:20260423T203753
CREATED:20240915T231254Z
LAST-MODIFIED:20240915T231254Z
UID:13444-1727287200-1727287200@southsoundblues.org
SUMMARY:Stockton's Wednesday Night Jam with Billy Shew and Friends\, guest- Johnny Burgin
DESCRIPTION:Stockton’s Wednesday Night Jam with Billy Shew and Friends\, September 25th guest- Johnny Burgin\, 6pm\n Johnny Burgin
URL:https://southsoundblues.org/event/stocktons-wednesday-night-jam-with-billy-shew-and-friends-guest-johnny-burgin/
LOCATION:Stockton’s Restaurant & Spirits\, 23220 Maple Valley Black Diamond Rd SE\, Maple Valley\, WA\, 98038
CATEGORIES:Local South Sound Blues
END:VEVENT
BEGIN:VEVENT
DTSTART;TZID=America/Los_Angeles:20240925T180000
DTEND;TZID=America/Los_Angeles:20240925T220000
DTSTAMP:20260423T203753
CREATED:20240701T174023Z
LAST-MODIFIED:20240701T174126Z
UID:12941-1727287200-1727301600@southsoundblues.org
SUMMARY:'Monster' Mike Welch with Lorenzo Farrell\, David Hudson & Friends at the Slippery Pig\, Poulsbo
DESCRIPTION:‘Monster’ Mike Welch with Lorenzo Farrell\, David Hudson & Friends at the Slippery Pig\, September 25th\, at 6:00pm\nWith over three decades of touring and recording under his belt\, Boston-based blues guitarist Monster Mike Welch is a seasoned veteran of the international blues scene. Tickets are $35. https://www.eventbrite.com/e/monster-mike-welch-live-in-concert-tickets-937821849397?aff=ebdssbdestsearch \n \n 
URL:https://southsoundblues.org/event/monster-mike-welch-with-lorenzo-farrell-david-hudson-friends-at-the-slippery-pig-poulsbo/
LOCATION:Slippery Pig Brewery\, 18801 Front St NE\, Poulsbo\, WA\, 98370
CATEGORIES:Local South Sound Blues
END:VEVENT
BEGIN:VEVENT
DTSTART;TZID=America/Los_Angeles:20240926T190000
DTEND;TZID=America/Los_Angeles:20240926T220000
DTSTAMP:20260423T203753
CREATED:20240815T025425Z
LAST-MODIFIED:20240815T025425Z
UID:13209-1727377200-1727388000@southsoundblues.org
SUMMARY:Monster Mike Welch at West of the Waterway
DESCRIPTION:Sept 26th\, West of the Waterway\, Tacoma: LTD Presents: Monster Mike Welch 7pm
URL:https://southsoundblues.org/event/monster-mike-welch-at-west-of-the-waterway/
LOCATION:Dock Street Deli West of the Waterway\, 1901 Dock Street\, Tacoma\, WA\, 98402
CATEGORIES:Local South Sound Blues
END:VEVENT
END:VCALENDAR