BEGIN:VCALENDAR
VERSION:2.0
PRODID:-//South Sound Blues Association - ECPv6.15.18//NONSGML v1.0//EN
CALSCALE:GREGORIAN
METHOD:PUBLISH
X-ORIGINAL-URL:https://southsoundblues.org
X-WR-CALDESC:Events for South Sound Blues Association
REFRESH-INTERVAL;VALUE=DURATION:PT1H
X-Robots-Tag:noindex
X-PUBLISHED-TTL:PT1H
BEGIN:VTIMEZONE
TZID:America/Los_Angeles
BEGIN:DAYLIGHT
TZOFFSETFROM:-0800
TZOFFSETTO:-0700
TZNAME:PDT
DTSTART:20240310T100000
END:DAYLIGHT
BEGIN:STANDARD
TZOFFSETFROM:-0700
TZOFFSETTO:-0800
TZNAME:PST
DTSTART:20241103T090000
END:STANDARD
BEGIN:DAYLIGHT
TZOFFSETFROM:-0800
TZOFFSETTO:-0700
TZNAME:PDT
DTSTART:20250309T100000
END:DAYLIGHT
BEGIN:STANDARD
TZOFFSETFROM:-0700
TZOFFSETTO:-0800
TZNAME:PST
DTSTART:20251102T090000
END:STANDARD
BEGIN:DAYLIGHT
TZOFFSETFROM:-0800
TZOFFSETTO:-0700
TZNAME:PDT
DTSTART:20260308T100000
END:DAYLIGHT
BEGIN:STANDARD
TZOFFSETFROM:-0700
TZOFFSETTO:-0800
TZNAME:PST
DTSTART:20261101T090000
END:STANDARD
END:VTIMEZONE
BEGIN:VEVENT
DTSTART;TZID=America/Los_Angeles:20250302T190000
DTEND;TZID=America/Los_Angeles:20250302T220000
DTSTAMP:20260423T121103
CREATED:20241228T090054Z
LAST-MODIFIED:20250227T220918Z
UID:14058-1740942000-1740952800@southsoundblues.org
SUMMARY:Sunday Blues at the Spar featuring Mark Hurwitz & Gin Creek
DESCRIPTION:Sunday Blues at the Spar\, Mark Hurwitz & Gin Creek\, 7-10 pm
URL:https://southsoundblues.org/event/sunday-blues-at-the-spar-13/
LOCATION:The Spar\, 2121 N 30th St\, Tacoma\, WA\, 98403
CATEGORIES:Local South Sound Blues
END:VEVENT
BEGIN:VEVENT
DTSTART;TZID=America/Los_Angeles:20250303T200000
DTEND;TZID=America/Los_Angeles:20250303T220000
DTSTAMP:20260423T121103
CREATED:20241228T065421Z
LAST-MODIFIED:20241228T065421Z
UID:14009-1741032000-1741039200@southsoundblues.org
SUMMARY:Mike Witmer hosts “Mojo Mike’s Blues Revue” every Monday on KVSH 101.9 FM
DESCRIPTION:Mike Witmer hosts “Mojo Mike’s Blues Revue” every Monday on KVSH 101.9 FM 8-10 pm
URL:https://southsoundblues.org/event/mike-witmer-hosts-mojo-mikes-blues-revue-every-monday-on-kvsh-101-9-fm-32/
LOCATION:KVSH\, 17643 Vashon Hwy SW\, Vashon Island\, WA\, 98070
CATEGORIES:Local South Sound Blues
END:VEVENT
BEGIN:VEVENT
DTSTART;TZID=America/Los_Angeles:20250304T190000
DTEND;TZID=America/Los_Angeles:20250304T220000
DTSTAMP:20260423T121103
CREATED:20241228T084759Z
LAST-MODIFIED:20241228T084759Z
UID:14048-1741114800-1741125600@southsoundblues.org
SUMMARY:Jam every Tuesday at Brother Don’s Bar & Grill with the Tim Hall band
DESCRIPTION:Jam every Tuesday at Brother Don’s Bar & Grill with the Tim Hall band\, 7-10 pm.
URL:https://southsoundblues.org/event/jam-every-tuesday-at-brother-dons-bar-grill-with-the-tim-hall-band-11/
LOCATION:Brother Don’s Bar & Grill\, 4200 Kitsap Way\, Bremerton\, WA\, 98312
CATEGORIES:Local South Sound Blues
END:VEVENT
BEGIN:VEVENT
DTSTART;TZID=America/Los_Angeles:20250305T190000
DTEND;TZID=America/Los_Angeles:20250305T220000
DTSTAMP:20260423T121103
CREATED:20250113T223403Z
LAST-MODIFIED:20250113T223403Z
UID:14144-1741201200-1741212000@southsoundblues.org
SUMMARY:Wednesdays Blues “Jam Night” with Brian Olver and Glenn Hummel at Purdy’s\, Sumner
DESCRIPTION:Wednesdays Blues “Jam Night” with Brian Olver and Glenn Hummel at Purdy’s\, Sumner\, WA. 7-10 pm
URL:https://southsoundblues.org/event/wednesdays-blues-jam-night-with-brian-olver-and-glenn-hummel-at-purdys-sumner-21/
LOCATION:Purdy’s Public House & Arcade\, Sumner\, 16202 64th St E\, Sumner\, WA\, 98390
CATEGORIES:Local South Sound Blues
END:VEVENT
BEGIN:VEVENT
DTSTART;TZID=America/Los_Angeles:20250306T200000
DTEND;TZID=America/Los_Angeles:20250306T230000
DTSTAMP:20260423T121103
CREATED:20241228T210751Z
LAST-MODIFIED:20241228T210926Z
UID:14066-1741291200-1741302000@southsoundblues.org
SUMMARY:Thursdays\, Steve Itterly & Guests at the Snapdragon
DESCRIPTION:Thursdays\, Steve Itterly & Guests at the Snapdragon\, 8-11 pm\nSteve Itterly & Guests\n\nEvery Thursday night at Snapdragon\, 8pm (after Trivia)\n\n\nThe acclaimed blues guitarist and songwriter\, Steve Itterly\, The performances resonate with a dynamic connection\, evident in the rhythmic boot stomping and impassioned solos that characterize their music.\n\n 
URL:https://southsoundblues.org/event/thursdays-steve-itterly-guests-at-the-snapdragon-2/
LOCATION:Snapdragon\, 17817 Vashon Hwy\, Vashon\, WA\, 98070
CATEGORIES:Local South Sound Blues
END:VEVENT
BEGIN:VEVENT
DTSTART;TZID=America/Los_Angeles:20250307T190000
DTEND;TZID=America/Los_Angeles:20250307T210000
DTSTAMP:20260423T121103
CREATED:20250107T015439Z
LAST-MODIFIED:20250107T015439Z
UID:14127-1741374000-1741381200@southsoundblues.org
SUMMARY:King Kom Beaux at Kimball Coffeehouse
DESCRIPTION:King Kom Beaux at Kimball Coffeehouse Friday March 7th\, 7-9 pm
URL:https://southsoundblues.org/event/king-kom-beaux-at-kimball-coffeehouse/
LOCATION:Kimball’s Coffeehouse\, 6659 Kimball Dr\, Gig Harbor\, WA\, 98335
CATEGORIES:Local South Sound Blues
END:VEVENT
BEGIN:VEVENT
DTSTART;TZID=America/Los_Angeles:20250307T193000
DTEND;TZID=America/Los_Angeles:20250307T223000
DTSTAMP:20260423T121103
CREATED:20241228T084217Z
LAST-MODIFIED:20241228T084217Z
UID:14043-1741375800-1741386600@southsoundblues.org
SUMMARY:Colin James at the Admiral Theater\, Bremerton
DESCRIPTION:Colin James at the Admiral Theater March 7th\, 7:30-10:30 pm\nColin James’s career spans 30 years\, with a track record that includes 20 studio albums\, 8 Juno Awards\, 30 Maple Blues Awards and multi-platinum record sales. His album Open Road\, for which he won a 2022 Juno Award for best Blues Album and was nominated for Blues Foundation 2023 best Blues Rock Album\, is a celebration of personal connections. It includes original tunes written with long time collaborators such as Colin Linden\, Craig \nNorthey and Tom Wilson and reinterpretations of covers by a diverse group of songwriters including Bob Dylan\, Albert King\, Tony Joe White and others.\n\nDoors are at 6:30 pm\,  Tickets:    https://ci.ovationtix.com/36645/production/1197873?performanceId=11455594\n\n\n\n\n\nAdmiral Theater\, 515 Pacific Ave\, Bremerton\, WA 98337
URL:https://southsoundblues.org/event/colin-james-at-the-admiral-theater-bremerton/
LOCATION:Admiral Theater\, 515 Pacific Ave\, Bremerton\, WA\, 98337
CATEGORIES:Local South Sound Blues,Special Event
END:VEVENT
BEGIN:VEVENT
DTSTART;TZID=America/Los_Angeles:20250307T200000
DTEND;TZID=America/Los_Angeles:20250307T233000
DTSTAMP:20260423T121103
CREATED:20241228T225447Z
LAST-MODIFIED:20241228T225447Z
UID:14094-1741377600-1741390200@southsoundblues.org
SUMMARY:Cory Wilds band at Elmers Bar & Grill
DESCRIPTION:Cory Wilds band at Elmers Bar & Grill March 7th\, 8-11:30 pm
URL:https://southsoundblues.org/event/cory-wilds-band-at-elmers-bar-grill/
LOCATION:Elmer’s Bar & Grill\, 15027 Ambaum Blvd SW\, Burien\, WA\, 98166
CATEGORIES:Local South Sound Blues
END:VEVENT
BEGIN:VEVENT
DTSTART;TZID=America/Los_Angeles:20250309T190000
DTEND;TZID=America/Los_Angeles:20250309T220000
DTSTAMP:20260423T121103
CREATED:20250306T024111Z
LAST-MODIFIED:20250306T024111Z
UID:14397-1741546800-1741557600@southsoundblues.org
SUMMARY:Sunday Blues at the Spar with the T-Town Aces
DESCRIPTION:March 9th\,  Sunday Blues at the Spar with the T-Town Aces\, 7-10 pm
URL:https://southsoundblues.org/event/sunday-blues-at-the-spar-with-the-t-town-aces-3/
LOCATION:The Spar\, 2121 N 30th St\, Tacoma\, WA\, 98403
CATEGORIES:Local South Sound Blues
END:VEVENT
BEGIN:VEVENT
DTSTART;TZID=America/Los_Angeles:20250309T190000
DTEND;TZID=America/Los_Angeles:20250309T230000
DTSTAMP:20260423T121103
CREATED:20241228T090234Z
LAST-MODIFIED:20241228T090234Z
UID:14060-1741546800-1741561200@southsoundblues.org
SUMMARY:Billy Shew Blues Jam\, every Sunday at Dawson’s
DESCRIPTION:Billy Shew Blues Jam\, every Sunday at Dawson’s\, 7-11 pm
URL:https://southsoundblues.org/event/billy-shew-blues-jam-every-sunday-at-dawsons-33/
LOCATION:Dawson’s Bar & Grill\, 5443 South Tacoma Way\, Tacoma\, WA\, 98409
CATEGORIES:Local South Sound Blues
END:VEVENT
BEGIN:VEVENT
DTSTART;TZID=America/Los_Angeles:20250311T190000
DTEND;TZID=America/Los_Angeles:20250311T190000
DTSTAMP:20260423T121103
CREATED:20250220T214228Z
LAST-MODIFIED:20250220T214228Z
UID:14368-1741719600-1741719600@southsoundblues.org
SUMMARY:Billy Shew hosts the Burien Eagles Tuesday Night Jams
DESCRIPTION:Billy Shew hosts the Burien Eagles Tuesday Night Jams\,  7:00pm
URL:https://southsoundblues.org/event/billy-shew-hosts-the-burien-eagles-tuesday-night-jams-6/
LOCATION:Burien Eagles\, 920 SW 150th St\, Burien\, WA\, 98166
CATEGORIES:Local South Sound Blues
END:VEVENT
BEGIN:VEVENT
DTSTART;TZID=America/Los_Angeles:20250312T180000
DTEND;TZID=America/Los_Angeles:20250312T210000
DTSTAMP:20260423T121103
CREATED:20250113T223947Z
LAST-MODIFIED:20250113T223947Z
UID:14148-1741802400-1741813200@southsoundblues.org
SUMMARY:Billy Shew and Friends host an open Jam every Wednesday at Stockton’s
DESCRIPTION:Billy Shew and Friends host an open Jam every Wednesday at Stockton’s\, 6-9pm
URL:https://southsoundblues.org/event/billy-shew-and-friends-host-an-open-jam-every-wednesday-at-stocktons-29/
LOCATION:Stockton’s Restaurant & Spirits\, 23220 Maple Valley Black Diamond Rd SE\, Maple Valley\, WA\, 98038
CATEGORIES:Local South Sound Blues
END:VEVENT
BEGIN:VEVENT
DTSTART;TZID=America/Los_Angeles:20250313T200000
DTEND;TZID=America/Los_Angeles:20250313T230000
DTSTAMP:20260423T121103
CREATED:20241205T202533Z
LAST-MODIFIED:20241205T202908Z
UID:13917-1741896000-1741906800@southsoundblues.org
SUMMARY:Albert Castiglia Band at the Airport Tavern
DESCRIPTION:Albert Castiglia Band at the Airport Tavern Thursday March 13th\nFresh from winning another Blues Music Award at the recent festivities in Memphis for “Best Blues Rock Album” as a member of the “Blood Brothers\,” along with labelmate Mike Zito\, Albert Castiglia comes out guitar-slinging on his new solo Gulf Coast Records album\, Righteous Souls.
URL:https://southsoundblues.org/event/albert-castiglia-band-at-the-airport-tavern/
LOCATION:Airport Tavern\, 5406 S Tacoma Way\, Tacoma\, WA\, 98409
CATEGORIES:Local South Sound Blues
END:VEVENT
BEGIN:VEVENT
DTSTART;TZID=America/Los_Angeles:20250314T190000
DTEND;TZID=America/Los_Angeles:20250314T210000
DTSTAMP:20260423T121103
CREATED:20250113T022331Z
LAST-MODIFIED:20250306T025548Z
UID:14134-1741978800-1741986000@southsoundblues.org
SUMMARY:Taylor Hardin Blues Band at Kimball Coffeehouse
DESCRIPTION:Taylor Hardin Blues Band at the Kimball Coffeehouse\, March  14th\, 7-9 pm
URL:https://southsoundblues.org/event/taylor-hardin-blues-band-at-kimbal-coffeehouse/
LOCATION:Kimball’s Coffeehouse\, 6659 Kimball Dr\, Gig Harbor\, WA\, 98335
CATEGORIES:Local South Sound Blues
END:VEVENT
BEGIN:VEVENT
DTSTART;TZID=America/Los_Angeles:20250314T190000
DTEND;TZID=America/Los_Angeles:20250314T220000
DTSTAMP:20260423T121103
CREATED:20250114T235633Z
LAST-MODIFIED:20250127T015510Z
UID:14167-1741978800-1741989600@southsoundblues.org
SUMMARY:LTD Presents: Chris Cain Band at the Palindrome\, Port Townsend
DESCRIPTION:CHRIS CAIN BAND\, at the PORT TOWNSEND PALINDROME (EAGLEMOUNT WINERY)\, FRIDAY\, MARCH 14\nLTD Presents: Chris Cain Band LIVE at The Palindrome Port Townsend Event CenterWith more than three decades of touring and fifteen previous albums under his belt\, Alligator Records recording artist Chris Cain\, once known as “one of the greatest guitarists you’ve never heard\,” is now celebrated by fans and fellow musicians alike as being among the blues’ most talented and exciting players.\ntickets: www.LTDPRESENTSLIVE.com
URL:https://southsoundblues.org/event/chris-cain-band-at-the-palindrome-port-townsend/
LOCATION:Palindrome Port Townsend Event Center\, 1893 S Jacob Miller Rd\, Port Townsend\, WA\, 98368
CATEGORIES:Featured,Local South Sound Blues
END:VEVENT
BEGIN:VEVENT
DTSTART;TZID=America/Los_Angeles:20250314T200000
DTEND;TZID=America/Los_Angeles:20250314T230000
DTSTAMP:20260423T121103
CREATED:20250309T235710Z
LAST-MODIFIED:20250310T004401Z
UID:14447-1741982400-1741993200@southsoundblues.org
SUMMARY:Billy Stapleton's Powerhouse at the Salmon Bay Eagles\, Ballard
DESCRIPTION:Friday March 14th 8-11pm in Ballard at the Salmon Bay Eagles\, Billy Stapleton’s POWERHHOUSE.\n \nThis super tight\, dynamic TRIO plays a wide variety of genres. Rock\, Soul\, Rhythm and Blues\, Ballads\, Blues\, and instrumentals. Led by virtuoso Bassist and Lead Vocalist Don Wilhelm who’s never met a high note he doesn’t like. All Star Drummer and vocalist Steve Peterson locks in tight. Multi Award Winning Guitarist and Slide Guitarist Billy Stapleton gives it all up every night. $5 for non members\, great bar\, super affordable HOME COOKED meals\, come early stay late.
URL:https://southsoundblues.org/event/billy-stapletons-powerhouse-at-the-salmon-bay-eagles-ballard-3/
LOCATION:Salmon Bay Eagles\, 5216 20th Ave NW\, Seattle\, WA\, 98107
CATEGORIES:Local South Sound Blues
END:VEVENT
BEGIN:VEVENT
DTSTART;TZID=America/Los_Angeles:20250316T190000
DTEND;TZID=America/Los_Angeles:20250316T220000
DTSTAMP:20260423T121103
CREATED:20250213T224537Z
LAST-MODIFIED:20250213T224537Z
UID:14315-1742151600-1742162400@southsoundblues.org
SUMMARY:Sunday Blues at the Spar with the Daniel Castro Band
DESCRIPTION:Sunday Blues at The Spar: Daniel Castro Band\, March 16th 7-10 pm\nL.A. area artist Daniel Castro was heavily influenced by the blues greats Albert King\, B.B. King\, and Albert Collins. After cutting his teeth in South Central L.A. blues clubs with “Mighty Mouth” Delmar Evans\, who worked with the Johnny Otis Show\, Castro backed other great artists from Otis’ band\, including Pee Wee Crayton and Little Esther Phillips. He also recorded and toured with many other artists including legendary Small Faces singer-bassist Ronnie Lane.\nThe LTD Presents Spotlight Series is sponsored in part by Kat McNeill & Lance Bowman
URL:https://southsoundblues.org/event/sunday-blues-at-the-spar-with-the-daniel-castro-band-2/
LOCATION:The Spar\, 2121 N 30th St\, Tacoma\, WA\, 98403
CATEGORIES:Local South Sound Blues
END:VEVENT
BEGIN:VEVENT
DTSTART;TZID=America/Los_Angeles:20250317T200000
DTEND;TZID=America/Los_Angeles:20250317T230000
DTSTAMP:20260423T121103
CREATED:20250107T020530Z
LAST-MODIFIED:20250107T020530Z
UID:14129-1742241600-1742252400@southsoundblues.org
SUMMARY:St. Patrick's Day at O'Malley's Irish Pub with King Kom Beaux
DESCRIPTION:St. Patrick’s Day at O’Malley’s Irish Pub with King Kom Beaux. More info TBD. \n \n# 253-627-9403  email: info.omalleys@gmail.com \n2403 6th Ave\, Tacoma\, WA 98406
URL:https://southsoundblues.org/event/st-patricks-day-at-omalleys-irish-pub-with-king-kom-beaux/
LOCATION:O’Malley’s Irish Pub\, 2403 6th Ave\, Tacoma\, WA\, 98406
CATEGORIES:Local South Sound Blues
END:VEVENT
BEGIN:VEVENT
DTSTART;TZID=America/Los_Angeles:20250318T200000
DTEND;TZID=America/Los_Angeles:20250318T233000
DTSTAMP:20260423T121103
CREATED:20241228T224540Z
LAST-MODIFIED:20241228T224540Z
UID:14090-1742328000-1742340600@southsoundblues.org
SUMMARY:Cory Wilds Band Tuesday open Jam Night at Elmer’s Bar and Grill
DESCRIPTION:Cory Wilds Band Tuesday open Jam Night at Elmer’s Bar and Grill\, 8-11:30 pm
URL:https://southsoundblues.org/event/cory-wilds-band-tuesday-open-jam-night-at-elmers-bar-and-grill-29/
LOCATION:Elmer’s Bar & Grill\, 15027 Ambaum Blvd SW\, Burien\, WA\, 98166
CATEGORIES:Local South Sound Blues
END:VEVENT
BEGIN:VEVENT
DTSTART;TZID=America/Los_Angeles:20250319T190000
DTEND;TZID=America/Los_Angeles:20250319T220000
DTSTAMP:20260423T121103
CREATED:20250113T224206Z
LAST-MODIFIED:20250113T224255Z
UID:14150-1742410800-1742421600@southsoundblues.org
SUMMARY:Wednesdays Blues “Jam Night” with Brian Olver and Glenn Hummel at Purdy’s\, Sumner
DESCRIPTION:Wednesdays Blues “Jam Night” with Brian Olver and Glenn Hummel at Purdy’s\, Sumner\, WA. 7-10 pm
URL:https://southsoundblues.org/event/wednesdays-blues-jam-night-with-brian-olver-and-glenn-hummel-at-purdys-sumner-22/
LOCATION:Purdy’s Public House & Arcade\, Sumner\, 16202 64th St E\, Sumner\, WA\, 98390
CATEGORIES:Local South Sound Blues
END:VEVENT
BEGIN:VEVENT
DTSTART;TZID=America/Los_Angeles:20250320T190000
DTEND;TZID=America/Los_Angeles:20250320T220000
DTSTAMP:20260423T121103
CREATED:20250113T234100Z
LAST-MODIFIED:20250113T234100Z
UID:14159-1742497200-1742508000@southsoundblues.org
SUMMARY:“Billy the Pocket Jam” Thursday nights at Dawson’s
DESCRIPTION:“Billy the Pocket Jam” Thursday nights at Dawson’s\, 7-10 pm
URL:https://southsoundblues.org/event/billy-the-pocket-jam-thursday-nights-at-dawsons-4/
LOCATION:Dawson’s Bar & Grill\, 5443 South Tacoma Way\, Tacoma\, WA\, 98409
CATEGORIES:Local South Sound Blues
END:VEVENT
BEGIN:VEVENT
DTSTART;TZID=America/Los_Angeles:20250321T190000
DTEND;TZID=America/Los_Angeles:20250321T210000
DTSTAMP:20260423T121103
CREATED:20250306T025901Z
LAST-MODIFIED:20250306T025936Z
UID:14406-1742583600-1742590800@southsoundblues.org
SUMMARY:Mark DuFresne Band at Kimball Coffeehouse
DESCRIPTION:March 21st\, Mark DuFresne Band at the Kimball Coffeehouse\, 7-9 pm
URL:https://southsoundblues.org/event/mark-dufresne-band-at-kimball-coffeehouse-2/
LOCATION:Kimball’s Coffeehouse\, 6659 Kimball Dr\, Gig Harbor\, WA\, 98335
CATEGORIES:Local South Sound Blues
END:VEVENT
BEGIN:VEVENT
DTSTART;TZID=America/Los_Angeles:20250323T190000
DTEND;TZID=America/Los_Angeles:20250323T220000
DTSTAMP:20260423T121103
CREATED:20250306T024554Z
LAST-MODIFIED:20250306T024554Z
UID:14399-1742756400-1742767200@southsoundblues.org
SUMMARY:Sunday Blues at the Spar with the Enders Brothers
DESCRIPTION:Mar 23rd – Sunday Blues at the Spar with the Enders Brothers
URL:https://southsoundblues.org/event/sunday-blues-at-the-spar-with-the-enders-brothers-2/
LOCATION:The Spar\, 2121 N 30th St\, Tacoma\, WA\, 98403
CATEGORIES:Local South Sound Blues
END:VEVENT
BEGIN:VEVENT
DTSTART;TZID=America/Los_Angeles:20250323T190000
DTEND;TZID=America/Los_Angeles:20250323T230000
DTSTAMP:20260423T121103
CREATED:20250214T202443Z
LAST-MODIFIED:20250214T202443Z
UID:14326-1742756400-1742770800@southsoundblues.org
SUMMARY:Billy Shew Blues Jam\, every Sunday at Dawson’s
DESCRIPTION:Billy Shew Blues Jam\, every Sunday at Dawson’s\, 7-11 pm
URL:https://southsoundblues.org/event/billy-shew-blues-jam-every-sunday-at-dawsons-36/
LOCATION:Dawson’s Bar & Grill\, 5443 South Tacoma Way\, Tacoma\, WA\, 98409
CATEGORIES:Local South Sound Blues
END:VEVENT
BEGIN:VEVENT
DTSTART;TZID=America/Los_Angeles:20250324T200000
DTEND;TZID=America/Los_Angeles:20250324T220000
DTSTAMP:20260423T121103
CREATED:20250214T211307Z
LAST-MODIFIED:20250214T211307Z
UID:14337-1742846400-1742853600@southsoundblues.org
SUMMARY:Mike Witmer hosts “Mojo Mike’s Blues Revue” every Monday on KVSH 101.9 FM
DESCRIPTION:Mike Witmer hosts “Mojo Mike’s Blues Revue” every Monday on KVSH 101.9 FM 8-10 pm\n 
URL:https://southsoundblues.org/event/mike-witmer-hosts-mojo-mikes-blues-revue-every-monday-on-kvsh-101-9-fm-35/
LOCATION:KVSH\, 17643 Vashon Hwy SW\, Vashon Island\, WA\, 98070
CATEGORIES:Local South Sound Blues
END:VEVENT
BEGIN:VEVENT
DTSTART;TZID=America/Los_Angeles:20250325T190000
DTEND;TZID=America/Los_Angeles:20250325T210000
DTSTAMP:20260423T121103
CREATED:20241221T004929Z
LAST-MODIFIED:20241221T004929Z
UID:13968-1742929200-1742936400@southsoundblues.org
SUMMARY:Purdy's "Tuesday Blues Showcase" featuring the Blue Healers\, Sumner
DESCRIPTION:“Tuesday Blues Showcase” featuring the Blue Healers at Purdy’s Public House & Arcade\, March 25th\, 7-9 pm
URL:https://southsoundblues.org/event/purdys-tuesday-blues-showcase-featuring-the-blue-healers-sumner/
LOCATION:Purdy’s Public House & Arcade\, Sumner\, 16202 64th St E\, Sumner\, WA\, 98390
CATEGORIES:Local South Sound Blues,SSBA Event
END:VEVENT
BEGIN:VEVENT
DTSTART;TZID=America/Los_Angeles:20250326T180000
DTEND;TZID=America/Los_Angeles:20250326T210000
DTSTAMP:20260423T121103
CREATED:20250113T224630Z
LAST-MODIFIED:20250113T224630Z
UID:14153-1743012000-1743022800@southsoundblues.org
SUMMARY:Billy Shew and Friends host an open Jam every Wednesday at Stockton’s
DESCRIPTION:Billy Shew and Friends host an open Jam every Wednesday at Stockton’s\, 6-9pm
URL:https://southsoundblues.org/event/billy-shew-and-friends-host-an-open-jam-every-wednesday-at-stocktons-30/
LOCATION:Stockton’s Restaurant & Spirits\, 23220 Maple Valley Black Diamond Rd SE\, Maple Valley\, WA\, 98038
CATEGORIES:Local South Sound Blues
END:VEVENT
BEGIN:VEVENT
DTSTART;TZID=America/Los_Angeles:20250327T200000
DTEND;TZID=America/Los_Angeles:20250327T230000
DTSTAMP:20260423T121103
CREATED:20250220T213410Z
LAST-MODIFIED:20250220T213410Z
UID:14366-1743105600-1743116400@southsoundblues.org
SUMMARY:Thursdays\, Steve Itterly & Guests at the Snapdragon\, Vashon
DESCRIPTION:Thursdays\, Steve Itterly & Guests at the Snapdragon\, 8-11 pm\nSteve Itterly & Guests\n\nEvery Thursday night at Snapdragon\, 8pm (after Trivia)\n\n\nThe acclaimed blues guitarist and songwriter\, Steve Itterly\, The performances resonate with a dynamic connection\, evident in the rhythmic boot stomping and impassioned solos that characterize their music.
URL:https://southsoundblues.org/event/thursdays-steve-itterly-guests-at-the-snapdragon-vashon-2/
LOCATION:Snapdragon\, 17817 Vashon Hwy\, Vashon\, WA\, 98070
CATEGORIES:Local South Sound Blues
END:VEVENT
BEGIN:VEVENT
DTSTART;TZID=America/Los_Angeles:20250330T190000
DTEND;TZID=America/Los_Angeles:20250330T220000
DTSTAMP:20260423T121103
CREATED:20250214T202742Z
LAST-MODIFIED:20250306T025044Z
UID:14328-1743361200-1743372000@southsoundblues.org
SUMMARY:Sunday Blues at the Spar with '3 Guitars'
DESCRIPTION:Sunday Blues at the Spar march 30th with ‘3 Guitars’\, 7-10 pm
URL:https://southsoundblues.org/event/sunday-blues-at-the-spar-11/
LOCATION:The Spar\, 2121 N 30th St\, Tacoma\, WA\, 98403
CATEGORIES:Local South Sound Blues
END:VEVENT
END:VCALENDAR