BEGIN:VCALENDAR
VERSION:2.0
PRODID:-//South Sound Blues Association - ECPv6.15.18//NONSGML v1.0//EN
CALSCALE:GREGORIAN
METHOD:PUBLISH
X-WR-CALNAME:South Sound Blues Association
X-ORIGINAL-URL:https://southsoundblues.org
X-WR-CALDESC:Events for South Sound Blues Association
REFRESH-INTERVAL;VALUE=DURATION:PT1H
X-Robots-Tag:noindex
X-PUBLISHED-TTL:PT1H
BEGIN:VTIMEZONE
TZID:America/Los_Angeles
BEGIN:DAYLIGHT
TZOFFSETFROM:-0800
TZOFFSETTO:-0700
TZNAME:PDT
DTSTART:20220313T100000
END:DAYLIGHT
BEGIN:STANDARD
TZOFFSETFROM:-0700
TZOFFSETTO:-0800
TZNAME:PST
DTSTART:20221106T090000
END:STANDARD
BEGIN:DAYLIGHT
TZOFFSETFROM:-0800
TZOFFSETTO:-0700
TZNAME:PDT
DTSTART:20230312T100000
END:DAYLIGHT
BEGIN:STANDARD
TZOFFSETFROM:-0700
TZOFFSETTO:-0800
TZNAME:PST
DTSTART:20231105T090000
END:STANDARD
BEGIN:DAYLIGHT
TZOFFSETFROM:-0800
TZOFFSETTO:-0700
TZNAME:PDT
DTSTART:20240310T100000
END:DAYLIGHT
BEGIN:STANDARD
TZOFFSETFROM:-0700
TZOFFSETTO:-0800
TZNAME:PST
DTSTART:20241103T090000
END:STANDARD
END:VTIMEZONE
BEGIN:VEVENT
DTSTART;TZID=America/Los_Angeles:20230809T180000
DTEND;TZID=America/Los_Angeles:20230809T210000
DTSTAMP:20260425T091854
CREATED:20230724T183554Z
LAST-MODIFIED:20230724T183554Z
UID:10943-1691604000-1691614800@southsoundblues.org
SUMMARY:Billy Shew and Friends host an open Jam every Wednesday at Stockton’s
DESCRIPTION:Billy Shew and Friends host an open Jam every Wednesday at Stockton’s\, 6-9pm
URL:https://southsoundblues.org/event/billy-shew-and-friends-host-an-open-jam-every-wednesday-at-stocktons-8/
LOCATION:Stockton’s Restaurant & Spirits\, 23220 Maple Valley Black Diamond Rd SE\, Maple Valley\, WA\, 98038
CATEGORIES:Local South Sound Blues
END:VEVENT
BEGIN:VEVENT
DTSTART;TZID=America/Los_Angeles:20230810T183000
DTEND;TZID=America/Los_Angeles:20230810T200000
DTSTAMP:20260425T091854
CREATED:20230716T231104Z
LAST-MODIFIED:20230810T205714Z
UID:10876-1691692200-1691697600@southsoundblues.org
SUMMARY:Kim and Brian Band at Auburn Summer Sounds\, Les Gove Park
DESCRIPTION:Kim and Brian- Auburn Summer Sounds\, Les Gove Park\, 6:30-8 pm\n \nKim & Brian Band – Auburn Summer Sounds Concert Series\nThu\, Aug 10 @ 6:30PM — 8:00PM \nLes Gove Park \n910 9th St SE\, Auburn\, WA 98002
URL:https://southsoundblues.org/event/kim-and-brian-sunset-sessions-on-the-mill-patio-2/
LOCATION:Les Gove Park\, 910 9th St SE\, Auburn\, WA\, 98002
CATEGORIES:Local South Sound Blues
END:VEVENT
BEGIN:VEVENT
DTSTART;TZID=America/Los_Angeles:20230810T190000
DTEND;TZID=America/Los_Angeles:20230810T190000
DTSTAMP:20260425T091854
CREATED:20230731T232551Z
LAST-MODIFIED:20230731T232551Z
UID:11024-1691694000-1691694000@southsoundblues.org
SUMMARY:WBS Gas Station Blues at the historic Shell Station\, Issaquah
DESCRIPTION:WBS Gas Station Blues at the historic Shell Station\, Issaquah\, 7pm
URL:https://southsoundblues.org/event/wbs-gas-station-blues-at-the-historic-shell-station-issaquah/
LOCATION:Historic Shell Station\, 232 Front St N\, Issaquah\, WA\, 98027
CATEGORIES:Local South Sound Blues
END:VEVENT
BEGIN:VEVENT
DTSTART;TZID=America/Los_Angeles:20230810T190000
DTEND;TZID=America/Los_Angeles:20230810T220000
DTSTAMP:20260425T091854
CREATED:20230724T184614Z
LAST-MODIFIED:20230724T184614Z
UID:10949-1691694000-1691704800@southsoundblues.org
SUMMARY:“Billy the Pocket Jam” Thursday nights at Dawson’s
DESCRIPTION:“Billy the Pocket Jam” Thursday nights at Dawson’s\, 7-10 pm
URL:https://southsoundblues.org/event/billy-the-pocket-jam-thursday-nights-at-dawsons-20/
LOCATION:Dawson’s Bar & Grill\, 5443 South Tacoma Way\, Tacoma\, WA\, 98409
CATEGORIES:Local South Sound Blues
END:VEVENT
BEGIN:VEVENT
DTSTART;TZID=America/Los_Angeles:20230811T190000
DTEND;TZID=America/Los_Angeles:20230811T210000
DTSTAMP:20260425T091854
CREATED:20230724T221524Z
LAST-MODIFIED:20230724T221524Z
UID:10967-1691780400-1691787600@southsoundblues.org
SUMMARY:Octopus Ballet at Kimball Coffee House\, Gig Harbor
DESCRIPTION:Octopus Ballet at Kimball Coffee House\, August 11th\, 7-9 pm
URL:https://southsoundblues.org/event/octopus-ballet-at-kimball-coffee-house-gig-harbor/
LOCATION:Kimball’s Coffeehouse\, 6659 Kimball Dr\, Gig Harbor\, WA\, 98335
CATEGORIES:Local South Sound Blues
END:VEVENT
BEGIN:VEVENT
DTSTART;TZID=America/Los_Angeles:20230811T210000
DTEND;TZID=America/Los_Angeles:20230811T233000
DTSTAMP:20260425T091854
CREATED:20230811T194240Z
LAST-MODIFIED:20230811T194330Z
UID:11122-1691787600-1691796600@southsoundblues.org
SUMMARY:Mark Hurwitz and Gin Creek at The Garage Bar and Grill\, Bremerton
DESCRIPTION:Mark Hurwitz and Gin Creek at The Garage Bar and Grill 9-11:30 pm\n Mark Hurwitz
URL:https://southsoundblues.org/event/mark-hurwitz-and-gin-creek-at-the-garage-bar-and-grill-2/
LOCATION:Garage Bar and Grill\, 6812 Kitsap Way\, Bremerton\, WA\, 98312
CATEGORIES:Local South Sound Blues
END:VEVENT
BEGIN:VEVENT
DTSTART;VALUE=DATE:20230812
DTEND;VALUE=DATE:20230814
DTSTAMP:20260425T091854
CREATED:20230326T194014Z
LAST-MODIFIED:20230326T194014Z
UID:10074-1691805600-1691891999@southsoundblues.org
SUMMARY:Ross Robinson at Lady of the Lake Pub\, Offut
DESCRIPTION:Ross Robinson at Lady of the Lake Pub\, Offut Lake Aug 12th\n \n 
URL:https://southsoundblues.org/event/ross-robinson-at-lady-of-the-lake-pub-offut-2/
LOCATION:Lady of the Lake Pub\, 4005 120th Ave SE\, Tenino\, WA\, 98589
CATEGORIES:Local South Sound Blues
END:VEVENT
BEGIN:VEVENT
DTSTART;TZID=America/Los_Angeles:20230812T120000
DTEND;TZID=America/Los_Angeles:20230812T210000
DTSTAMP:20260425T091854
CREATED:20230508T224613Z
LAST-MODIFIED:20230508T224613Z
UID:10382-1691841600-1691874000@southsoundblues.org
SUMMARY:Gig Harbor's Rockin' Rhythm & Blues Festival
DESCRIPTION:Gig Harbor’s Rockin’ Rhythm & Blues Festival\, August 12th\, Noon – 9 pm.\n \nFeaturing Live Bands:\nBILLY STAPLETON\nALL FUNK N’ GAMES\nROEMAN & THE WHEREABOUTS\n9\nMAGICAL HISTORY TOUR\nTHE PROFITS\nRED HOUSE\nHD FUSION WITH MADDY DULLUM\nTICKETS:\nHarbor Barber (253) 858-3613\nFinholm’s Harbor (253) 851-2292\nKimball Coffeehouse (253) 858-2625
URL:https://southsoundblues.org/event/gig-harbors-rockin-rhythm-blues-festival-3/
LOCATION:Gig Harbor Sportsman’s Club\, 9721 Burnham Drive NW\, Gig Harbor\, WA\, 98332
CATEGORIES:Festival,Local South Sound Blues
END:VEVENT
BEGIN:VEVENT
DTSTART;TZID=America/Los_Angeles:20230812T150000
DTEND;TZID=America/Los_Angeles:20230812T170000
DTSTAMP:20260425T091854
CREATED:20230418T222922Z
LAST-MODIFIED:20230418T222922Z
UID:10171-1691852400-1691859600@southsoundblues.org
SUMMARY:Michele D'Amour & The Love Dealers at Logan Brewing
DESCRIPTION:Michele D’Amour & The Love Dealers at Logan Brewing Co.\, August 12th at 3:00 pm
URL:https://southsoundblues.org/event/michele-damour-the-love-dealers-at-logan-brewing/
LOCATION:Logan Brewing\, 510 SW 151ST ST\, Burien\, WA\, 98166
CATEGORIES:Local South Sound Blues
END:VEVENT
BEGIN:VEVENT
DTSTART;TZID=America/Los_Angeles:20230812T200000
DTEND;TZID=America/Los_Angeles:20230812T230000
DTSTAMP:20260425T091854
CREATED:20230505T010139Z
LAST-MODIFIED:20230505T010139Z
UID:10347-1691870400-1691881200@southsoundblues.org
SUMMARY:King Kom beaux at Siren's Pub
DESCRIPTION:King Kom beaux at Siren’s Pub 8-11 pm
URL:https://southsoundblues.org/event/king-kom-beaux-at-sirens-pub/
LOCATION:Siren’s Waterfront Gastropub\, 823 Water St.\, Port Townsend\, WA\, 98368
CATEGORIES:Local South Sound Blues
END:VEVENT
BEGIN:VEVENT
DTSTART;TZID=America/Los_Angeles:20230813T190000
DTEND;TZID=America/Los_Angeles:20230813T220000
DTSTAMP:20260425T091854
CREATED:20230717T000721Z
LAST-MODIFIED:20230717T000721Z
UID:10888-1691953200-1691964000@southsoundblues.org
SUMMARY:Mark DuFresne Band at The Spar
DESCRIPTION:Sunday\, August 13th – Mark DuFresne Band – The Spar 7-10pm
URL:https://southsoundblues.org/event/mark-dufresne-band-at-the-spar-3/
LOCATION:The Spar\, 2121 N 30th St\, Tacoma\, WA\, 98403
CATEGORIES:Local South Sound Blues
END:VEVENT
BEGIN:VEVENT
DTSTART;TZID=America/Los_Angeles:20230813T190000
DTEND;TZID=America/Los_Angeles:20230813T230000
DTSTAMP:20260425T091854
CREATED:20230717T002353Z
LAST-MODIFIED:20230717T002353Z
UID:10895-1691953200-1691967600@southsoundblues.org
SUMMARY:Billy Shew Blues Jam\, every Sunday at Dawson’s
DESCRIPTION:Billy Shew Blues Jam\, every Sunday at Dawson’s\, 7-11 pm
URL:https://southsoundblues.org/event/billy-shew-blues-jam-every-sunday-at-dawsons-6/
LOCATION:Dawson’s Bar & Grill\, 5443 South Tacoma Way\, Tacoma\, WA\, 98409
CATEGORIES:Local South Sound Blues
END:VEVENT
BEGIN:VEVENT
DTSTART;TZID=America/Los_Angeles:20230814T200000
DTEND;TZID=America/Los_Angeles:20230814T220000
DTSTAMP:20260425T091854
CREATED:20230724T190059Z
LAST-MODIFIED:20230724T190059Z
UID:10957-1692043200-1692050400@southsoundblues.org
SUMMARY:Mike Witmer hosts “Mojo Mike’s Blues Revue” every Monday on KVSH 101.9 FM
DESCRIPTION:Mike Witmer hosts “Mojo Mike’s Blues Revue” every Monday on KVSH 101.9 FM 8-10 pm
URL:https://southsoundblues.org/event/mike-witmer-hosts-mojo-mikes-blues-revue-every-monday-on-kvsh-101-9-fm-7/
LOCATION:WA
CATEGORIES:Local South Sound Blues
END:VEVENT
BEGIN:VEVENT
DTSTART;TZID=America/Los_Angeles:20230815T190000
DTEND;TZID=America/Los_Angeles:20230815T230000
DTSTAMP:20260425T091854
CREATED:20230721T215804Z
LAST-MODIFIED:20230721T215804Z
UID:10933-1692126000-1692140400@southsoundblues.org
SUMMARY:Billy Shew and friends Jam every Tuesday at the Burien Eagles
DESCRIPTION:Billy Shew and friends Jam every Tuesday at the Burien Eagles\, 7pm
URL:https://southsoundblues.org/event/billy-shew-and-friends-jam-every-tuesday-at-the-burien-eagles-10/
LOCATION:Burien Eagles\, 920 SW 150th St\, Burien\, WA\, 98166
CATEGORIES:Local South Sound Blues
END:VEVENT
BEGIN:VEVENT
DTSTART;TZID=America/Los_Angeles:20230816T180000
DTEND;TZID=America/Los_Angeles:20230816T200000
DTSTAMP:20260425T091854
CREATED:20230607T194215Z
LAST-MODIFIED:20230607T194215Z
UID:10616-1692208800-1692216000@southsoundblues.org
SUMMARY:University Place Music on the Square- Blues Night Double Header - Rafael Tranquilino and Heather Jones and the Groove Masters
DESCRIPTION:University Place Music on the Square – Blues Night Double Header – Rafael Tranquilino and Heather Jones and the Groove Masters\, 6-8 pm
URL:https://southsoundblues.org/event/university-place-music-on-the-square-blues-night-double-header-rafael-tranquilino-and-heather-jones-and-the-groove-masters/
LOCATION:University place Market Square\, 3609 Market Pl W\, University Place\, WA\, 98466
CATEGORIES:Local South Sound Blues
END:VEVENT
BEGIN:VEVENT
DTSTART;TZID=America/Los_Angeles:20230817T190000
DTEND;TZID=America/Los_Angeles:20230817T190000
DTSTAMP:20260425T091854
CREATED:20230731T232659Z
LAST-MODIFIED:20230731T232659Z
UID:11026-1692298800-1692298800@southsoundblues.org
SUMMARY:WBS Gas Station Blues at the historic Shell Station\, Issaquah
DESCRIPTION:WBS Gas Station Blues at the historic Shell Station\, Issaquah\, 7pm
URL:https://southsoundblues.org/event/wbs-gas-station-blues-at-the-historic-shell-station-issaquah-2/
LOCATION:Historic Shell Station\, 232 Front St N\, Issaquah\, WA\, 98027
CATEGORIES:Local South Sound Blues
END:VEVENT
BEGIN:VEVENT
DTSTART;TZID=America/Los_Angeles:20230817T200000
DTEND;TZID=America/Los_Angeles:20230817T220000
DTSTAMP:20260425T091854
CREATED:20230814T181942Z
LAST-MODIFIED:20230814T182814Z
UID:11134-1692302400-1692309600@southsoundblues.org
SUMMARY:Jonathan Pitman and Steve Itterly at Snapdragon\, Vashon
DESCRIPTION:Jonathan Pitman and Steve Itterly at Snapdragon\, August 17th\, 8pm\nHarmonica ace\, Jonathan Pitman and multi award winning guitarist\, Steve Itterly will be bringing 2 hours of foot stomping Country Blues every Thursday at Snapdragon\, 17817 Vashon Hwy SW\, Vashon\, WA (206) 463-1310
URL:https://southsoundblues.org/event/jonathan-pitman-and-steve-itterly-at-snapdragon-vashon/
LOCATION:Snapdragon\, 17817 Vashon Hwy\, Vashon\, WA\, 98070
CATEGORIES:Local South Sound Blues
END:VEVENT
BEGIN:VEVENT
DTSTART;TZID=America/Los_Angeles:20230817T200000
DTEND;TZID=America/Los_Angeles:20230817T233000
DTSTAMP:20260425T091854
CREATED:20230724T184906Z
LAST-MODIFIED:20230724T184906Z
UID:10951-1692302400-1692315000@southsoundblues.org
SUMMARY:Thursdays at the Stars Bar & Grill\, Jam hosted by Billy Shew
DESCRIPTION:Thursdays at the Stars Bar & Grill\, Jam hosted by Billy Shew\, 8-11:30 pm
URL:https://southsoundblues.org/event/thursdays-at-the-stars-bar-grill-jam-hosted-by-billy-shew-14/
LOCATION:Stars Bar & Grill\, 31216 Pacific Hwy S\, Federal Way\, WA\, 98003
CATEGORIES:Local South Sound Blues
END:VEVENT
BEGIN:VEVENT
DTSTART;TZID=America/Los_Angeles:20230818T200000
DTEND;TZID=America/Los_Angeles:20230818T230000
DTSTAMP:20260425T091854
CREATED:20230505T010436Z
LAST-MODIFIED:20230505T010436Z
UID:10349-1692388800-1692399600@southsoundblues.org
SUMMARY:King Kom Beaux at Joeseppi's\, Tacoma
DESCRIPTION:King Kom Beaux at Joeseppi’s\, 8-11 pm
URL:https://southsoundblues.org/event/king-kom-beaux-at-joeseppis-tacoma/
LOCATION:Joeseppi’s Italian Ristorante and Bar\, 2707 N Pearl St\, Tacoma\, WA\, 98406
CATEGORIES:Local South Sound Blues
END:VEVENT
BEGIN:VEVENT
DTSTART;TZID=America/Los_Angeles:20230819T140000
DTEND;TZID=America/Los_Angeles:20230819T190000
DTSTAMP:20260425T091854
CREATED:20230509T015746Z
LAST-MODIFIED:20230509T020000Z
UID:10418-1692453600-1692471600@southsoundblues.org
SUMMARY:New Orleans-style Cajun Festival
DESCRIPTION:Family\, New Orleans-style Cajun Festival at Burlington Green Park in Kent\, WA 2-7 pm.\nSpice up your taste buds and experience the soul of Louisiana in the Pacific Northwest.  Dance\, dine\, and have a ragin’ Cajun good time where Southern culture and hospitality turn historic downtown Kent into a “Little Louisiana”! \nMUSICIANS:   Bayou Envie\,      Two Loose Cajun/Zydeco\,     New Iberians\,   Eric “Two Scoops” Moore\,       Bigfoot Brass Band \nBEER GARDEN:  Logan Brewing \nFEATURED FOOD:  Po’Boy & Tings\, Dat Creole Soul\, Al’s Sausage\, The Man BBQ\, All City Ice Cream\, Where Ya at Matt\,   The Village Perk\, Altha’s Louisiana Cajun Spices \nNew Orleans-style costumes encouraged washboards\, folding chairs\, and blankets. FREE family event. \nLive music and dancing will keep festivalgoers entertained throughout the day\, with performances by local and regional Cajun and Zydeco bands.  It’s a perfect opportunity for locals and visitors to experience the vibrant and lively culture of Louisiana\, Cajun-themed food trucks\, beer/wine garden\, vendors/artists\, and activities for the kids.  This event will be held in downtown Kent Burlington Green Park.
URL:https://southsoundblues.org/event/new-orleans-style-cajun-festival/
LOCATION:Burlington green Park\, 201 E. Meeker Street\, Kent\, WA\, 98032
CATEGORIES:Festival,Local South Sound Blues
END:VEVENT
BEGIN:VEVENT
DTSTART;TZID=America/Los_Angeles:20230819T200000
DTEND;TZID=America/Los_Angeles:20230819T230000
DTSTAMP:20260425T091854
CREATED:20230526T214805Z
LAST-MODIFIED:20230526T214805Z
UID:10491-1692475200-1692486000@southsoundblues.org
SUMMARY:Retro-Gruve at Bella Femmina\, Gig Harbor
DESCRIPTION:Retro-Gruve at Bella Femmina August 19th\, 8-11 pm\n \n\n\n\n\nBella Femmina\n3108 Harborview Drive
URL:https://southsoundblues.org/event/retro-gruve-at-bella-femmina-gig-harbor/
LOCATION:Belle Femmina\, 3110 Harborview Dr\, Gig Harbor\, WA\, 98335 
CATEGORIES:Local South Sound Blues
END:VEVENT
BEGIN:VEVENT
DTSTART;TZID=America/Los_Angeles:20230819T200000
DTEND;TZID=America/Los_Angeles:20230819T230000
DTSTAMP:20260425T091854
CREATED:20230816T024046Z
LAST-MODIFIED:20230816T024046Z
UID:11149-1692475200-1692486000@southsoundblues.org
SUMMARY:Red House at the Salmon Bay Eagles\, Ballard
DESCRIPTION:Red House will perform this Saturday\, August 19th @ Salmon Bay Eagles in Ballard! 8-11pm
URL:https://southsoundblues.org/event/red-house-at-the-salmon-bay-eagles-ballard/
LOCATION:Salmon Bay Eagles\, 5216 20th Ave NW\, Seattle\, WA\, 98107
CATEGORIES:Local South Sound Blues
END:VEVENT
BEGIN:VEVENT
DTSTART;TZID=America/Los_Angeles:20230819T210000
DTEND;TZID=America/Los_Angeles:20230819T210000
DTSTAMP:20260425T091854
CREATED:20230424T205501Z
LAST-MODIFIED:20230424T205501Z
UID:10286-1692478800-1692478800@southsoundblues.org
SUMMARY:Fabulous Roof Shakers at Dawsons
DESCRIPTION:Fabulous Roof Shakers at Dawsons August 19th at 9pm\n 
URL:https://southsoundblues.org/event/fabulous-roof-shakers-at-dawsons/
LOCATION:Dawson’s Bar & Grill\, 5443 South Tacoma Way\, Tacoma\, WA\, 98409
CATEGORIES:Local South Sound Blues
END:VEVENT
BEGIN:VEVENT
DTSTART;TZID=America/Los_Angeles:20230820T190000
DTEND;TZID=America/Los_Angeles:20230820T220000
DTSTAMP:20260425T091854
CREATED:20230719T031011Z
LAST-MODIFIED:20230719T031051Z
UID:10919-1692558000-1692568800@southsoundblues.org
SUMMARY:Mr. Hasty at the Spar
DESCRIPTION:Mr. Hasty\, Sunday\, Aug 20th (Steve Sarkowsky’s band) at the Spar\, 7-10 pm
URL:https://southsoundblues.org/event/mr-hasty-at-the-spar/
LOCATION:The Spar\, 2121 N 30th St\, Tacoma\, WA\, 98403
CATEGORIES:Local South Sound Blues
END:VEVENT
BEGIN:VEVENT
DTSTART;TZID=America/Los_Angeles:20230821T180000
DTEND;TZID=America/Los_Angeles:20230821T210000
DTSTAMP:20260425T091854
CREATED:20230724T191239Z
LAST-MODIFIED:20230724T191239Z
UID:10959-1692640800-1692651600@southsoundblues.org
SUMMARY:Monday Night Jams with host Al Alto at HD's Pub\, Belfair
DESCRIPTION:Monday Night Jams with host Al Alto\, 6-9 pm\, at HD’s Pub\, Belfair WA
URL:https://southsoundblues.org/event/monday-night-jams-with-host-al-alto-at-hds-pub-belfair/
LOCATION:WA
CATEGORIES:Local South Sound Blues
END:VEVENT
BEGIN:VEVENT
DTSTART;TZID=America/Los_Angeles:20230822T190000
DTEND;TZID=America/Los_Angeles:20230822T220000
DTSTAMP:20260425T091854
CREATED:20230721T215943Z
LAST-MODIFIED:20230721T215943Z
UID:10935-1692730800-1692741600@southsoundblues.org
SUMMARY:Tuesday Jam at Purdy’s with Jerry Miller\, Kim Workman\, and Glenn Hummel
DESCRIPTION:Tuesday Jam at Purdy’s with Jerry Miller\, Kim Workman\, and Glenn Hummel\, 7-10 pm
URL:https://southsoundblues.org/event/tuesday-jam-at-purdys-with-jerry-miller-kim-workman-and-glenn-hummel-2/
LOCATION:Purdy’s Public House & Arcade\, Sumner\, 16202 64th St E\, Sumner\, WA\, 98390
CATEGORIES:Local South Sound Blues
END:VEVENT
BEGIN:VEVENT
DTSTART;TZID=America/Los_Angeles:20230823T183000
DTEND;TZID=America/Los_Angeles:20230823T200000
DTSTAMP:20260425T091854
CREATED:20230608T221954Z
LAST-MODIFIED:20230615T022315Z
UID:10629-1692815400-1692820800@southsoundblues.org
SUMMARY:Corey Wilds Band at 'Tunes at Tapps'\, Allan Yorke Park
DESCRIPTION:August 23rd\, Corey Wilds Band 6:30- 8 pm at Allan Yorke Park \nTunes at Tapps is held at Allan Yorke Park on Wednesdays. This event features an outdoor market with local vendors and live music. \n\n\n\n\n\n\n\n\n\n\n\n\n\n\n 
URL:https://southsoundblues.org/event/corye-wilds-band-at-tunes-at-tapps-allan-yorke-park/
LOCATION:Allan Yorke Park\,  7203 W Tapps Hwy E\, Bonney Lake\, WA\, 98391
CATEGORIES:Local South Sound Blues
END:VEVENT
BEGIN:VEVENT
DTSTART;TZID=America/Los_Angeles:20230824T180000
DTEND;TZID=America/Los_Angeles:20230824T200000
DTSTAMP:20260425T091854
CREATED:20230619T220027Z
LAST-MODIFIED:20230619T220027Z
UID:10663-1692900000-1692907200@southsoundblues.org
SUMMARY:Spin-Offs at Music in the Park\, Lake Wilderness Park Amphitheater
DESCRIPTION:August 24th\, 6-8 pm\, The Spin-Offs at Music in the Park\, Lake Wilderness Park Amphitheater\, 22500 SE 248th Street\, Maple Valley\, WA
URL:https://southsoundblues.org/event/spin-offs-at-music-in-the-park-lake-wilderness-park-amphitheater/
LOCATION:Lake Wilderness Park\, 22500 SE 248th Street\, Maple Valley\, WA\, 98038
CATEGORIES:Local South Sound Blues
END:VEVENT
BEGIN:VEVENT
DTSTART;TZID=America/Los_Angeles:20230824T180000
DTEND;TZID=America/Los_Angeles:20230824T200000
DTSTAMP:20260425T091854
CREATED:20230716T231358Z
LAST-MODIFIED:20230716T231358Z
UID:10878-1692900000-1692907200@southsoundblues.org
SUMMARY:Kim and Brian Sunset Sessions on the Mill patio
DESCRIPTION:Kim and Brian Sunset Sessions on the Mill patio\, August 24th\, 6-8 pm
URL:https://southsoundblues.org/event/kim-and-brian-sunset-sessions-on-the-mill-patio-3/
LOCATION:The Mill of Milton\, 900 Meridian E. #50\, Milton\, WA\, 98354
CATEGORIES:Local South Sound Blues
END:VEVENT
BEGIN:VEVENT
DTSTART;TZID=America/Los_Angeles:20230824T190000
DTEND;TZID=America/Los_Angeles:20230824T190000
DTSTAMP:20260425T091854
CREATED:20230721T195110Z
LAST-MODIFIED:20230721T195110Z
UID:10923-1692903600-1692903600@southsoundblues.org
SUMMARY:Joel Astley 'Seattle to Greaseland CD Preview at the Spanish Ballroom Featuring Johnny Burgin
DESCRIPTION:Joel Astley ‘Seattle to Greaseland CD Preview at the Spanish Ballroom Featuring Johnny Burgin\, August 24th\, 7pm\n Joel Astley \nRockin’ Johnny Burgin \nThurs 8.24:  McMennamin’s Spanish Ballroom\, Tacoma\, WA\nJoel Astley Seattle to Greaseland CD Preview ft yours truly. Ticket link here.
URL:https://southsoundblues.org/event/joel-astley-seattle-to-greaseland-cd-preview-at-the-spanish-ballroom-featuring-johnny-burgin/
LOCATION:McMenaminsTacoma Elks\, 565 Broadway\, Tacoma\, WA\, 98402
CATEGORIES:Local South Sound Blues,Special Event
END:VEVENT
END:VCALENDAR