BEGIN:VCALENDAR
VERSION:2.0
PRODID:-//South Sound Blues Association - ECPv6.15.18//NONSGML v1.0//EN
CALSCALE:GREGORIAN
METHOD:PUBLISH
X-ORIGINAL-URL:https://southsoundblues.org
X-WR-CALDESC:Events for South Sound Blues Association
REFRESH-INTERVAL;VALUE=DURATION:PT1H
X-Robots-Tag:noindex
X-PUBLISHED-TTL:PT1H
BEGIN:VTIMEZONE
TZID:America/Los_Angeles
BEGIN:DAYLIGHT
TZOFFSETFROM:-0800
TZOFFSETTO:-0700
TZNAME:PDT
DTSTART:20230312T100000
END:DAYLIGHT
BEGIN:STANDARD
TZOFFSETFROM:-0700
TZOFFSETTO:-0800
TZNAME:PST
DTSTART:20231105T090000
END:STANDARD
BEGIN:DAYLIGHT
TZOFFSETFROM:-0800
TZOFFSETTO:-0700
TZNAME:PDT
DTSTART:20240310T100000
END:DAYLIGHT
BEGIN:STANDARD
TZOFFSETFROM:-0700
TZOFFSETTO:-0800
TZNAME:PST
DTSTART:20241103T090000
END:STANDARD
BEGIN:DAYLIGHT
TZOFFSETFROM:-0800
TZOFFSETTO:-0700
TZNAME:PDT
DTSTART:20250309T100000
END:DAYLIGHT
BEGIN:STANDARD
TZOFFSETFROM:-0700
TZOFFSETTO:-0800
TZNAME:PST
DTSTART:20251102T090000
END:STANDARD
END:VTIMEZONE
BEGIN:VEVENT
DTSTART;TZID=America/Los_Angeles:20240216T190000
DTEND;TZID=America/Los_Angeles:20240216T210000
DTSTAMP:20260425T045402
CREATED:20231220T020739Z
LAST-MODIFIED:20231220T020739Z
UID:11874-1708110000-1708117200@southsoundblues.org
SUMMARY:Billy Stapleton’s Powerhouse Band at Kimball Coffeehouse
DESCRIPTION:Friday\, Feb 16th – Billy Stapleton’s Powerhouse Band – Kimball Coffeehouse – 7pm
URL:https://southsoundblues.org/event/billy-stapletons-powerhouse-band-at-kimball-coffeehouse/
LOCATION:Kimball’s Coffeehouse\, 6659 Kimball Dr\, Gig Harbor\, WA\, 98335
CATEGORIES:Local South Sound Blues
END:VEVENT
BEGIN:VEVENT
DTSTART;TZID=America/Los_Angeles:20240217T200000
DTEND;TZID=America/Los_Angeles:20240217T230000
DTSTAMP:20260425T045402
CREATED:20240212T202348Z
LAST-MODIFIED:20240212T202348Z
UID:12124-1708200000-1708210800@southsoundblues.org
SUMMARY:Mark Hurwitz and Gin Creek at Rock the Dock Pub & Grill
DESCRIPTION:Mark Hurwitz and Gin Creek at Rock The Dock Pub & Grill February 17th\, 8-11 pm\n\n\n\n\n\n\n\n\n\n\n\n\n\n\n\n\n\n\n\n\n\n\nPlaying blues\, rock\, and funk down on the Foss Waterway in Tacoma.
URL:https://southsoundblues.org/event/mark-hurwitz-and-gin-creek-at-rock-the-dock-pub-grill/
LOCATION:Rock the Dock\, 535 Dock St # 118\, Tacoma\, WA\, 98402
CATEGORIES:Local South Sound Blues
END:VEVENT
BEGIN:VEVENT
DTSTART;TZID=America/Los_Angeles:20240218T170000
DTEND;TZID=America/Los_Angeles:20240218T170000
DTSTAMP:20260425T045402
CREATED:20240111T212951Z
LAST-MODIFIED:20240111T213425Z
UID:12053-1708275600-1708275600@southsoundblues.org
SUMMARY:Blues Vespers with Polly O'Keary and the Rhythm Method at Kilworth Memorial Chapel
DESCRIPTION:February 18th\, 5:00 pm\, at the Kilworth Memorial Chapel\, University of Puget Sound- Blues Vespers with Polly O’Keary and the Rhythm Method.
URL:https://southsoundblues.org/event/blues-vespers-with-polly-okeary-and-the-rhythm-method-at-kilworth-memorial-chapel/
LOCATION:Kilworth Memorial Chapel\, 3410 N 18th St\, Tacoma\, WA\, 98416
CATEGORIES:Local South Sound Blues
END:VEVENT
BEGIN:VEVENT
DTSTART;TZID=America/Los_Angeles:20240218T170000
DTEND;TZID=America/Los_Angeles:20240218T200000
DTSTAMP:20260425T045402
CREATED:20240109T193823Z
LAST-MODIFIED:20240109T193921Z
UID:12015-1708275600-1708286400@southsoundblues.org
SUMMARY:Brother Don’s Sundays Blues Jam at Brother Don's Bar & Grill\, Bremerton
DESCRIPTION:Brother Don’s Sundays Blues Jam\, 5-8 pm\, Bremerton
URL:https://southsoundblues.org/event/brother-dons-sundays-blues-jam-at-brother-dons-bar-grill/
LOCATION:Brother Don’s Bar & Grill\, 4200 Kitsap Way\, Bremerton\, WA\, 98312
CATEGORIES:Local South Sound Blues
END:VEVENT
BEGIN:VEVENT
DTSTART;TZID=America/Los_Angeles:20240218T190000
DTEND;TZID=America/Los_Angeles:20240218T220000
DTSTAMP:20260425T045402
CREATED:20231220T015348Z
LAST-MODIFIED:20231220T015348Z
UID:11863-1708282800-1708293600@southsoundblues.org
SUMMARY:Sunday Blues at the Spar with Silver Tongued Devils
DESCRIPTION:Sunday\, Feb 18th – Silver Tongued Devils – The Spar – 7pm
URL:https://southsoundblues.org/event/sunday-blues-at-the-spar-with-silver-tongued-devils/
LOCATION:The Spar\, 2121 N 30th St\, Tacoma\, WA\, 98403
CATEGORIES:Local South Sound Blues
END:VEVENT
BEGIN:VEVENT
DTSTART;TZID=America/Los_Angeles:20240220T200000
DTEND;TZID=America/Los_Angeles:20240220T233000
DTSTAMP:20260425T045402
CREATED:20240109T194401Z
LAST-MODIFIED:20240109T194401Z
UID:12020-1708459200-1708471800@southsoundblues.org
SUMMARY:Cory Wilds Band Tuesday open Jam Night at Elmer’s Bar and Grill
DESCRIPTION:Cory Wilds Band Tuesday open Jam Night at Elmer’s Bar and Grill\, 8-11:30 pm
URL:https://southsoundblues.org/event/cory-wilds-band-tuesday-open-jam-night-at-elmers-bar-and-grill-15/
LOCATION:Elmer’s Bar & Grill\, 15027 Ambaum Blvd SW\, Burien\, WA\, 98166
CATEGORIES:Local South Sound Blues
END:VEVENT
BEGIN:VEVENT
DTSTART;TZID=America/Los_Angeles:20240221T190000
DTEND;TZID=America/Los_Angeles:20240221T220000
DTSTAMP:20260425T045402
CREATED:20240109T194808Z
LAST-MODIFIED:20240109T194808Z
UID:12024-1708542000-1708552800@southsoundblues.org
SUMMARY:Wednesdays Blues “Jam Night” with Brian Olver and Glenn Hummel at Purdy’s\, Sumner
DESCRIPTION:Wednesdays Blues “Jam Night” with Brian Olver and Glenn Hummel at Purdy’s\, Sumner\, WA. 7-10 pm
URL:https://southsoundblues.org/event/wednesdays-blues-jam-night-with-brian-olver-and-glenn-hummel-at-purdys-sumner-4/
LOCATION:Purdy’s Public House & Arcade\, Sumner\, 16202 64th St E\, Sumner\, WA\, 98390
CATEGORIES:Local South Sound Blues
END:VEVENT
BEGIN:VEVENT
DTSTART;TZID=America/Los_Angeles:20240222T190000
DTEND;TZID=America/Los_Angeles:20240222T190000
DTSTAMP:20260425T045402
CREATED:20240131T200054Z
LAST-MODIFIED:20240131T200128Z
UID:12106-1708628400-1708628400@southsoundblues.org
SUMMARY:Dennis Ellis Memorial jam\, hosted by the T-Town Aces at the Spar
DESCRIPTION:T-Town Aces and The Spar Tavern will be having a special memorial for Dennis Ellis February 22nd starting at 7pm.\n  Dennis Ellis \n A South Sound music community farewell jam.\n 
URL:https://southsoundblues.org/event/dennis-ellis-memorial-jam-hosted-by-the-t-town-aces-at-the-spar/
LOCATION:The Spar\, 2121 N 30th St\, Tacoma\, WA\, 98403
CATEGORIES:Local South Sound Blues,Special Event
END:VEVENT
BEGIN:VEVENT
DTSTART;TZID=America/Los_Angeles:20240222T190000
DTEND;TZID=America/Los_Angeles:20240222T220000
DTSTAMP:20260425T045402
CREATED:20240109T193020Z
LAST-MODIFIED:20240109T193020Z
UID:12009-1708628400-1708639200@southsoundblues.org
SUMMARY:Thursday’s Front Street Blues Revue at the Slippery Pig Brewery\, Poulsbo
DESCRIPTION:Thursday’s Front Street Blues Revue at the Slippery Pig Brewery\, Poulsbo\, 7-10 pm
URL:https://southsoundblues.org/event/thursdays-front-street-blues-revue-at-the-slippery-pig-brewery-poulsbo-7/
LOCATION:Slippery Pig Brewery\, 18801 Front St NE\, Poulsbo\, WA\, 98370
CATEGORIES:Local South Sound Blues
END:VEVENT
BEGIN:VEVENT
DTSTART;TZID=America/Los_Angeles:20240223T173000
DTEND;TZID=America/Los_Angeles:20240224T233000
DTSTAMP:20260425T045402
CREATED:20231023T210122Z
LAST-MODIFIED:20231023T210122Z
UID:11522-1708709400-1708817400@southsoundblues.org
SUMMARY:Poulsbo Blues and Jazz Festival\, located in downtown historic Poulsbo
DESCRIPTION:“Little Norway becomes Little New Orleans!”\nJoin us at the Poulsbo Blues and Jazz Festival\, located in downtown historic Poulsbo\, February 23rd and 24th 2024.\nThis exclusive intimate event will be like no other. Thirteen amazing bands over the course of 7 hours in select venues. Tickets are limited. The experience will be coveted. Don’t miss out. All venues are within a short walk of each other\, and parking is available throughout the downtown area. \ntickets and info:   https://poulsborotary.org/poulsbo-blues-jazz-festival/\nThis fun-filled weekend includes a Friday night kick-off at Rockin’ Ruby’s Records\, followed by an evening of live music on Saturday. Four local venues will be hosting shows featuring a total of twelve bands from 5:45 pm to midnight. Join us from midnight to 2am for a musician’s jam at the One Ten Lounge. \nThe festival is entirely indoors and easily walkable\, so leave your car behind. For those planning to stay the night\, there are several nearby hotels to choose from\, allowing you to explore our charming town on Sunday and do not miss our festival breakfast on Sunday morning! Poulsbo will be bustling all weekend with its restaurants\, shops\, and the world-famous Sluy’s bakery for delicious donuts.
URL:https://southsoundblues.org/event/poulsbo-blues-and-jazz-festival-located-in-downtown-historic-poulsbo/
LOCATION:Slippery Pig Brewery\, 18801 Front St NE\, Poulsbo\, WA\, 98370
CATEGORIES:Festival,Local South Sound Blues
END:VEVENT
BEGIN:VEVENT
DTSTART;TZID=America/Los_Angeles:20240223T200000
DTEND;TZID=America/Los_Angeles:20240223T230000
DTSTAMP:20260425T045402
CREATED:20240213T005639Z
LAST-MODIFIED:20240213T005639Z
UID:12129-1708718400-1708729200@southsoundblues.org
SUMMARY:King Kom Beaux at Zesty's Steakhouse
DESCRIPTION:King Kom Beaux at Zesty’s Steakhouse Friday February 23rd 8-11pm
URL:https://southsoundblues.org/event/king-kom-beaux-at-zestys-steakhouse/
LOCATION:Zesty’s Cajun Steakhouse\, 9905 Bridgeport Way Southwest\, Lakewood\, WA\, 98499
CATEGORIES:Local South Sound Blues
END:VEVENT
BEGIN:VEVENT
DTSTART;TZID=America/Los_Angeles:20240225T180000
DTEND;TZID=America/Los_Angeles:20240225T210000
DTSTAMP:20260425T045402
CREATED:20231110T005412Z
LAST-MODIFIED:20231110T010152Z
UID:11609-1708884000-1708894800@southsoundblues.org
SUMMARY:Tommy Castro & The Pain Killers at The Spanish Ballroom
DESCRIPTION:Tommy Castro& The Pain Killers at The Spanish Ballroom\, February 25th\, 6pm\nhttps://www.mcmenamins.com/events/248511-tommy-castro-the-painkillers \n5 pm Doors\, 6 pm Show $32.50 advance\, $35.50 day of show\, All ages welcome\nRanging from horn-fueled R&B to piping hot blues to fiery\, stripped- down rock ‘n’ roll\, each release is solidly built upon Castro’s unshakable musical foundation-a dynamic mix of 1960s-influenced guitar-fueled blues\, testifying Memphis-soaked blue-eyed soul and Latin-tinged East San Jose funk\, all driven by Castro’s grab-you-by- the-collar vocals and passionate guitar work.
URL:https://southsoundblues.org/event/tommy-castro-the-pain-killers-at-the-spanish-ballroom/
LOCATION:McMenaminsTacoma Elks\, 565 Broadway\, Tacoma\, WA\, 98402
CATEGORIES:Local South Sound Blues
END:VEVENT
BEGIN:VEVENT
DTSTART;TZID=America/Los_Angeles:20240225T190000
DTEND;TZID=America/Los_Angeles:20240225T220000
DTSTAMP:20260425T045402
CREATED:20231220T015547Z
LAST-MODIFIED:20231220T015547Z
UID:11865-1708887600-1708898400@southsoundblues.org
SUMMARY:Sunday Blues at the Spar with Mr. Hasty
DESCRIPTION:Sunday\, Feb 25th – Mr. Hasty – The Spar – 7pm
URL:https://southsoundblues.org/event/sunday-blues-at-the-spar-with-mr-hasty/
LOCATION:The Spar\, 2121 N 30th St\, Tacoma\, WA\, 98403
CATEGORIES:Local South Sound Blues
END:VEVENT
BEGIN:VEVENT
DTSTART;TZID=America/Los_Angeles:20240227T190000
DTEND;TZID=America/Los_Angeles:20240227T210000
DTSTAMP:20260425T045402
CREATED:20231203T224908Z
LAST-MODIFIED:20231203T224908Z
UID:11777-1709060400-1709067600@southsoundblues.org
SUMMARY:Tuesday "Blues Showcase" with Billy Stapletons Powerhouse\, at Purdy's Public House and Arcade\, Sumner
DESCRIPTION:Tuesday “Blues Showcase” with Powerhouse\, at Purdy’s Public House and Arcade\, February 27th 7-9 pm. Powerhouse features Billy Stapleton\, Don Wilhelm\, and Steve Peterson.
URL:https://southsoundblues.org/event/tuesday-blues-showcase-with-billy-stapletons-powerhouse-at-purdys-public-house-and-arcade-sumner/
LOCATION:Purdy’s Public House & Arcade\, Sumner\, 16202 64th St E\, Sumner\, WA\, 98390
CATEGORIES:Local South Sound Blues,SSBA Event
END:VEVENT
BEGIN:VEVENT
DTSTART;TZID=America/Los_Angeles:20240228T180000
DTEND;TZID=America/Los_Angeles:20240228T210000
DTSTAMP:20260425T045402
CREATED:20240109T195004Z
LAST-MODIFIED:20240109T195004Z
UID:12026-1709143200-1709154000@southsoundblues.org
SUMMARY:Billy Shew and Friends host an open Jam every Wednesday at Stockton’s
DESCRIPTION:Billy Shew and Friends host an open Jam every Wednesday at Stockton’s\, 6-9pm
URL:https://southsoundblues.org/event/billy-shew-and-friends-host-an-open-jam-every-wednesday-at-stocktons-14/
LOCATION:Stockton’s Restaurant & Spirits\, 23220 Maple Valley Black Diamond Rd SE\, Maple Valley\, WA\, 98038
CATEGORIES:Local South Sound Blues
END:VEVENT
BEGIN:VEVENT
DTSTART;TZID=America/Los_Angeles:20240229T190000
DTEND;TZID=America/Los_Angeles:20240229T220000
DTSTAMP:20260425T045402
CREATED:20240109T195222Z
LAST-MODIFIED:20240109T195222Z
UID:12028-1709233200-1709244000@southsoundblues.org
SUMMARY:“Billy the Pocket Jam” Thursday nights at Dawson’s
DESCRIPTION:“Billy the Pocket Jam” Thursday nights at Dawson’s\, 7-10 pm
URL:https://southsoundblues.org/event/billy-the-pocket-jam-thursday-nights-at-dawsons-29/
LOCATION:Dawson’s Bar & Grill\, 5443 South Tacoma Way\, Tacoma\, WA\, 98409
CATEGORIES:Local South Sound Blues
END:VEVENT
BEGIN:VEVENT
DTSTART;TZID=America/Los_Angeles:20240302T190000
DTEND;TZID=America/Los_Angeles:20240302T220000
DTSTAMP:20260425T045402
CREATED:20240221T015819Z
LAST-MODIFIED:20240221T015819Z
UID:12162-1709406000-1709416800@southsoundblues.org
SUMMARY:Retro Gruve with Linda Carroll at the Spar
DESCRIPTION:Mar 2nd\, at The Spar\, Tacoma\, Retro Gruve w/Linda Carroll 7pm
URL:https://southsoundblues.org/event/retro-gruve-with-linda-carroll-at-the-spar-3/
LOCATION:The Spar\, 2121 N 30th St\, Tacoma\, WA\, 98403
CATEGORIES:Local South Sound Blues
END:VEVENT
BEGIN:VEVENT
DTSTART;TZID=America/Los_Angeles:20240303T190000
DTEND;TZID=America/Los_Angeles:20240303T220000
DTSTAMP:20260425T045402
CREATED:20240221T020056Z
LAST-MODIFIED:20240221T020056Z
UID:12164-1709492400-1709503200@southsoundblues.org
SUMMARY:Sunday Blues at the Spar with The Dermody/Sherman Band
DESCRIPTION:Mar 3rd\, at The Spar\, Tacoma\, Dermody/Sherman Band\, 7pm
URL:https://southsoundblues.org/event/sunday-blues-at-the-spar-with-the-dermody-sherman-band-2/
LOCATION:The Spar\, 2121 N 30th St\, Tacoma\, WA\, 98403
CATEGORIES:Local South Sound Blues
END:VEVENT
BEGIN:VEVENT
DTSTART;TZID=America/Los_Angeles:20240303T190000
DTEND;TZID=America/Los_Angeles:20240303T230000
DTSTAMP:20260425T045402
CREATED:20240221T203442Z
LAST-MODIFIED:20240221T203442Z
UID:12198-1709492400-1709506800@southsoundblues.org
SUMMARY:Billy Shew Blues Jam\, every Sunday at Dawson’s
DESCRIPTION:Billy Shew Blues Jam\, every Sunday at Dawson’s\, 7-11 pm
URL:https://southsoundblues.org/event/billy-shew-blues-jam-every-sunday-at-dawsons-15/
LOCATION:Dawson’s Bar & Grill\, 5443 South Tacoma Way\, Tacoma\, WA\, 98409
CATEGORIES:Local South Sound Blues
END:VEVENT
BEGIN:VEVENT
DTSTART;TZID=America/Los_Angeles:20240305T200000
DTEND;TZID=America/Los_Angeles:20240305T233000
DTSTAMP:20260425T045402
CREATED:20240221T204006Z
LAST-MODIFIED:20240221T204006Z
UID:12202-1709668800-1709681400@southsoundblues.org
SUMMARY:Cory Wilds Band Tuesday open Jam Night at Elmer’s Bar and Grill
DESCRIPTION:Cory Wilds Band Tuesday open Jam Night at Elmer’s Bar and Grill\, 8-11:30 pm
URL:https://southsoundblues.org/event/cory-wilds-band-tuesday-open-jam-night-at-elmers-bar-and-grill-16/
LOCATION:Elmer’s Bar & Grill\, 15027 Ambaum Blvd SW\, Burien\, WA\, 98166
CATEGORIES:Local South Sound Blues
END:VEVENT
BEGIN:VEVENT
DTSTART;TZID=America/Los_Angeles:20240306T190000
DTEND;TZID=America/Los_Angeles:20240306T220000
DTSTAMP:20260425T045402
CREATED:20240221T204520Z
LAST-MODIFIED:20240221T204520Z
UID:12206-1709751600-1709762400@southsoundblues.org
SUMMARY:Wednesdays Blues “Jam Night” with Brian Olver and Glenn Hummel at Purdy’s\, Sumner
DESCRIPTION:Wednesdays Blues “Jam Night” with Brian Olver and Glenn Hummel at Purdy’s\, Sumner\, WA. 7-10 pm
URL:https://southsoundblues.org/event/wednesdays-blues-jam-night-with-brian-olver-and-glenn-hummel-at-purdys-sumner-5/
LOCATION:Purdy’s Public House & Arcade\, Sumner\, 16202 64th St E\, Sumner\, WA\, 98390
CATEGORIES:Local South Sound Blues
END:VEVENT
BEGIN:VEVENT
DTSTART;VALUE=DATE:20240307
DTEND;VALUE=DATE:20240309
DTSTAMP:20260425T045402
CREATED:20240308T004118Z
LAST-MODIFIED:20240308T004118Z
UID:12349-1709776800-1709863199@southsoundblues.org
SUMMARY:Make Music Day Gig Harbor
DESCRIPTION:6/21/2024\, MAKE MUSIC DAY GIG HARBOR\n\n\n\n\n\n\nRoss Robinson is returning to the annual festival for the fourth year in a row held on the Summer Solstice\n  \n\n\n\n\n\nUptown Gig Harbor\,4701 Point Fosdick Dr NW\,Gig Harbor\, Wa
URL:https://southsoundblues.org/event/make-music-day-gig-harbor/
LOCATION:Uptown Gig Harbor\, 4701 Point Fosdick Dr\, Gig Harbor\, WA\, 98335
CATEGORIES:Local South Sound Blues
END:VEVENT
BEGIN:VEVENT
DTSTART;TZID=America/Los_Angeles:20240307T200000
DTEND;TZID=America/Los_Angeles:20240307T220000
DTSTAMP:20260425T045402
CREATED:20240221T210445Z
LAST-MODIFIED:20240221T210557Z
UID:12214-1709841600-1709848800@southsoundblues.org
SUMMARY:Thursday Night Jam at the Realm Venue\, hosted by Billy Shew
DESCRIPTION:Thursday Night Jam at the Realm Venue\, hosted by Billy Shew\, 8-10 pm\n\n\n\n5602 So. Washington St.\, Tacoma\, WA\, United States\, Washington 98409
URL:https://southsoundblues.org/event/thursday-night-jam-at-the-realm-venue-hosted-by-billy-shew/
LOCATION:Realm Venue\, 5602 So. Washington St.\, Tacoma\, WA\, 98409
CATEGORIES:Local South Sound Blues
END:VEVENT
BEGIN:VEVENT
DTSTART;TZID=America/Los_Angeles:20240308T190000
DTEND;TZID=America/Los_Angeles:20240308T190000
DTSTAMP:20260425T045402
CREATED:20231218T204857Z
LAST-MODIFIED:20231218T204857Z
UID:11836-1709924400-1709924400@southsoundblues.org
SUMMARY:Coco Montoya with special guests at Jazzbones
DESCRIPTION:Coco Montoya w/ special guests Live at Jazzbones! Friday\, March 8th\, Advanced Tickets $20\nDoors 7PM\, Show 8PM 21+\nJazzbones 2803 6TH AVE TACOMA\nwww.jazzbones.com\nCOCO MONTOYA\n“’Just play what you feel\, be real about it\, and enjoy yourself.’ That’s what Albert Collins taught me\,” says the award-winning guitar virtuoso and soul-deep singer Coco Montoya. The self-taught\, left-handed Montoya mastered his craft under Collins’ tutelage. Incorporating lessons learned from his mentors\, the iconic Collins (for whom he originally drummed)\, and UK legend John Mayall\, Montoya puts his own stamp onto every song he performs. Since his first solo album in 1995 (which won him the Blues Music Award for Best New Artist)\, Montoya’s endlessly inventive guitar work and passionate\, hard-hitting vocals have kept him at the top of the blues world. With his new Alligator Records album\, Writing On The Wall (his sixth for the label)\, Montoya delivers what he is already calling one of the best records he’s ever made.
URL:https://southsoundblues.org/event/coco-montoya-with-special-guests-at-jazzbones/
LOCATION:Jazzbones\, 2803 6th Ave\, Tacoma\, WA\, 98406
CATEGORIES:Local South Sound Blues
END:VEVENT
BEGIN:VEVENT
DTSTART;TZID=America/Los_Angeles:20240308T213000
DTEND;TZID=America/Los_Angeles:20240308T230000
DTSTAMP:20260425T045402
CREATED:20240221T021507Z
LAST-MODIFIED:20240221T021507Z
UID:12170-1709933400-1709938800@southsoundblues.org
SUMMARY:Powerhouse at Bake's Place\, Bellevue
DESCRIPTION:March 8th\, at Bake’s\, Bellevue\, POWERHOUSE\, 9:30-11pm
URL:https://southsoundblues.org/event/powerhouse-at-bakes-place-bellevue/
LOCATION:Bake’s Place\, 155 108th Ave NE Ste 110\, Bellevue\, WA\, 98004
CATEGORIES:Local South Sound Blues
END:VEVENT
BEGIN:VEVENT
DTSTART;TZID=America/Los_Angeles:20240309T160000
DTEND;TZID=America/Los_Angeles:20240309T190000
DTSTAMP:20260425T045402
CREATED:20240305T023129Z
LAST-MODIFIED:20240305T023431Z
UID:12308-1710000000-1710010800@southsoundblues.org
SUMMARY:The Dirt Angels at Urban Elk
DESCRIPTION:The Dirt Angels at Urban Elk March 9th\, 4-7pm.
URL:https://southsoundblues.org/event/the-dirt-angels-at-urban-elk/
LOCATION:Urban Elk\, 2013 S Cedar St\, Tacoma\, WA\, 98405
CATEGORIES:Featured,Local South Sound Blues
END:VEVENT
BEGIN:VEVENT
DTSTART;TZID=America/Los_Angeles:20240309T190000
DTEND;TZID=America/Los_Angeles:20240309T190000
DTSTAMP:20260425T045402
CREATED:20240303T193006Z
LAST-MODIFIED:20240303T193006Z
UID:12290-1710010800-1710010800@southsoundblues.org
SUMMARY:Kim & Brian at the Lake City Pub\, Lakewood
DESCRIPTION:Kim & Brian at the Lake City Pub March 9th\, at 7pm
URL:https://southsoundblues.org/event/kim-brian-at-the-lake-city-pub-lakewood/
LOCATION:Lake City Pub\, 9106 Veterans Dr\, Lakewood\, WA\, 98498
CATEGORIES:Local South Sound Blues
END:VEVENT
BEGIN:VEVENT
DTSTART;TZID=America/Los_Angeles:20240309T200000
DTEND;TZID=America/Los_Angeles:20240309T220000
DTSTAMP:20260425T045402
CREATED:20231216T214151Z
LAST-MODIFIED:20231216T214151Z
UID:11810-1710014400-1710021600@southsoundblues.org
SUMMARY:Mid Nite Bourbon at the Mill
DESCRIPTION:Mid Nite Bourbon at the Mill March 9th\, 8-10 pm
URL:https://southsoundblues.org/event/mid-nite-bourbon-at-the-mill-2/
LOCATION:The Mill of Milton\, 900 Meridian E. #50\, Milton\, WA\, 98354
CATEGORIES:Local South Sound Blues
END:VEVENT
BEGIN:VEVENT
DTSTART;TZID=America/Los_Angeles:20240309T200000
DTEND;TZID=America/Los_Angeles:20240309T233000
DTSTAMP:20260425T045402
CREATED:20240305T000219Z
LAST-MODIFIED:20240305T000320Z
UID:12302-1710014400-1710027000@southsoundblues.org
SUMMARY:Red House at The Zesty Steakhouse\, Lakewood\, WA
DESCRIPTION:Red House will play at the Zesty Steakhouse (formerly the old Black Angus)\, March 9th\, 8-12 pm.\n\n9905 Bridgeport Way SW\, Lakewood\, WA. 98499\n(253) 300-7993 zestycajungrill.com
URL:https://southsoundblues.org/event/red-house-at-the-zesty-steakhouse-lakewood-wa/
LOCATION:Zesty’s Cajun Steakhouse\, 9905 Bridgeport Way Southwest\, Lakewood\, WA\, 98499
CATEGORIES:Local South Sound Blues
END:VEVENT
BEGIN:VEVENT
DTSTART;TZID=America/Los_Angeles:20240310T160000
DTEND;TZID=America/Los_Angeles:20240310T200000
DTSTAMP:20260425T045402
CREATED:20240302T191208Z
LAST-MODIFIED:20240302T191208Z
UID:12286-1710086400-1710100800@southsoundblues.org
SUMMARY:Heather Jones & The Groove Masters at Lucky Lady's Cowgirl up
DESCRIPTION:Heather Jones & The Groove Masters at Lucky Lady’s Cowgirl Up March 10th 4-8 pm
URL:https://southsoundblues.org/event/heather-jones-the-groove-masters-at-lucky-ladys-cowgirl-up/
LOCATION:Lady Luck’s Cowgirl Up\, 14114 Pacific Ave South\, Tacoma\, WA\, 98444
CATEGORIES:Local South Sound Blues
END:VEVENT
END:VCALENDAR