BEGIN:VCALENDAR
VERSION:2.0
PRODID:-//South Sound Blues Association - ECPv6.15.18//NONSGML v1.0//EN
CALSCALE:GREGORIAN
METHOD:PUBLISH
X-ORIGINAL-URL:https://southsoundblues.org
X-WR-CALDESC:Events for South Sound Blues Association
REFRESH-INTERVAL;VALUE=DURATION:PT1H
X-Robots-Tag:noindex
X-PUBLISHED-TTL:PT1H
BEGIN:VTIMEZONE
TZID:America/Los_Angeles
BEGIN:DAYLIGHT
TZOFFSETFROM:-0800
TZOFFSETTO:-0700
TZNAME:PDT
DTSTART:20230312T100000
END:DAYLIGHT
BEGIN:STANDARD
TZOFFSETFROM:-0700
TZOFFSETTO:-0800
TZNAME:PST
DTSTART:20231105T090000
END:STANDARD
BEGIN:DAYLIGHT
TZOFFSETFROM:-0800
TZOFFSETTO:-0700
TZNAME:PDT
DTSTART:20240310T100000
END:DAYLIGHT
BEGIN:STANDARD
TZOFFSETFROM:-0700
TZOFFSETTO:-0800
TZNAME:PST
DTSTART:20241103T090000
END:STANDARD
BEGIN:DAYLIGHT
TZOFFSETFROM:-0800
TZOFFSETTO:-0700
TZNAME:PDT
DTSTART:20250309T100000
END:DAYLIGHT
BEGIN:STANDARD
TZOFFSETFROM:-0700
TZOFFSETTO:-0800
TZNAME:PST
DTSTART:20251102T090000
END:STANDARD
END:VTIMEZONE
BEGIN:VEVENT
DTSTART;TZID=America/Los_Angeles:20240525T200000
DTEND;TZID=America/Los_Angeles:20240525T200000
DTSTAMP:20260425T095620
CREATED:20240505T062623Z
LAST-MODIFIED:20240505T062623Z
UID:12676-1716667200-1716667200@southsoundblues.org
SUMMARY:Heather Jones & The Groove Masters at JP's Barroom\, Renton
DESCRIPTION:Heather Jones & The Groove Masters at JP’s Barroom May 25th\, 8 pm
URL:https://southsoundblues.org/event/heather-jones-the-groove-masters-at-jps-barroom-renton-2/
LOCATION:JP’s Barroom\, 214 Williams Ave S\, Renton\, WA\, 98057
CATEGORIES:Local South Sound Blues
END:VEVENT
BEGIN:VEVENT
DTSTART;TZID=America/Los_Angeles:20240526T190000
DTEND;TZID=America/Los_Angeles:20240526T220000
DTSTAMP:20260425T095620
CREATED:20240410T010354Z
LAST-MODIFIED:20240410T010354Z
UID:12553-1716750000-1716760800@southsoundblues.org
SUMMARY:Sunday Blues at the Spar with Rod Cook & Toast
DESCRIPTION:May 26th The Spar\, Tacoma\, Rod Cook & Toast\, 7pm\n Rod Cook
URL:https://southsoundblues.org/event/sunday-blues-at-the-spar-with-rod-cook-toast-3/
LOCATION:The Spar\, 2121 N 30th St\, Tacoma\, WA\, 98403
CATEGORIES:Local South Sound Blues
END:VEVENT
BEGIN:VEVENT
DTSTART;TZID=America/Los_Angeles:20240528T190000
DTEND;TZID=America/Los_Angeles:20240528T210000
DTSTAMP:20260425T095620
CREATED:20240422T222751Z
LAST-MODIFIED:20240422T222751Z
UID:12598-1716922800-1716930000@southsoundblues.org
SUMMARY:Tuesday "Blues Showcase" features Ross Robinson followed by the James Howard Band at Purdy's Public House and Arcade\, Sumner
DESCRIPTION:Tuesday “Blues Showcase” features  a set from Ross Robinson followed by a set from The James Howard Band at Purdy’s Public House and Arcade\, Sumner\, WA\, May 28th\, 7-9 pm.\n  Ross Robinson \n  James Howard Band \n 
URL:https://southsoundblues.org/event/tuesday-blues-showcase-features-ross-robinson-followed-by-the-james-howard-band-at-purdys-public-house-and-arcade-sumner/
LOCATION:Purdy’s Public House & Arcade\, Sumner\, 16202 64th St E\, Sumner\, WA\, 98390
CATEGORIES:Featured,Local South Sound Blues
END:VEVENT
BEGIN:VEVENT
DTSTART;TZID=America/Los_Angeles:20240529T190000
DTEND;TZID=America/Los_Angeles:20240529T190000
DTSTAMP:20260425T095620
CREATED:20240328T172947Z
LAST-MODIFIED:20240401T181115Z
UID:12489-1717009200-1717009200@southsoundblues.org
SUMMARY:Hurts Like Hell and King Kom Beaux at the Spanish Ballroom
DESCRIPTION:Hurts Like Hell and King Kom Beaux at the Spanish Ballroom\, May 29th\,  6pm doors\, 7pm show\, $16 advance or $20 day of show. All ages welcome.  https://www.mcmenamins.com/events/253593-hurts-like-hell\n King Kom Beaux \nKing Kom Beaux was formed in 2014\, when well known Northwest drummer/band leader Billy-The Pocket-Barner teamed back up with Louisiana Native guitarist/singer/song writer and long time friend\, Doug Kearney expressly to form this band. Together they conceptualized a band having an edgy\, driving\, Southern Rock and Blues sound with a dash of Cajun influence. \nHurts Like Hell is an Olympia based all original blues/rock band with Michael Smith (lead guitar and vocals)\, Chris Petersen (lead guitar and vocals)\, Doug Howard (bass) and Ben Hawkes (drums and vocals). Hurts Like Hell has opened for many national acts such as: Mick Fleetwood\, 38 Special\, The Outlaws\, Little River Band and more. Hurts Like Hell was nominated for best blues album of the year in the UK in 2019. The band released their 5th album “In Through the Eye” 2023.
URL:https://southsoundblues.org/event/hurts-like-hell-and-king-kom-beaux-at-the-spanish-ballroom/
LOCATION:McMenaminsTacoma Elks\, 565 Broadway\, Tacoma\, WA\, 98402
CATEGORIES:Local South Sound Blues
END:VEVENT
BEGIN:VEVENT
DTSTART;TZID=America/Los_Angeles:20240530T190000
DTEND;TZID=America/Los_Angeles:20240530T220000
DTSTAMP:20260425T095620
CREATED:20240430T004425Z
LAST-MODIFIED:20240430T004425Z
UID:12631-1717095600-1717106400@southsoundblues.org
SUMMARY:“Billy the Pocket Jam” Thursday nights at Dawson’s
DESCRIPTION:“Billy the Pocket Jam” Thursday nights at Dawson’s\, 7-10 pm
URL:https://southsoundblues.org/event/billy-the-pocket-jam-thursday-nights-at-dawsons-33/
LOCATION:Dawson’s Bar & Grill\, 5443 South Tacoma Way\, Tacoma\, WA\, 98409
CATEGORIES:Local South Sound Blues
END:VEVENT
BEGIN:VEVENT
DTSTART;TZID=America/Los_Angeles:20240531T200000
DTEND;TZID=America/Los_Angeles:20240531T200000
DTSTAMP:20260425T095620
CREATED:20240504T010327Z
LAST-MODIFIED:20240504T010327Z
UID:12657-1717185600-1717185600@southsoundblues.org
SUMMARY:CD Woodbury Trio at The New Moon Craft Tavern
DESCRIPTION:  \nCD Woodbury Trio at the New Moon Craft Tavern\, Fri\, May 31 @ 8:00PM\n \n  \nNew Moon Craft Tavern\, 130 S Lincoln St\, Port Angeles\, WA
URL:https://southsoundblues.org/event/cd-woodbury-trio-at-the-new-moon-craft-tavern/
LOCATION:New Moon Craft Tavern\, 130 S Lincoln St\, Port Angeles\, WA\, 98362
CATEGORIES:Local South Sound Blues
END:VEVENT
BEGIN:VEVENT
DTSTART;TZID=America/Los_Angeles:20240601T190000
DTEND;TZID=America/Los_Angeles:20240601T190000
DTSTAMP:20260425T095620
CREATED:20240505T003624Z
LAST-MODIFIED:20240505T003839Z
UID:12671-1717268400-1717268400@southsoundblues.org
SUMMARY:Whiskey Creek with Mid-Nite Bourbon at the Emerald Downs\, Auburn
DESCRIPTION:Whiskey Creek with Mid-Nite Bourbon at the Emerald Downs June 1st\, at 7pm\n \nEmerald Downs Entertainment has live music year round\, every Saturday night presented by Bud Light!  (ages 21+) and a smoke free environment. \nEmerald Downs\n2300 Ron Crockett Drive\nAuburn\, WA 98001 \n253-288-7000 \n 
URL:https://southsoundblues.org/event/whiskey-creek-with-mid-nite-bourbon-at-the-emerald-downs-auburn/
LOCATION:Emerald Downs\, 2300 Ron Crockett Drive\, Auburn\, WA\, 98001
CATEGORIES:Local South Sound Blues
END:VEVENT
BEGIN:VEVENT
DTSTART;TZID=America/Los_Angeles:20240601T190000
DTEND;TZID=America/Los_Angeles:20240601T190000
DTSTAMP:20260425T095620
CREATED:20240515T013143Z
LAST-MODIFIED:20240515T013143Z
UID:12713-1717268400-1717268400@southsoundblues.org
SUMMARY:Lady A at the Slippery Pig Brewery\, Poulsbo
DESCRIPTION:Lady A at the Slippery Pig Brewery Saturday June 1st\,  7pm\n\nLady A plays the Pig\, ticketed event\nSlippery Pig Brewery 18801 Front St NE\, Poulsbo\, WA\, United States\n\n\nIf you missed Lady A at the PB&J\, this is your chance. Grab your tickets to see this amazing performer! Doors at 6\, show at 7. Seats are first come\, […] \n\n$35.00
URL:https://southsoundblues.org/event/lady-a-at-the-slippery-pig-brewery-poulsbo/
LOCATION:Slippery Pig Brewery\, 18801 Front St NE\, Poulsbo\, WA\, 98370
CATEGORIES:Local South Sound Blues
END:VEVENT
BEGIN:VEVENT
DTSTART;TZID=America/Los_Angeles:20240601T190000
DTEND;TZID=America/Los_Angeles:20240601T220000
DTSTAMP:20260425T095620
CREATED:20240516T013149Z
LAST-MODIFIED:20240516T013149Z
UID:12754-1717268400-1717279200@southsoundblues.org
SUMMARY:Stonepony at the spar
DESCRIPTION:June 1st at The Spar\, Tacoma\, Stonepony\, 7-10 pm
URL:https://southsoundblues.org/event/stonepony-at-the-spar-2/
LOCATION:The Spar\, 2121 N 30th St\, Tacoma\, WA\, 98403
CATEGORIES:Local South Sound Blues
END:VEVENT
BEGIN:VEVENT
DTSTART;TZID=America/Los_Angeles:20240602T190000
DTEND;TZID=America/Los_Angeles:20240602T220000
DTSTAMP:20260425T095620
CREATED:20240516T004056Z
LAST-MODIFIED:20240516T004056Z
UID:12724-1717354800-1717365600@southsoundblues.org
SUMMARY:Sunday Blues at the Spar with The Joel Astley Band
DESCRIPTION:June 2nd at The Spar\, The Joel Astley Band\, 7-10 pm
URL:https://southsoundblues.org/event/sunday-blues-at-the-spar-with-the-joel-astley-band-2/
LOCATION:The Spar\, 2121 N 30th St\, Tacoma\, WA\, 98403
CATEGORIES:Local South Sound Blues
END:VEVENT
BEGIN:VEVENT
DTSTART;TZID=America/Los_Angeles:20240602T190000
DTEND;TZID=America/Los_Angeles:20240602T230000
DTSTAMP:20260425T095620
CREATED:20240602T021142Z
LAST-MODIFIED:20240602T021142Z
UID:12801-1717354800-1717369200@southsoundblues.org
SUMMARY:Billy Shew Blues Jam\, every Sunday at Dawson’s
DESCRIPTION:Billy Shew Blues Jam\, every Sunday at Dawson’s\, 7-11 pm
URL:https://southsoundblues.org/event/billy-shew-blues-jam-every-sunday-at-dawsons-18/
LOCATION:Dawson’s Bar & Grill\, 5443 South Tacoma Way\, Tacoma\, WA\, 98409
CATEGORIES:Local South Sound Blues
END:VEVENT
BEGIN:VEVENT
DTSTART;TZID=America/Los_Angeles:20240603T200000
DTEND;TZID=America/Los_Angeles:20240603T220000
DTSTAMP:20260425T095620
CREATED:20240602T021343Z
LAST-MODIFIED:20240602T021343Z
UID:12803-1717444800-1717452000@southsoundblues.org
SUMMARY:Mike Witmer hosts “Mojo Mike’s Blues Revue” every Monday on KVSH 101.9 FM
DESCRIPTION:Mike Witmer hosts “Mojo Mike’s Blues Revue” every Monday on KVSH 101.9 FM 8-10 pm
URL:https://southsoundblues.org/event/mike-witmer-hosts-mojo-mikes-blues-revue-every-monday-on-kvsh-101-9-fm-20/
LOCATION:WA
CATEGORIES:Local South Sound Blues
END:VEVENT
BEGIN:VEVENT
DTSTART;TZID=America/Los_Angeles:20240604T190000
DTEND;TZID=America/Los_Angeles:20240604T190000
DTSTAMP:20260425T095620
CREATED:20240602T022322Z
LAST-MODIFIED:20240602T022322Z
UID:12811-1717527600-1717527600@southsoundblues.org
SUMMARY:Billy Shew and friends Jam every Tuesday at the Burien Eagles
DESCRIPTION:Billy Shew and friends Jam every Tuesday at the Burien Eagles\, 7pm
URL:https://southsoundblues.org/event/billy-shew-and-friends-jam-every-tuesday-at-the-burien-eagles-22/
LOCATION:Burien Eagles\, 920 SW 150th St\, Burien\, WA\, 98166
CATEGORIES:Local South Sound Blues
END:VEVENT
BEGIN:VEVENT
DTSTART;TZID=America/Los_Angeles:20240604T190000
DTEND;TZID=America/Los_Angeles:20240604T220000
DTSTAMP:20260425T095620
CREATED:20240602T021606Z
LAST-MODIFIED:20240602T021606Z
UID:12805-1717527600-1717538400@southsoundblues.org
SUMMARY:Jam every Tuesday at Brother Don’s Bar & Grill with the Tim Hall band
DESCRIPTION:Jam every Tuesday at Brother Don’s Bar & Grill with the Tim Hall band\, 7-10 pm.
URL:https://southsoundblues.org/event/jam-every-tuesday-at-brother-dons-bar-grill-with-the-tim-hall-band-2/
LOCATION:Brother Don’s Bar & Grill\, 4200 Kitsap Way\, Bremerton\, WA\, 98312
CATEGORIES:Local South Sound Blues
END:VEVENT
BEGIN:VEVENT
DTSTART;TZID=America/Los_Angeles:20240605T190000
DTEND;TZID=America/Los_Angeles:20240605T220000
DTSTAMP:20260425T095620
CREATED:20240602T022556Z
LAST-MODIFIED:20240602T022556Z
UID:12813-1717614000-1717624800@southsoundblues.org
SUMMARY:Wednesdays Blues “Jam Night” with Brian Olver and Glenn Hummel at Purdy’s\, Sumner
DESCRIPTION:Wednesdays Blues “Jam Night” with Brian Olver and Glenn Hummel at Purdy’s\, Sumner\, WA. 7-10 pm
URL:https://southsoundblues.org/event/wednesdays-blues-jam-night-with-brian-olver-and-glenn-hummel-at-purdys-sumner-9/
LOCATION:Purdy’s Public House & Arcade\, Sumner\, 16202 64th St E\, Sumner\, WA\, 98390
CATEGORIES:Local South Sound Blues
END:VEVENT
BEGIN:VEVENT
DTSTART;TZID=America/Los_Angeles:20240605T190000
DTEND;TZID=America/Los_Angeles:20240605T230000
DTSTAMP:20260425T095620
CREATED:20240522T214845Z
LAST-MODIFIED:20240522T214845Z
UID:12760-1717614000-1717628400@southsoundblues.org
SUMMARY:Jerry Miller at the Golden West
DESCRIPTION:Jerry Miller at the Golden West on South Tacoma Way Wednesdays\,  7 -11pm
URL:https://southsoundblues.org/event/jerry-miller-at-the-golden-west/
LOCATION:Art’s Golden West\, 5228 So. Tacoma Way\, Tacoma\, WA\, 98409
CATEGORIES:Local South Sound Blues
END:VEVENT
BEGIN:VEVENT
DTSTART;TZID=America/Los_Angeles:20240606T190000
DTEND;TZID=America/Los_Angeles:20240606T220000
DTSTAMP:20260425T095620
CREATED:20240602T023511Z
LAST-MODIFIED:20240602T023511Z
UID:12821-1717700400-1717711200@southsoundblues.org
SUMMARY:“Billy the Pocket Jam” Thursday nights at Dawson’s
DESCRIPTION:“Billy the Pocket Jam” Thursday nights at Dawson’s\, 7-10 pm
URL:https://southsoundblues.org/event/billy-the-pocket-jam-thursday-nights-at-dawsons-34/
LOCATION:Dawson’s Bar & Grill\, 5443 South Tacoma Way\, Tacoma\, WA\, 98409
CATEGORIES:Local South Sound Blues
END:VEVENT
BEGIN:VEVENT
DTSTART;TZID=America/Los_Angeles:20240607T190000
DTEND;TZID=America/Los_Angeles:20240607T210000
DTSTAMP:20260425T095620
CREATED:20240502T005143Z
LAST-MODIFIED:20240502T005143Z
UID:12650-1717786800-1717794000@southsoundblues.org
SUMMARY:Billy Stapleton's Powerhouse Band at the Kimball Coffeehouse
DESCRIPTION:Billy Stapleton’s Powerhouse Band at the Kimball Coffeehouse June 7th\, 7pm.\n \nBilly Stapleton’s POWERHOUSE Band is:\nBilly Stapleton has made his mark in the Northwest: A Two decade member of Little Bill and The Bluenotes\, Guitarist and composer for the Mark Dufresne Band\, bandleader for the Annie Eastwood Quartet\, Powerhouse\, and leader of his own Jazz trio. Multiple award winner for “Best Guitar” and “Best Slide Guitar”and a WA Blues Hall of Fame inductee. The Billy Stapleton Trio plays a wide selection of jazz standards\, Rhythm and Blues\, Pop and Ballads all in their own style.\nDon Wilhelm’s career includes a nine year residency in Paul Allen’s Band that played around the world. Don was founding member of Heart and a cornerstone in The Daily Flash. His playing spans all genre’s and he is a much in demand studio musician. Wilhelm is renowned for playing the perfect bass part and then stealing the show with his melodic bass solos. On vocals Don possesses an amazing range and never shies away from the high notes. A true virtuoso and a NW treasure.\nSteve Peterson is best known as the drummer for “The Kingsmen”. He has toured the world and plays a variety of instruments as well as owning his own studio. A gifted composer and producer\, Peterson always plays the “perfect part.” An excellent singer in his own right\, Steve performs locally in Los Orchids and the Annie Eastwood Quartet\, Billy Stapleton’s Powerhouse and the Billy Stapleton Trio.\n\nKimball Coffeehouse – Doors Open at 6pm – Music Starts at 7pmWe are coffee people\, music aficionados and food lovers\, holding it down in Gig Harbor\, WA.
URL:https://southsoundblues.org/event/billy-stapletons-powerhouse-band-at-the-kimball-coffeehouse/
LOCATION:Kimball’s Coffeehouse\, 6659 Kimball Dr\, Gig Harbor\, WA\, 98335
CATEGORIES:Local South Sound Blues
END:VEVENT
BEGIN:VEVENT
DTSTART;TZID=America/Los_Angeles:20240609T190000
DTEND;TZID=America/Los_Angeles:20240609T220000
DTSTAMP:20260425T095620
CREATED:20240103T041316Z
LAST-MODIFIED:20240103T041316Z
UID:11947-1717959600-1717970400@southsoundblues.org
SUMMARY:Sunday Blues at The Spar with King Kom Beaux
DESCRIPTION:Sunday Blues at The Spar with King Kom Beaux June 9th\, 7pm
URL:https://southsoundblues.org/event/sunday-blues-at-the-spar-with-king-kom-beaux-2/
LOCATION:The Spar\, 2121 N 30th St\, Tacoma\, WA\, 98403
CATEGORIES:Local South Sound Blues
END:VEVENT
BEGIN:VEVENT
DTSTART;TZID=America/Los_Angeles:20240610T200000
DTEND;TZID=America/Los_Angeles:20240610T220000
DTSTAMP:20260425T095620
CREATED:20240523T000338Z
LAST-MODIFIED:20240523T000338Z
UID:12765-1718049600-1718056800@southsoundblues.org
SUMMARY:Mike Witmer hosts “Mojo Mike’s Blues Revue” every Monday on KVSH 101.9 FM
DESCRIPTION:Mike Witmer hosts “Mojo Mike’s Blues Revue” every Monday on KVSH 101.9 FM 8-10 pm
URL:https://southsoundblues.org/event/mike-witmer-hosts-mojo-mikes-blues-revue-every-monday-on-kvsh-101-9-fm-19/
LOCATION:WA
CATEGORIES:Local South Sound Blues
END:VEVENT
BEGIN:VEVENT
DTSTART;TZID=America/Los_Angeles:20240611T190000
DTEND;TZID=America/Los_Angeles:20240611T210000
DTSTAMP:20260425T095620
CREATED:20240602T021833Z
LAST-MODIFIED:20240602T021833Z
UID:12807-1718132400-1718139600@southsoundblues.org
SUMMARY:Rob Tudor and Dave McKibbin at the Twisted Fork Saloon every Tuesday
DESCRIPTION:Rob Tudor and Dave McKibbin at the Twisted Fork Saloon every Tuesday\, 7-9 pm
URL:https://southsoundblues.org/event/rob-tudor-and-dave-mckibbin-at-the-twisted-fork-saloon-every-tuesday-6/
LOCATION:Twisted Fork Saloon\, 5005 Main St\, Tacoma\, WA\, 98407
CATEGORIES:Local South Sound Blues
END:VEVENT
BEGIN:VEVENT
DTSTART;TZID=America/Los_Angeles:20240612T180000
DTEND;TZID=America/Los_Angeles:20240612T210000
DTSTAMP:20260425T095620
CREATED:20240602T022755Z
LAST-MODIFIED:20240602T022755Z
UID:12815-1718215200-1718226000@southsoundblues.org
SUMMARY:Billy Shew and Friends host an open Jam every Wednesday at Stockton’s
DESCRIPTION:Billy Shew and Friends host an open Jam every Wednesday at Stockton’s\, 6-9pm
URL:https://southsoundblues.org/event/billy-shew-and-friends-host-an-open-jam-every-wednesday-at-stocktons-19/
LOCATION:Stockton’s Restaurant & Spirits\, 23220 Maple Valley Black Diamond Rd SE\, Maple Valley\, WA\, 98038
CATEGORIES:Local South Sound Blues
END:VEVENT
BEGIN:VEVENT
DTSTART;TZID=America/Los_Angeles:20240615T200000
DTEND;TZID=America/Los_Angeles:20240615T200000
DTSTAMP:20260425T095620
CREATED:20240614T193229Z
LAST-MODIFIED:20240614T193229Z
UID:12866-1718481600-1718481600@southsoundblues.org
SUMMARY:Heather Jones & the Groove Masters at Dawson's Bar & Grill
DESCRIPTION:Heather Jones & the Groove Masters at Dawson’s Bar & Grill\, June 15th\, 8pm
URL:https://southsoundblues.org/event/heather-jones-the-groove-masters-at-dawsons-bar-grill-3/
LOCATION:Dawson’s Bar & Grill\, 5443 South Tacoma Way\, Tacoma\, WA\, 98409
CATEGORIES:Local South Sound Blues
END:VEVENT
BEGIN:VEVENT
DTSTART;TZID=America/Los_Angeles:20240616T190000
DTEND;TZID=America/Los_Angeles:20240616T220000
DTSTAMP:20260425T095620
CREATED:20240516T004416Z
LAST-MODIFIED:20240516T004416Z
UID:12726-1718564400-1718575200@southsoundblues.org
SUMMARY:Sunday Blues at the Spar with the Nick Vigarino Band
DESCRIPTION:June 16th\, at The Spar\, The Nick Vigarino Band\, 7-10 pm\n 
URL:https://southsoundblues.org/event/sunday-blues-at-the-spar-with-the-nick-vigarino-band/
LOCATION:The Spar\, 2121 N 30th St\, Tacoma\, WA\, 98403
CATEGORIES:Local South Sound Blues
END:VEVENT
BEGIN:VEVENT
DTSTART;TZID=America/Los_Angeles:20240618T200000
DTEND;TZID=America/Los_Angeles:20240618T233000
DTSTAMP:20260425T095620
CREATED:20240602T022103Z
LAST-MODIFIED:20240602T022103Z
UID:12809-1718740800-1718753400@southsoundblues.org
SUMMARY:Cory Wilds Band Tuesday open Jam Night at Elmer’s Bar and Grill
DESCRIPTION:Cory Wilds Band Tuesday open Jam Night at Elmer’s Bar and Grill\, 8-11:30 pm
URL:https://southsoundblues.org/event/cory-wilds-band-tuesday-open-jam-night-at-elmers-bar-and-grill-19/
LOCATION:Elmer’s Bar & Grill\, 15027 Ambaum Blvd SW\, Burien\, WA\, 98166
CATEGORIES:Local South Sound Blues
END:VEVENT
BEGIN:VEVENT
DTSTART;TZID=America/Los_Angeles:20240619T190000
DTEND;TZID=America/Los_Angeles:20240619T220000
DTSTAMP:20260425T095620
CREATED:20240602T023251Z
LAST-MODIFIED:20240602T023251Z
UID:12819-1718823600-1718834400@southsoundblues.org
SUMMARY:Wednesdays Blues “Jam Night” with Brian Olver and Glenn Hummel at Purdy’s\, Sumner
DESCRIPTION:Wednesdays Blues “Jam Night” with Brian Olver and Glenn Hummel at Purdy’s\, Sumner\, WA. 7-10 pm
URL:https://southsoundblues.org/event/wednesdays-blues-jam-night-with-brian-olver-and-glenn-hummel-at-purdys-sumner-10/
LOCATION:Purdy’s Public House & Arcade\, Sumner\, 16202 64th St E\, Sumner\, WA\, 98390
CATEGORIES:Local South Sound Blues
END:VEVENT
BEGIN:VEVENT
DTSTART;TZID=America/Los_Angeles:20240619T190000
DTEND;TZID=America/Los_Angeles:20240619T220000
DTSTAMP:20260425T095620
CREATED:20240612T025733Z
LAST-MODIFIED:20240612T025733Z
UID:12856-1718823600-1718834400@southsoundblues.org
SUMMARY:LTD Presents: Blues Harmonica Summit at the Spar
DESCRIPTION:Blues Harmonica Summit\, WEDNESDAY\, JUNE 19th at The Spar\, 7-10 pm\nLTD Presents: The Tacoma Blues Harmonica Summit with Rick Estrin\, Kim Field\, Steve Bailey\, and Joel Astley.\nLegendary harmonica master RICK ESTRIN tops the bill at this blues harp extravaganza\, which also features Pacific Northwest faves KIM FIELD\, STEVE BAILEY\, JOEL ASTLEY and other special guests! A very special line-up never before seen on one stage.\n\n\nThis event is presented free of charge by LTD Presents LIVE and The Spar Tavern. 7-10pm
URL:https://southsoundblues.org/event/ltd-presents-blues-harmonica-summit-at-the-spar/
LOCATION:The Spar\, 2121 N 30th St\, Tacoma\, WA\, 98403
CATEGORIES:Local South Sound Blues
END:VEVENT
BEGIN:VEVENT
DTSTART;TZID=America/Los_Angeles:20240620T190000
DTEND;TZID=America/Los_Angeles:20240620T220000
DTSTAMP:20260425T095620
CREATED:20240428T200625Z
LAST-MODIFIED:20240428T200625Z
UID:12616-1718910000-1718920800@southsoundblues.org
SUMMARY:LTD presents Rick Estrin & The Nightcat's at West of the Waterway
DESCRIPTION:LTD presents Rick Estrin & The Nightcat’s at West of the Waterway June 20th\, 7:30 pm.\n 
URL:https://southsoundblues.org/event/ltd-presents-rick-estrin-the-nightcats-at-west-of-the-waterway/
LOCATION:Dock Street Deli West of the Waterway\, 1901 Dock Street\, Tacoma\, WA\, 98402
CATEGORIES:Local South Sound Blues
END:VEVENT
BEGIN:VEVENT
DTSTART;TZID=America/Los_Angeles:20240621T193000
DTEND;TZID=America/Los_Angeles:20240621T193000
DTSTAMP:20260425T095620
CREATED:20240516T011248Z
LAST-MODIFIED:20240516T011248Z
UID:12737-1718998200-1718998200@southsoundblues.org
SUMMARY:LTD Presents: Rick Estrin & The Nightcats at the Palindrome Port Townsend Event Center
DESCRIPTION:June 21st at the Palindrome Port Townsend Event Center\, Port Townsend\, LTD Presents: Rick Estrin & The Nightcats 7:30pm\n 
URL:https://southsoundblues.org/event/ltd-presents-rick-estrin-the-nightcats-at-the-palindrome-port-townsend-event-center/
LOCATION:Palindrome Port Townsend Event Center\, 1893 S Jacob Miller Rd\, Port Townsend\, WA\, 98368
CATEGORIES:Local South Sound Blues,Special Event
END:VEVENT
BEGIN:VEVENT
DTSTART;TZID=America/Los_Angeles:20240621T210000
DTEND;TZID=America/Los_Angeles:20240621T233000
DTSTAMP:20260425T095620
CREATED:20240617T003716Z
LAST-MODIFIED:20240617T003716Z
UID:12876-1719003600-1719012600@southsoundblues.org
SUMMARY:Mr. Billy Ray Charles and 'The Boyz in The Tarking Lot'\, at Tacoma Elk's Lodge #142
DESCRIPTION:Exciting news Southern Soul Blues lovers!!!! Mr. Billy Ray Charles and The Boyz in the parking lot are coming to town!!!!If you know the Las Vegas blues scenes\, then you know Mr. Billy Ray and the boyz!Come see them this Friday June 21st 9pm & Sunday June 22nd 4pm\nhttps://sites.google.com/…/loveforcei…/billy-ray-charles\nElk’s Lodge #1422114 Tacoma AveTacoma\, WA 98402
URL:https://southsoundblues.org/event/mr-billy-ray-charles-and-the-boyz-in-the-tarking-lot-at-tacoma-elks-lodge-142/
LOCATION:Tacoma Elks Lodge #142\, 2114 Tacoma Ave\, Tacoma\, WA\, 98402
CATEGORIES:Local South Sound Blues
END:VEVENT
END:VCALENDAR