BEGIN:VCALENDAR
VERSION:2.0
PRODID:-//South Sound Blues Association - ECPv6.15.18//NONSGML v1.0//EN
CALSCALE:GREGORIAN
METHOD:PUBLISH
X-ORIGINAL-URL:https://southsoundblues.org
X-WR-CALDESC:Events for South Sound Blues Association
REFRESH-INTERVAL;VALUE=DURATION:PT1H
X-Robots-Tag:noindex
X-PUBLISHED-TTL:PT1H
BEGIN:VTIMEZONE
TZID:America/Los_Angeles
BEGIN:DAYLIGHT
TZOFFSETFROM:-0800
TZOFFSETTO:-0700
TZNAME:PDT
DTSTART:20250309T100000
END:DAYLIGHT
BEGIN:STANDARD
TZOFFSETFROM:-0700
TZOFFSETTO:-0800
TZNAME:PST
DTSTART:20251102T090000
END:STANDARD
BEGIN:DAYLIGHT
TZOFFSETFROM:-0800
TZOFFSETTO:-0700
TZNAME:PDT
DTSTART:20260308T100000
END:DAYLIGHT
BEGIN:STANDARD
TZOFFSETFROM:-0700
TZOFFSETTO:-0800
TZNAME:PST
DTSTART:20261101T090000
END:STANDARD
BEGIN:DAYLIGHT
TZOFFSETFROM:-0800
TZOFFSETTO:-0700
TZNAME:PDT
DTSTART:20270314T100000
END:DAYLIGHT
BEGIN:STANDARD
TZOFFSETFROM:-0700
TZOFFSETTO:-0800
TZNAME:PST
DTSTART:20271107T090000
END:STANDARD
END:VTIMEZONE
BEGIN:VEVENT
DTSTART;TZID=America/Los_Angeles:20260410T180000
DTEND;TZID=America/Los_Angeles:20260410T203000
DTSTAMP:20260422T213154
CREATED:20260321T213657Z
LAST-MODIFIED:20260322T000210Z
UID:17319-1775844000-1775853000@southsoundblues.org
SUMMARY:The Spin-offs at the Washington State Spring Fair
DESCRIPTION:The Spin-offs at the Washington State Spring Fair ‘Brew Park Stage’ April 10th 6-8:30 pm
URL:https://southsoundblues.org/event/the-spin-offs-at-the-washington-state-spring-fair/
LOCATION:Washington State Fair grounds Event Center\, 110 9th Avenue SW\, Puyallup\, WA\, 98371
CATEGORIES:Local South Sound Blues
END:VEVENT
BEGIN:VEVENT
DTSTART;TZID=America/Los_Angeles:20260407T190000
DTEND;TZID=America/Los_Angeles:20260407T220000
DTSTAMP:20260422T213154
CREATED:20260330T223528Z
LAST-MODIFIED:20260330T223550Z
UID:17447-1775588400-1775599200@southsoundblues.org
SUMMARY:Billy Shew hosts the Jam every Tuesday night at the Burien Eagles Eagles
DESCRIPTION:Billy Shew Jam every Tuesday night at the Burien Eagles 7-10 pm\nApril 7 with special guest Bobby Hoffman
URL:https://southsoundblues.org/event/billy-shew-hosts-the-jam-every-tuesday-night-at-the-burien-eagles-eagles/
LOCATION:Burien Eagles\, 920 SW 150th St\, Burien\, WA\, 98166
CATEGORIES:Local South Sound Blues
END:VEVENT
BEGIN:VEVENT
DTSTART;TZID=America/Los_Angeles:20260407T190000
DTEND;TZID=America/Los_Angeles:20260407T220000
DTSTAMP:20260422T213154
CREATED:20260127T024409Z
LAST-MODIFIED:20260127T024658Z
UID:16883-1775588400-1775599200@southsoundblues.org
SUMMARY:Jam every Tuesday at Brother Don’s Bar & Grill with the Tim Hall band
DESCRIPTION:Jam every Tuesday at Brother Don’s Bar & Grill with the Tim Hall band 7-10 pm
URL:https://southsoundblues.org/event/jam-every-tuesday-at-brother-dons-bar-grill-with-the-tim-hall-band-29/
LOCATION:Brother Don’s Bar & Grill\, 4200 Kitsap Way\, Bremerton\, WA\, 98312
CATEGORIES:Local South Sound Blues
END:VEVENT
BEGIN:VEVENT
DTSTART;TZID=America/Los_Angeles:20260406T180000
DTEND;TZID=America/Los_Angeles:20260406T210000
DTSTAMP:20260422T213154
CREATED:20260311T212008Z
LAST-MODIFIED:20260311T212008Z
UID:17246-1775498400-1775509200@southsoundblues.org
SUMMARY:Monday Jazz at Brother Don’s Bar & Grill\, Bremerton
DESCRIPTION:Monday Jazz at Brother Don’s Bar & Grill\, Bremerton\, 6-9 pm
URL:https://southsoundblues.org/event/monday-jazz-at-brother-dons-bar-grill-bremerton-39/
LOCATION:Brother Don’s Bar & Grill\, 4200 Kitsap Way\, Bremerton\, WA\, 98312
CATEGORIES:Local South Sound Blues
END:VEVENT
BEGIN:VEVENT
DTSTART;TZID=America/Los_Angeles:20260405T190000
DTEND;TZID=America/Los_Angeles:20260405T230000
DTSTAMP:20260422T213154
CREATED:20260330T202511Z
LAST-MODIFIED:20260331T204632Z
UID:17432-1775415600-1775430000@southsoundblues.org
SUMMARY:Billy Shew Blues Jam\, every Sunday at Dawson’s
DESCRIPTION:Billy Shew Blues Jam\, every Sunday at Dawson’s 7-11 pm\nApril 5 with guest Glenn Hummel\, Jim Collins and TBA
URL:https://southsoundblues.org/event/17432/
LOCATION:Dawson’s Bar & Grill\, 5443 South Tacoma Way\, Tacoma\, WA\, 98409
CATEGORIES:Local South Sound Blues
END:VEVENT
BEGIN:VEVENT
DTSTART;TZID=America/Los_Angeles:20260405T180000
DTEND;TZID=America/Los_Angeles:20260405T210000
DTSTAMP:20260422T213154
CREATED:20251030T003109Z
LAST-MODIFIED:20251030T003109Z
UID:16328-1775412000-1775422800@southsoundblues.org
SUMMARY:Tim Hall Blues Jam every Sunday at Zesty’s Steakhouse
DESCRIPTION:Tim Hall Blues Jam every Sunday at Zesty’s Steakhouse\, 6-9pm\n\n6PM-9PM Every Sunday\nBar & Lounge. Must be 21 & over to enter\nNo Cover Fee. First Come First Served\n\n\nZesty Steakhouse\n9905 Bridgeport Way SW\nLakewood\, WA 98499\n(253) 300-7993\n\nhttps://www.zestycajungrill.com/jam-night
URL:https://southsoundblues.org/event/tim-hall-blues-jam-every-sunday-at-zestys-steakhouse-21/
LOCATION:Zesty’s Cajun Steakhouse\, 9905 Bridgeport Way Southwest\, Lakewood\, WA\, 98499
CATEGORIES:Local South Sound Blues
END:VEVENT
BEGIN:VEVENT
DTSTART;TZID=America/Los_Angeles:20260404T200000
DTEND;TZID=America/Los_Angeles:20260404T230000
DTSTAMP:20260422T213154
CREATED:20260227T211440Z
LAST-MODIFIED:20260227T213041Z
UID:17116-1775332800-1775343600@southsoundblues.org
SUMMARY:Billy Stoops & The Dirt Angels at the Manette Saloon\, Bremerton
DESCRIPTION:Billy Stoops & The Dirt Angels at the Manette Saloon April 4th\, 8pm
URL:https://southsoundblues.org/event/billy-stoops-the-dirt-angels-at-the-manette-saloon-bremerton/
LOCATION:Manette Saloon\, 2113 E 11th St\, Bremerton\, WA\, 98310
CATEGORIES:Local South Sound Blues
END:VEVENT
BEGIN:VEVENT
DTSTART;TZID=America/Los_Angeles:20260404T200000
DTEND;TZID=America/Los_Angeles:20260404T230000
DTSTAMP:20260422T213154
CREATED:20260226T224436Z
LAST-MODIFIED:20260226T224643Z
UID:17107-1775332800-1775343600@southsoundblues.org
SUMMARY:Cory Wilds Band at the Sand Bar and Grill
DESCRIPTION:Cory Wilds Band at the Sand Bar and Grill April 4th 8 pm\n \n1941 Marine View Dr.\nTacoma\, WA 98422
URL:https://southsoundblues.org/event/cory-wilds-band-at-the-sand-bar-and-grill-2/
LOCATION:Sand Bar and Grill\, 1941 Marine View Dr.\, Browns Point\, WA\, 98422
CATEGORIES:Local South Sound Blues
END:VEVENT
BEGIN:VEVENT
DTSTART;TZID=America/Los_Angeles:20260404T180000
DTEND;TZID=America/Los_Angeles:20260405T000000
DTSTAMP:20260422T213154
CREATED:20260206T022752Z
LAST-MODIFIED:20260206T022752Z
UID:16973-1775325600-1775347200@southsoundblues.org
SUMMARY:All Blues\, Every Saturday and Sunday night on KNKX 88.5 fm
DESCRIPTION:All Blues\, Every Saturday and Sunday night on KNKX 88.5 fm 6pm-Midnight\nFrom Tacoma/Seattle\, blues party; hosted by John Kessler. For a full six hours each evening\, John draws from the full spectrum of the blues in his award-winning shows and offers a unique look at blues recording history.  https://www.knkx.org/listening-options
URL:https://southsoundblues.org/event/all-blues-every-saturday-and-sunday-night-on-knkx-88-5-fm-3/
LOCATION:KNKX\, 930 Broadway Tacoma\, WA\, 98402\, Tacoma\, WA\, 98402
CATEGORIES:Local South Sound Blues
END:VEVENT
BEGIN:VEVENT
DTSTART;TZID=America/Los_Angeles:20260403T200000
DTEND;TZID=America/Los_Angeles:20260403T230000
DTSTAMP:20260422T213154
CREATED:20260227T210648Z
LAST-MODIFIED:20260227T210648Z
UID:17114-1775246400-1775257200@southsoundblues.org
SUMMARY:Billy Stoops & The Dirt Angels at Gabriela's\, Maple Valley
DESCRIPTION:Billy Stoops & The Dirt Angels at Gabriela’s April 3rd at 8pm
URL:https://southsoundblues.org/event/billy-stoops-the-dirt-angels-at-gabrielas-maple-valley/
LOCATION:Gabriela’s Restaurant and Bar\, 23220 Maple Valley Black Diamond Rd Se #7\, Maple Valley\, WA\, 98038
CATEGORIES:Local South Sound Blues
END:VEVENT
BEGIN:VEVENT
DTSTART;TZID=America/Los_Angeles:20260403T190000
DTEND;TZID=America/Los_Angeles:20260403T210000
DTSTAMP:20260422T213154
CREATED:20260227T224141Z
LAST-MODIFIED:20260330T153926Z
UID:17160-1775242800-1775250000@southsoundblues.org
SUMMARY:Jim Valley Project at Kimball Coffeehouse
DESCRIPTION:Friday Night Music at Kimball Coffeehouse Presents: The Jim Valley Project  April 3rd\, 7-9 pm
URL:https://southsoundblues.org/event/michele-damour-the-love-dealers-at-kimball-coffeehouse-3/
LOCATION:Kimball’s Coffeehouse\, 6659 Kimball Dr\, Gig Harbor\, WA\, 98335
CATEGORIES:Local South Sound Blues
END:VEVENT
BEGIN:VEVENT
DTSTART;TZID=America/Los_Angeles:20260402T190000
DTEND;TZID=America/Los_Angeles:20260402T220000
DTSTAMP:20260422T213154
CREATED:20260211T010845Z
LAST-MODIFIED:20260211T010845Z
UID:17028-1775156400-1775167200@southsoundblues.org
SUMMARY:Thursday nights- Billy “The Pocket” Blues Jams at Dawsons
DESCRIPTION:Thursday nights- Billy “The Pocket” Blues Jams at Dawsons\, 7-10 pm
URL:https://southsoundblues.org/event/thursday-nights-billy-the-pocket-blues-jams-at-dawsons-17/
LOCATION:Dawson’s Bar & Grill\, 5443 South Tacoma Way\, Tacoma\, WA\, 98409
CATEGORIES:Local South Sound Blues
END:VEVENT
BEGIN:VEVENT
DTSTART;TZID=America/Los_Angeles:20260402T190000
DTEND;TZID=America/Los_Angeles:20260402T220000
DTSTAMP:20260422T213154
CREATED:20260127T032835Z
LAST-MODIFIED:20260127T032835Z
UID:16894-1775156400-1775167200@southsoundblues.org
SUMMARY:Creole Soul Open Mic Jam Night every Thursday\, Des Moines
DESCRIPTION:Creole Soul Open Mic Jam Night every Thursday\, Des Moines\, 7pm\nRock the mic\, beat the skins\, and spank the plank—\nThursdays at 7 PM in Des Moines\, WA\, with host The Busby Band.\nFull backline provided.\n22341 Marine View Drive South\, Des Moines\, Washington 98198
URL:https://southsoundblues.org/event/creole-soul-open-mic-jam-night-every-thursday-des-moines-4/
LOCATION:Creole Soul\, 22341 Marine View Drive\, Des Moines\, WA\, 98198
CATEGORIES:Local South Sound Blues
END:VEVENT
BEGIN:VEVENT
DTSTART;TZID=America/Los_Angeles:20260331T190000
DTEND;TZID=America/Los_Angeles:20260331T220000
DTSTAMP:20260422T213154
CREATED:20260330T225527Z
LAST-MODIFIED:20260330T225527Z
UID:17460-1774983600-1774994400@southsoundblues.org
SUMMARY:Billy Shew Jam every Tuesday night at the Burien Eagles
DESCRIPTION:Billy Shew Jam every Tuesday night at the Burien Eagles 7-10 pm
URL:https://southsoundblues.org/event/billy-shew-jam-every-tuesday-night-at-the-burien-eagles-6/
LOCATION:Burien Eagles\, 920 SW 150th St\, Burien\, WA\, 98166
CATEGORIES:Local South Sound Blues
END:VEVENT
BEGIN:VEVENT
DTSTART;TZID=America/Los_Angeles:20260331T190000
DTEND;TZID=America/Los_Angeles:20260331T210000
DTSTAMP:20260422T213154
CREATED:20251227T204900Z
LAST-MODIFIED:20251227T204900Z
UID:16632-1774983600-1774990800@southsoundblues.org
SUMMARY:Purdy's Tuesday Blues Showcase featuring Billy Stoops & The Dirt Angels\, Sumner
DESCRIPTION:Purdy’s Tuesday Blues Showcase featuring Billy Stoops & The Dirt Angels March 31st\, 7-9 pm at Purdy’s Public House & Arcade
URL:https://southsoundblues.org/event/purdys-tuesday-blues-showcase-featuring-billy-stoops-the-dirt-angels-sumner/
LOCATION:Purdy’s Public House & Arcade\, Sumner\, 16202 64th St E\, Sumner\, WA\, 98390
CATEGORIES:Local South Sound Blues
END:VEVENT
BEGIN:VEVENT
DTSTART;TZID=America/Los_Angeles:20260330T200000
DTEND;TZID=America/Los_Angeles:20260330T220000
DTSTAMP:20260422T213154
CREATED:20260206T003605Z
LAST-MODIFIED:20260206T003605Z
UID:16959-1774900800-1774908000@southsoundblues.org
SUMMARY:Mike Witmer hosts “Mojo Mike’s Blues Revue” every Monday on KVSH 101.9 FM
DESCRIPTION:Mike Witmer hosts “Mojo Mike’s Blues Revue” every Monday on KVSH 101.9 FM\, 8-10 pm
URL:https://southsoundblues.org/event/mike-witmer-hosts-mojo-mikes-blues-revue-every-monday-on-kvsh-101-9-fm-53/
LOCATION:KVSH\, 17643 Vashon Hwy SW\, Vashon Island\, WA\, 98070
CATEGORIES:Local South Sound Blues
END:VEVENT
BEGIN:VEVENT
DTSTART;TZID=America/Los_Angeles:20260329T190000
DTEND;TZID=America/Los_Angeles:20260329T230000
DTSTAMP:20260422T213154
CREATED:20260115T023025Z
LAST-MODIFIED:20260115T023025Z
UID:16785-1774810800-1774825200@southsoundblues.org
SUMMARY:Billy Shew Blues Jam\, every Sunday at Dawson’s
DESCRIPTION:Billy Shew Blues Jam\, every Sunday at Dawson’s\, 7-11 pm
URL:https://southsoundblues.org/event/billy-shew-blues-jam-every-sunday-at-dawsons-53/
LOCATION:Dawson’s Bar & Grill\, 5443 South Tacoma Way\, Tacoma\, WA\, 98409
CATEGORIES:Local South Sound Blues
END:VEVENT
BEGIN:VEVENT
DTSTART;TZID=America/Los_Angeles:20260329T190000
DTEND;TZID=America/Los_Angeles:20260329T220000
DTSTAMP:20260422T213154
CREATED:20260303T023607Z
LAST-MODIFIED:20260303T023607Z
UID:17181-1774810800-1774821600@southsoundblues.org
SUMMARY:Sunday Blues at the Spar featuring the PNW Blues Guitar Slingers Showcase
DESCRIPTION:PNW BLUES GUITAR SLINGERS SHOWCASE!!\nWith Timothy Sherman\, Eric Rice\, Jeff Conlin\, Mark Dalton\, Conrad Ormsby. March 29th at The Spar Tavern in Old Town Tacoma. \n 
URL:https://southsoundblues.org/event/sunday-blues-at-the-spar-featuring-the-pnw-blues-guitar-slingers-showcase/
LOCATION:The Spar\, 2121 N 30th St\, Tacoma\, WA\, 98403
CATEGORIES:Local South Sound Blues
END:VEVENT
BEGIN:VEVENT
DTSTART;TZID=America/Los_Angeles:20260328T210000
DTEND;TZID=America/Los_Angeles:20260328T233000
DTSTAMP:20260422T213154
CREATED:20260305T231557Z
LAST-MODIFIED:20260305T231557Z
UID:17185-1774731600-1774740600@southsoundblues.org
SUMMARY:Heather Jones & the Groove Masters at Dawsons\, Tacoma
DESCRIPTION:Heather Jones & the Groove Masters at Dawsons March 28th 9pm
URL:https://southsoundblues.org/event/heather-jones-the-groove-masters-at-dawsons-tacoma-2/
LOCATION:Dawson’s Bar & Grill\, 5443 South Tacoma Way\, Tacoma\, WA\, 98409
CATEGORIES:Local South Sound Blues
END:VEVENT
BEGIN:VEVENT
DTSTART;TZID=America/Los_Angeles:20260328T200000
DTEND;TZID=America/Los_Angeles:20260328T230000
DTSTAMP:20260422T213154
CREATED:20260227T220520Z
LAST-MODIFIED:20260227T220520Z
UID:17131-1774728000-1774738800@southsoundblues.org
SUMMARY:Ryan T. Higgins Band at the Salmon Bay Eagles
DESCRIPTION:Ryan T. Higgins Band at the Salmon Bay Eagles\n\nMarch 28 @ 8:00 pm PDT\n\n\n\n\nNW rock-blues powerhouse! Sonic swagger with Joe Cook\, Robert Baker\, and Rick Bowen. High-energy roots music that’ll grab you from the first note and never let go!
URL:https://southsoundblues.org/event/ryan-t-higgins-band-at-the-salmon-bay-eagles-2/
LOCATION:Salmon Bay Eagles\, 5216 20th Ave NW\, Seattle\, WA\, 98107
CATEGORIES:Local South Sound Blues
END:VEVENT
BEGIN:VEVENT
DTSTART;TZID=America/Los_Angeles:20260327T200000
DTEND;TZID=America/Los_Angeles:20260327T230000
DTSTAMP:20260422T213154
CREATED:20260227T220252Z
LAST-MODIFIED:20260227T220252Z
UID:17129-1774641600-1774652400@southsoundblues.org
SUMMARY:Tony Lease & Friends at the Salmon Bay Eagles
DESCRIPTION:Tony Lease & Friends at the Salmon Bay Eagles\n\nMarch 27 @ 8:00 pm PDT\n\n\n\n\nBlues-rock fusion with top-40 flair! Tony’s husky vocals and killer guitar\, backed by Annie O’Neill\, Beth and Jim Wulff. Exceptional musicians guaranteed to rock the house!
URL:https://southsoundblues.org/event/tony-lease-friends-at-the-salmon-bay-eagles/
LOCATION:Salmon Bay Eagles\, 5216 20th Ave NW\, Seattle\, WA\, 98107
CATEGORIES:Local South Sound Blues
END:VEVENT
BEGIN:VEVENT
DTSTART;TZID=America/Los_Angeles:20260324T200000
DTEND;TZID=America/Los_Angeles:20260324T233000
DTSTAMP:20260422T213154
CREATED:20260127T023957Z
LAST-MODIFIED:20260127T023957Z
UID:16879-1774382400-1774395000@southsoundblues.org
SUMMARY:Cory Wilds Band Tuesday open Jam Night at Elmer’s Bar and Grill
DESCRIPTION:Cory Wilds Band Tuesday open Jam Night at Elmer’s Bar and Grill\, 8-11:30 pm
URL:https://southsoundblues.org/event/cory-wilds-band-tuesday-open-jam-night-at-elmers-bar-and-grill-45/
LOCATION:Elmer’s Bar & Grill\, 15027 Ambaum Blvd SW\, Burien\, WA\, 98166
CATEGORIES:Local South Sound Blues
END:VEVENT
BEGIN:VEVENT
DTSTART;TZID=America/Los_Angeles:20260322T190000
DTEND;TZID=America/Los_Angeles:20260322T220000
DTSTAMP:20260422T213154
CREATED:20251117T015537Z
LAST-MODIFIED:20260321T233859Z
UID:16566-1774206000-1774216800@southsoundblues.org
SUMMARY:Sunday Blues at the Spar with the Chris Stevens Band
DESCRIPTION:Sunday Blues at the Spar with the CHRIS STEVENS BAND\, 7-10 pm
URL:https://southsoundblues.org/event/sunday-blues-at-the-spar-52/
LOCATION:The Spar\, 2121 N 30th St\, Tacoma\, WA\, 98403
CATEGORIES:Local South Sound Blues
END:VEVENT
BEGIN:VEVENT
DTSTART;TZID=America/Los_Angeles:20260322T170000
DTEND;TZID=America/Los_Angeles:20260322T183000
DTSTAMP:20260422T213154
CREATED:20260107T213603Z
LAST-MODIFIED:20260107T213603Z
UID:16722-1774198800-1774204200@southsoundblues.org
SUMMARY:Blues Vespers at the Kilworth Memorial Chapel featuring The Doug Lynn Band -reunion
DESCRIPTION:Blues Vespers: a concert with a poem and something to think about. 5:00 Kilworth Chapel at the University of Puget Sound March 22nd featuring The Doug Lynn Band reunion!
URL:https://southsoundblues.org/event/blues-vespers-at-the-kilworth-memorial-chapel-featuring-the-doug-lynn-band-reunion/
LOCATION:Kilworth Memorial Chapel\, 3410 N 18th St\, Tacoma\, WA\, 98416
CATEGORIES:Local South Sound Blues
END:VEVENT
BEGIN:VEVENT
DTSTART;TZID=America/Los_Angeles:20260321T200000
DTEND;TZID=America/Los_Angeles:20260321T230000
DTSTAMP:20260422T213154
CREATED:20260227T220025Z
LAST-MODIFIED:20260227T220025Z
UID:17127-1774123200-1774134000@southsoundblues.org
SUMMARY:Jill Newman Band at the Salmon Bay Eagles
DESCRIPTION:Jill Newman Band at the Salmon Bay Eagles\n\nMarch 21 @ 8:00 pm PDT\n\n\n\n\nBlues sensation! Top 20 Toronto Blues Pick\, international radio darling. Soulful originals from “Little Bit of Luck” album. High-energy blues that’ll make you move and groove!
URL:https://southsoundblues.org/event/jill-newman-band-at-the-salmon-bay-eagles/
LOCATION:Salmon Bay Eagles\, 5216 20th Ave NW\, Seattle\, WA\, 98107
CATEGORIES:Local South Sound Blues
END:VEVENT
BEGIN:VEVENT
DTSTART;TZID=America/Los_Angeles:20260320T200000
DTEND;TZID=America/Los_Angeles:20260320T230000
DTSTAMP:20260422T213154
CREATED:20260227T215334Z
LAST-MODIFIED:20260227T215334Z
UID:17123-1774036800-1774047600@southsoundblues.org
SUMMARY:Rod Cook & Toast at the Salmon Bay Eagles
DESCRIPTION:Rod Cook & Toast at the Salmon Bay Eagles\n\nMarch 20 @ 8:00 pm PDT\n\n\n\n\nPacific NW veterans (25+ years) playing eclectic American roots/blues. Features Rod Cook (guitar/vocals)\, Jon Bayless (bass/vocals) and Chris Leighton (drums) – all respected Northwest music scene fixtures. \n Rod Cook
URL:https://southsoundblues.org/event/rod-cook-toast-at-the-salmon-bay-eagles/
LOCATION:Salmon Bay Eagles\, 5216 20th Ave NW\, Seattle\, WA\, 98107
CATEGORIES:Local South Sound Blues
END:VEVENT
BEGIN:VEVENT
DTSTART;TZID=America/Los_Angeles:20260319T200000
DTEND;TZID=America/Los_Angeles:20260319T230000
DTSTAMP:20260422T213154
CREATED:20260227T214915Z
LAST-MODIFIED:20260227T214915Z
UID:17121-1773950400-1773961200@southsoundblues.org
SUMMARY:Joel Astley at the Salmon Bay Eagles\, Harmonica Extravaganza!
DESCRIPTION:Joel Astley at the Salmon Bay Eagles\, Pacific Northwest harmonica Extravaganza! Starting at 8pm \nJoel Astley\, Joe Cook\, and Jonathan Pitman unleash searing harmonica magic\, backed by a killer rhythm section. Prepare for a night of raw\, electrifying blues that’ll shake your soul!
URL:https://southsoundblues.org/event/joel-astley-at-the-salmon-bay-eagles-harmonica-extravaganza/
LOCATION:Salmon Bay Eagles\, 5216 20th Ave NW\, Seattle\, WA\, 98107
CATEGORIES:Local South Sound Blues
END:VEVENT
BEGIN:VEVENT
DTSTART;TZID=America/Los_Angeles:20260319T190000
DTEND;TZID=America/Los_Angeles:20260319T220000
DTSTAMP:20260422T213154
CREATED:20260127T032707Z
LAST-MODIFIED:20260127T032707Z
UID:16892-1773946800-1773957600@southsoundblues.org
SUMMARY:Creole Soul Open Mic Jam Night every Thursday\, Des Moines
DESCRIPTION:Creole Soul Open Mic Jam Night every Thursday\, Des Moines\, 7pm\nRock the mic\, beat the skins\, and spank the plank—\nThursdays at 7 PM in Des Moines\, WA\, with host The Busby Band.\nFull backline provided.\n22341 Marine View Drive South\, Des Moines\, Washington 98198
URL:https://southsoundblues.org/event/creole-soul-open-mic-jam-night-every-thursday-des-moines-3/
LOCATION:Creole Soul\, 22341 Marine View Drive\, Des Moines\, WA\, 98198
CATEGORIES:Local South Sound Blues
END:VEVENT
BEGIN:VEVENT
DTSTART;TZID=America/Los_Angeles:20260317T190000
DTEND;TZID=America/Los_Angeles:20260317T220000
DTSTAMP:20260422T213154
CREATED:20260127T024202Z
LAST-MODIFIED:20260127T024202Z
UID:16881-1773774000-1773784800@southsoundblues.org
SUMMARY:Jam every Tuesday at Brother Don’s Bar & Grill with the Tim Hall band
DESCRIPTION:Jam every Tuesday at Brother Don’s Bar & Grill with the Tim Hall band 7-10 pm
URL:https://southsoundblues.org/event/jam-every-tuesday-at-brother-dons-bar-grill-with-the-tim-hall-band-28/
LOCATION:Brother Don’s Bar & Grill\, 4200 Kitsap Way\, Bremerton\, WA\, 98312
CATEGORIES:Local South Sound Blues
END:VEVENT
BEGIN:VEVENT
DTSTART;TZID=America/Los_Angeles:20260316T170000
DTEND;TZID=America/Los_Angeles:20260316T190000
DTSTAMP:20260422T213154
CREATED:20260312T062313Z
LAST-MODIFIED:20260312T062331Z
UID:17305-1773680400-1773687600@southsoundblues.org
SUMMARY:Maxwell street all stars Blues Jam 2nd & 3rd Mondays at Echoes Brewing\, Poulsbo
DESCRIPTION:Maxwell street all stars Blues Jam 2nd and 3rd Mondays at Echoes Brewing\, Poulsbo\, 5-7 pm hosted by the “Maxwell Street All-Stars!\n\nEchoes Brewing\, 19479 Viking Ave NW\, Poulsbo\, WA 98370  \n  \n\n\n\n \n  \n  \n  \n  \n  \n  \n 
URL:https://southsoundblues.org/event/maxwell-street-all-stars-blues-jam-2nd-3rd-mondays-at-echoes-brewing-poulsbo/
LOCATION:Echoes Brewing\, 19479 Viking Ave NW\, Poulsbo\, WA\, 98370
CATEGORIES:Local South Sound Blues
END:VEVENT
END:VCALENDAR