BEGIN:VCALENDAR
VERSION:2.0
PRODID:-//South Sound Blues Association - ECPv6.15.18//NONSGML v1.0//EN
CALSCALE:GREGORIAN
METHOD:PUBLISH
X-WR-CALNAME:South Sound Blues Association
X-ORIGINAL-URL:https://southsoundblues.org
X-WR-CALDESC:Events for South Sound Blues Association
REFRESH-INTERVAL;VALUE=DURATION:PT1H
X-Robots-Tag:noindex
X-PUBLISHED-TTL:PT1H
BEGIN:VTIMEZONE
TZID:America/Los_Angeles
BEGIN:DAYLIGHT
TZOFFSETFROM:-0800
TZOFFSETTO:-0700
TZNAME:PDT
DTSTART:20240310T100000
END:DAYLIGHT
BEGIN:STANDARD
TZOFFSETFROM:-0700
TZOFFSETTO:-0800
TZNAME:PST
DTSTART:20241103T090000
END:STANDARD
BEGIN:DAYLIGHT
TZOFFSETFROM:-0800
TZOFFSETTO:-0700
TZNAME:PDT
DTSTART:20250309T100000
END:DAYLIGHT
BEGIN:STANDARD
TZOFFSETFROM:-0700
TZOFFSETTO:-0800
TZNAME:PST
DTSTART:20251102T090000
END:STANDARD
BEGIN:DAYLIGHT
TZOFFSETFROM:-0800
TZOFFSETTO:-0700
TZNAME:PDT
DTSTART:20260308T100000
END:DAYLIGHT
BEGIN:STANDARD
TZOFFSETFROM:-0700
TZOFFSETTO:-0800
TZNAME:PST
DTSTART:20261101T090000
END:STANDARD
END:VTIMEZONE
BEGIN:VEVENT
DTSTART;TZID=America/Los_Angeles:20250718T200000
DTEND;TZID=America/Los_Angeles:20250718T230000
DTSTAMP:20260423T081852
CREATED:20250524T013243Z
LAST-MODIFIED:20250524T013243Z
UID:14913-1752868800-1752879600@southsoundblues.org
SUMMARY:Cory Wilds Band at JP's Barroom\, Renton
DESCRIPTION:Cory Wilds Band at JP’s Barroom\, July 18th\, 8-11 pm\n  \n  \nLocation: JP’s Barroom\, 214 Williams Ave S\, Renton\, WA 98057\, USA
URL:https://southsoundblues.org/event/cory-wilds-band-at-jps-barroom-renton/
LOCATION:JP’s Barroom\, 214 Williams Ave S\, Renton\, WA\, 98057
CATEGORIES:Local South Sound Blues
END:VEVENT
BEGIN:VEVENT
DTSTART;TZID=America/Los_Angeles:20250719T190000
DTEND;TZID=America/Los_Angeles:20250719T220000
DTSTAMP:20260423T081852
CREATED:20250618T010248Z
LAST-MODIFIED:20250618T010248Z
UID:15235-1752951600-1752962400@southsoundblues.org
SUMMARY:Danno Presents Carolyn Wonderland at the Airport Tavern\, Tacoma
DESCRIPTION:Carolyn Wonderland at the Airport Tavern\, July 19th\, 7:00pm\n\n\n\n \nEvent by Danno Presents and Airport Tavern \n\n\n\n\n\n\n\n5406 S. Tacoma Way Tacoma WA 98409\n\n\n\n\n\n\n\n\n\n\n\n\nTickets\nvia See Tickets\n\n\n\n\n\n\n\n\n\n\n\nPublic · Anyone on or off Facebook\n\n\n\n\n\n\n\nCarolyn Wonderland – Live at Airport Tavern Music Hall\nFriday\, July 19\, 2025\nDoors at 6PM | Show at 7PM\nAirport Tavern Music Hall – Tacoma\, WA\nAll Ages | Bar with ID\nTickets: www.airporttavern.com [http://www.airporttavern.com]\nGet ready for a soul-stirring night of blues\, rock\, and roots music as Carolyn Wonderland takes the stage at Airport Tavern Music Hall! Celebrating the release of her powerful new album on Alligator Records\, Carolyn brings her fiery guitar work\, raw vocals\, and unmatched stage presence to Tacoma for one unforgettable night.\nDon’t miss this chance to experience one of the most electrifying performers in contemporary blues live in an intimate setting. Whether you’re a longtime fan or discovering her for the first time\, this is a show that will leave you buzzing.
URL:https://southsoundblues.org/event/danno-presents-carolyn-wonderland-at-the-airport-tavern-tacoma/
LOCATION:Airport Tavern\, 5406 S Tacoma Way\, Tacoma\, WA\, 98409
CATEGORIES:Local South Sound Blues
END:VEVENT
BEGIN:VEVENT
DTSTART;TZID=America/Los_Angeles:20250719T190000
DTEND;TZID=America/Los_Angeles:20250719T220000
DTSTAMP:20260423T081852
CREATED:20250712T193233Z
LAST-MODIFIED:20250712T193233Z
UID:15434-1752951600-1752962400@southsoundblues.org
SUMMARY:CD Woodbury Trio at Johnny's Dock\, Tacoma
DESCRIPTION:CD Woodbury Trio at Johnny’s Dock July 19th\, 7 pm
URL:https://southsoundblues.org/event/cd-woodbury-trio-at-johnnys-dock-tacoma/
LOCATION:Johnny’s Dock\, 1900 E D St\, Tacoma\, WA\, 98421
CATEGORIES:Local South Sound Blues
END:VEVENT
BEGIN:VEVENT
DTSTART;TZID=America/Los_Angeles:20250720T180000
DTEND;TZID=America/Los_Angeles:20250720T210000
DTSTAMP:20260423T081852
CREATED:20250526T211733Z
LAST-MODIFIED:20250526T211733Z
UID:14954-1753034400-1753045200@southsoundblues.org
SUMMARY:Tim Hall Blues Jam every Sunday at Zesty’s Steakhouse
DESCRIPTION:Tim Hall Blues Jam every Sunday at Zesty’s Steakhouse\,  6-9pm
URL:https://southsoundblues.org/event/tim-hall-blues-jam-every-sunday-at-zestys-steakhouse-2/
LOCATION:Zesty’s Cajun Steakhouse\, 9905 Bridgeport Way Southwest\, Lakewood\, WA\, 98499
CATEGORIES:Local South Sound Blues
END:VEVENT
BEGIN:VEVENT
DTSTART;TZID=America/Los_Angeles:20250720T190000
DTEND;TZID=America/Los_Angeles:20250720T220000
DTSTAMP:20260423T081852
CREATED:20250524T015624Z
LAST-MODIFIED:20250611T224909Z
UID:14923-1753038000-1753048800@southsoundblues.org
SUMMARY:Sunday Blues at the Spar with Annie Eastwood & Her All-Star Band\, Featuring Billy Stapleton
DESCRIPTION:Sunday Blues at the Spar July 20th\, 7-10pm with Annie Eastwood & Her All-Star Band\, Featuring Billy Stapleton
URL:https://southsoundblues.org/event/sunday-blues-at-the-spar-22/
LOCATION:WA
CATEGORIES:Local South Sound Blues
END:VEVENT
BEGIN:VEVENT
DTSTART;TZID=America/Los_Angeles:20250721T200000
DTEND;TZID=America/Los_Angeles:20250721T220000
DTSTAMP:20260423T081852
CREATED:20250526T205820Z
LAST-MODIFIED:20250526T205820Z
UID:14948-1753128000-1753135200@southsoundblues.org
SUMMARY:Mike Witmer hosts “Mojo Mike’s Blues Revue” every Monday on KVSH 101.9 FM
DESCRIPTION:Mike Witmer hosts “Mojo Mike’s Blues Revue” every Monday on KVSH 101.9 FM\, 8-10 pm
URL:https://southsoundblues.org/event/mike-witmer-hosts-mojo-mikes-blues-revue-every-monday-on-kvsh-101-9-fm-39/
LOCATION:KVSH\, 17643 Vashon Hwy SW\, Vashon Island\, WA\, 98070
CATEGORIES:Local South Sound Blues
END:VEVENT
BEGIN:VEVENT
DTSTART;TZID=America/Los_Angeles:20250723T183000
DTEND;TZID=America/Los_Angeles:20250723T203000
DTSTAMP:20260423T081852
CREATED:20250629T001303Z
LAST-MODIFIED:20250629T001741Z
UID:15293-1753295400-1753302600@southsoundblues.org
SUMMARY:Kim Archer Band at the Old Town Concert Series\, Tacoma
DESCRIPTION:Kim Archer Band at the Old Town Concert Series July 23rd\, 6:30 pm
URL:https://southsoundblues.org/event/kim-archer-band-at-the-old-town-concert-series-tacoma/
LOCATION:Old Town Park\, 2350 N 30th St\, Tacoma\, WA\, 98403\, United States
CATEGORIES:Local South Sound Blues
END:VEVENT
BEGIN:VEVENT
DTSTART;TZID=America/Los_Angeles:20250724T170000
DTEND;TZID=America/Los_Angeles:20250724T190000
DTSTAMP:20260423T081852
CREATED:20250501T002218Z
LAST-MODIFIED:20250501T002218Z
UID:14751-1753376400-1753383600@southsoundblues.org
SUMMARY:Billy Stoops & the Dirt Angels at Cockrell Cider Farm\, Puyallup
DESCRIPTION:Billy Stoops & the Dirt Angels at Cockrell Cider Farm\, July 24th\, 5-7 pm
URL:https://southsoundblues.org/event/billy-stoops-the-dirt-angels-at-cockrell-cider-farm-puyallup/
LOCATION:COCKRELL FARMS\, 6613 114TH AVE CT E\, PUYALLUP\, WA\, 98372
CATEGORIES:Local South Sound Blues
END:VEVENT
BEGIN:VEVENT
DTSTART;TZID=America/Los_Angeles:20250724T183000
DTEND;TZID=America/Los_Angeles:20250724T200000
DTSTAMP:20260423T081852
CREATED:20250721T220719Z
LAST-MODIFIED:20250721T220719Z
UID:15530-1753381800-1753387200@southsoundblues.org
SUMMARY:Billy Shew Trio at Dupont Clocktower Park\, Dupont
DESCRIPTION:Billy Shew Trio at Dupont Clocktower Park July 24th\, 6:30 pm\n Billy Shew \nClocktower Park\n1375 Thompson Cir\, Dupont\, WA 98327 
URL:https://southsoundblues.org/event/billy-shew-trio-at-dupont-clocktower-park-dupont/
LOCATION:DuPont Clocktower Park\, 1375 Thompson Cir\, Dupont\, WA\, 98327
CATEGORIES:Local South Sound Blues
END:VEVENT
BEGIN:VEVENT
DTSTART;TZID=America/Los_Angeles:20250725T180000
DTEND;TZID=America/Los_Angeles:20250725T210000
DTSTAMP:20260423T081852
CREATED:20250524T014344Z
LAST-MODIFIED:20250524T014344Z
UID:14915-1753466400-1753477200@southsoundblues.org
SUMMARY:Cory Wilds band at the Casting Iron\, Enumclaw
DESCRIPTION:Cory Wilds band at the Casting Iron July 25th\, 6-9pm\n\n  \nLocation: Casting Iron\, 1444 Cole St\, Enumclaw\, WA 98022\, USA\nhttps://www.facebook.com/castingironaxes/
URL:https://southsoundblues.org/event/cory-wilds-band-at-the-casting-iron-enumclaw/
LOCATION:Casting Iron\, 1444 Cole St\, Enumclaw\, WA\, 98022
CATEGORIES:Local South Sound Blues
END:VEVENT
BEGIN:VEVENT
DTSTART;TZID=America/Los_Angeles:20250726T173000
DTEND;TZID=America/Los_Angeles:20250726T203000
DTSTAMP:20260423T081852
CREATED:20250409T003532Z
LAST-MODIFIED:20250520T150545Z
UID:14620-1753551000-1753561800@southsoundblues.org
SUMMARY:Mark Dufresne Band\, featuring Billy Stapleton also\, the Blue Healers at the Johnson Farm on Anderson Island
DESCRIPTION:Mark Dufresne Band\, featuring Billy Stapleton\, also\, the Blue Healers at the Johnson Farm on Anderson Island July 26th\, 5:30 pm\n   
URL:https://southsoundblues.org/event/mark-dufresne-band-featuring-billy-stapleton-at-the-johnson-farm-on-anderson-island/
LOCATION:Johnson Farm Archival Building\, 9306 Otso Point Rd\, Anderson Island\, WA\, 98303
CATEGORIES:Featured,Local South Sound Blues,Special Event
END:VEVENT
BEGIN:VEVENT
DTSTART;TZID=America/Los_Angeles:20250726T200000
DTEND;TZID=America/Los_Angeles:20250726T230000
DTSTAMP:20260423T081852
CREATED:20250611T225745Z
LAST-MODIFIED:20250611T225745Z
UID:15107-1753560000-1753570800@southsoundblues.org
SUMMARY:Kimball & The Fugitives with Annie Eastwood at Rock the Dock Pub\, Tacoma
DESCRIPTION:Kimball & The Fugitives with Annie Eastwood at Rock the Dock Pub\, Tacoma\, Saturday July 26th\, 8pm to 11pm
URL:https://southsoundblues.org/event/kimball-the-fugitives-with-annie-eastwood-at-rock-the-dock-pub-tacoma/
LOCATION:Rock the Dock\, 535 Dock St # 118\, Tacoma\, WA\, 98402
CATEGORIES:Local South Sound Blues
END:VEVENT
BEGIN:VEVENT
DTSTART;TZID=America/Los_Angeles:20250727T120000
DTEND;TZID=America/Los_Angeles:20250727T130000
DTSTAMP:20260423T081852
CREATED:20250524T014947Z
LAST-MODIFIED:20250524T014947Z
UID:14918-1753617600-1753621200@southsoundblues.org
SUMMARY:Cory Wilds band at Renton River Days-Liberty Park
DESCRIPTION:Cory Wilds band at Renton River Days\, July 27th\,  noon -1pm\n\n  \nLocation: Liberty Park\, 1101 Bronson Way N\, Renton\, WA 98057\, USA
URL:https://southsoundblues.org/event/cory-wilds-band-at-renton-river-days-liberty-park/
LOCATION:Liberty Park\, Renton\, 1101 Bronson Way N\, Renton\, WA\, 98057
CATEGORIES:Local South Sound Blues
END:VEVENT
BEGIN:VEVENT
DTSTART;TZID=America/Los_Angeles:20250727T190000
DTEND;TZID=America/Los_Angeles:20250727T220000
DTSTAMP:20260423T081852
CREATED:20250524T015849Z
LAST-MODIFIED:20250715T005505Z
UID:14925-1753642800-1753653600@southsoundblues.org
SUMMARY:Sunday Blues at the Spar with Blues Redemption
DESCRIPTION:Sunday Blues at the Spar July 27th\, 7-10 pm
URL:https://southsoundblues.org/event/sunday-blues-at-the-spar-23/
LOCATION:The Spar\, 2121 N 30th St\, Tacoma\, WA\, 98403
CATEGORIES:Local South Sound Blues
END:VEVENT
BEGIN:VEVENT
DTSTART;TZID=America/Los_Angeles:20250727T190000
DTEND;TZID=America/Los_Angeles:20250727T230000
DTSTAMP:20260423T081852
CREATED:20250612T195717Z
LAST-MODIFIED:20250612T195717Z
UID:15129-1753642800-1753657200@southsoundblues.org
SUMMARY:Billy Shew Blues Jam\, every Sunday at Dawson’s
DESCRIPTION:Billy Shew Blues Jam\, every Sunday at Dawson’s\, 7-11 pm
URL:https://southsoundblues.org/event/billy-shew-blues-jam-every-sunday-at-dawsons-44/
LOCATION:Dawson’s Bar & Grill\, 5443 South Tacoma Way\, Tacoma\, WA\, 98409
CATEGORIES:Local South Sound Blues
END:VEVENT
BEGIN:VEVENT
DTSTART;TZID=America/Los_Angeles:20250729T190000
DTEND;TZID=America/Los_Angeles:20250729T210000
DTSTAMP:20260423T081852
CREATED:20250617T232425Z
LAST-MODIFIED:20250617T232425Z
UID:15207-1753815600-1753822800@southsoundblues.org
SUMMARY:Georges BLT Tuesday Night Open Mic night hosted by Slim Wizzy & Friends
DESCRIPTION:Georges BLT Tuesday Night Open Mic night hosted by Slim Wizzy & Friends 7:00pm – 9:00pm \n\n\n\n\n\nGeorge’s Bonney Lake Tavern\, 18212 WA-410\, Bonney Lake\, WA 98391\n\n\n \nGe
URL:https://southsoundblues.org/event/georges-blt-tuesday-night-open-mic-night-hosted-by-slim-wizzy-friends/
LOCATION:George’s BLT\, 18212 HWY 410 E\, Bonney Lake\, WA\, 98391
CATEGORIES:Local South Sound Blues
END:VEVENT
BEGIN:VEVENT
DTSTART;TZID=America/Los_Angeles:20250729T190000
DTEND;TZID=America/Los_Angeles:20250729T220000
DTSTAMP:20260423T081852
CREATED:20250526T210811Z
LAST-MODIFIED:20250526T210811Z
UID:14950-1753815600-1753826400@southsoundblues.org
SUMMARY:Jam every Tuesday at Brother Don’s Bar & Grill with the Tim Hall band
DESCRIPTION:Jam every Tuesday at Brother Don’s Bar & Grill with the Tim Hall band\, 7-10 pm.
URL:https://southsoundblues.org/event/jam-every-tuesday-at-brother-dons-bar-grill-with-the-tim-hall-band-16/
LOCATION:Brother Don’s Bar & Grill\, 4200 Kitsap Way\, Bremerton\, WA\, 98312
CATEGORIES:Local South Sound Blues
END:VEVENT
BEGIN:VEVENT
DTSTART;TZID=America/Los_Angeles:20250730T180000
DTEND;TZID=America/Los_Angeles:20250730T200000
DTSTAMP:20260423T081852
CREATED:20250617T231636Z
LAST-MODIFIED:20250617T231636Z
UID:15205-1753898400-1753905600@southsoundblues.org
SUMMARY:The Mark Dufresne Band at University Place Music on the Square
DESCRIPTION:The Mark Dufresne Band at University Place Music on the Square\n\nWednesday July 30th\,  6:00pm – 8:00pm\, Marketplace Square\, 3609 Market Place West\, University Place\, WA 98466
URL:https://southsoundblues.org/event/the-mark-dufresne-band-at-university-place-music-on-the-square/
LOCATION:University place Market Square\, 3609 Market Pl W\, University Place\, WA\, 98466
CATEGORIES:Local South Sound Blues
END:VEVENT
BEGIN:VEVENT
DTSTART;TZID=America/Los_Angeles:20250730T183000
DTEND;TZID=America/Los_Angeles:20250730T203000
DTSTAMP:20260423T081852
CREATED:20250723T221251Z
LAST-MODIFIED:20250723T221251Z
UID:15543-1753900200-1753907400@southsoundblues.org
SUMMARY:Rob Tudor & Dave McKibbon at the TK Irish Pub\, Puyallup
DESCRIPTION:Rob Tudor & Dave McKibbon at the TK Irish Pub July 30th\, 6:30-8:30 pm
URL:https://southsoundblues.org/event/rob-tudor-dave-mckibbon-at-the-tk-irish-pub-puyallup/
LOCATION:Twisted Kilt\, 109 S Meridian\, Puyallup\, WA\, 98371
CATEGORIES:Local South Sound Blues
END:VEVENT
BEGIN:VEVENT
DTSTART;TZID=America/Los_Angeles:20250731T183000
DTEND;TZID=America/Los_Angeles:20250731T200000
DTSTAMP:20260423T081852
CREATED:20250721T205927Z
LAST-MODIFIED:20250721T205927Z
UID:15522-1753986600-1753992000@southsoundblues.org
SUMMARY:Joel Astley Birthday Bash at Curran Apple Orchard\, University Place
DESCRIPTION:Joel Astley Birthday Bash at Curran Apple Orchard July 31st\, 6:30 -8:00 pm\n Joel Astley \n  \nJoin us at the Curran Apple Orchard Summer Concerts starting in July 2025. Pack a picnic dinner and enjoy these free Thursday evening performances from 6:30 pm to 8pm at the Curran Apple Orchard (3920 Grandview Drive W.).
URL:https://southsoundblues.org/event/joel-astley-birthday-bash-at-curran-apple-orchard-university-place/
LOCATION:Curran Apple Orchard\, 3920 Grandview Dr W\, University Place\, WA\, 98466
CATEGORIES:Local South Sound Blues
END:VEVENT
BEGIN:VEVENT
DTSTART;TZID=America/Los_Angeles:20250801T180000
DTEND;TZID=America/Los_Angeles:20250801T200000
DTSTAMP:20260423T081852
CREATED:20250726T232300Z
LAST-MODIFIED:20250726T232300Z
UID:15560-1754071200-1754078400@southsoundblues.org
SUMMARY:Tim Hall Band at the Eatonville Art & Music Festival
DESCRIPTION:Tim Hall Band at the Eatonville Art & Music Festival\, Friday August 1st from 6 to 8pm!
URL:https://southsoundblues.org/event/tim-hall-band-at-the-eatonville-art-music-festival/
LOCATION:Glacier Park Eatonville\, 209 Fir Ave\, Eatonville\, WA\, 98328
CATEGORIES:Local South Sound Blues
END:VEVENT
BEGIN:VEVENT
DTSTART;TZID=America/Los_Angeles:20250801T203000
DTEND;TZID=America/Los_Angeles:20250801T220000
DTSTAMP:20260423T081852
CREATED:20250721T205226Z
LAST-MODIFIED:20250721T205226Z
UID:15520-1754080200-1754085600@southsoundblues.org
SUMMARY:Joel Astley Band at Bake's Place
DESCRIPTION:Joel Astley Band at Bake’s Place August 1st\, 8:30 pm
URL:https://southsoundblues.org/event/joel-astley-band-at-bakes-place/
LOCATION:WA
CATEGORIES:Local South Sound Blues
END:VEVENT
BEGIN:VEVENT
DTSTART;VALUE=DATE:20250802
DTEND;VALUE=DATE:20250804
DTSTAMP:20260423T081853
CREATED:20250220T211054Z
LAST-MODIFIED:20250606T234039Z
UID:14362-1754100000-1754186399@southsoundblues.org
SUMMARY:Rainier Music Festival\, Ashford County Park Amphitheater
DESCRIPTION:Rainier Music Festival\, Ashford County Park Amphitheater August 2nd\, 11:00 to 9:00pm\nThe mountain is out! Meet us at Ashford County Park Amphitheater\, nestled at the foot of Mt. Rainier\, for an unforgettable day of music\, art\, camping and community. Rainier Music Festival is Aug. 2nd. Get your tickets now!\nTickets · RV/Tent Camping:https://www.brownpapertickets.com/event/6567654\n\n\n\nMeet the bands lighting up the stage at #RainierMusicFestival on Aug. 2!\n\n\nRae Gordon Band · Soul / Gospel\n\n\nGreat American Trainwreck · Americana / Bluegrass / Southern Rock\n\n\nCoyote Kings with Tiphony Dames · Funk / Blues / Rock\n\n\nThe Selassie Ites · Rock / Roots / Reggae\n\n\nThe Cory Wilds Band · Rock / Blues / Jazz\n\n\nAmelia Day · Folk / Rock\n\n\nHosted by Leanne Trevalyan\n\n\nGrab your tickets at the link in bio!\n\n\nRainier Music Festival · Celebrating 5 Years:· Live Music· Food Trucks· Beer Garden· Craft Vendors· RV & Tent Camping· Outdoor Activities\nBasic Info:· Aug. 2\, 2025· 12:00PM· All Ages Admitted (Free Admission for 17 & Under)· Dog-Friendly· RV & Tent Camping Available\nLocation:Ashford County Park29801 WA-706Ashford\, WA 98304\nThank You to Our Sponsors:· Sobie Sounds Northwest· Whittaker’s Bunkhouse· Oak Barrel Tasting Room· South Sound Blues Association\nFor sponsorship opportunities please email rock@rainiermusicfestival.com
URL:https://southsoundblues.org/event/rainier-music-festival-ashford-county-park-amphitheater/
LOCATION:Ashford County Park\, 29801 SR706\, Ashford\, WA\, 98304
CATEGORIES:Festival,Local South Sound Blues
END:VEVENT
BEGIN:VEVENT
DTSTART;TZID=America/Los_Angeles:20250802T190000
DTEND;TZID=America/Los_Angeles:20250802T213000
DTSTAMP:20260423T081853
CREATED:20250731T235624Z
LAST-MODIFIED:20250731T235624Z
UID:15597-1754161200-1754170200@southsoundblues.org
SUMMARY:Brian Feist Duo at the Lake City Pub
DESCRIPTION:Brian Feist Duo at the Lake City Pub August 2nd\, 7-9:30 pm\n 
URL:https://southsoundblues.org/event/brian-feist-duo-at-the-lake-city-pub/
LOCATION:Lake City Pub\, 9106 Veterans Dr\, Lakewood\, WA\, 98498
CATEGORIES:Local South Sound Blues
END:VEVENT
BEGIN:VEVENT
DTSTART;TZID=America/Los_Angeles:20250802T190000
DTEND;TZID=America/Los_Angeles:20250802T220000
DTSTAMP:20260423T081853
CREATED:20250730T215516Z
LAST-MODIFIED:20250730T215516Z
UID:15575-1754161200-1754172000@southsoundblues.org
SUMMARY:Nick Santangelo & The Mistaken at Johnny's Dock\, Tacoma
DESCRIPTION:Nick Santangelo & The Mistaken at Johnny’s Dock August 2nd 7-10 pm\n 
URL:https://southsoundblues.org/event/nick-santangelo-the-mistaken-at-johnnys-dock-tacoma/
LOCATION:Johnny’s Dock\, 1900 E D St\, Tacoma\, WA\, 98421
CATEGORIES:Local South Sound Blues
END:VEVENT
BEGIN:VEVENT
DTSTART;TZID=America/Los_Angeles:20250802T200000
DTEND;TZID=America/Los_Angeles:20250802T233000
DTSTAMP:20260423T081853
CREATED:20250620T010043Z
LAST-MODIFIED:20250620T010137Z
UID:15257-1754164800-1754177400@southsoundblues.org
SUMMARY:The McPage & Powell Band celebrate Mary’s Birthday Bash at Engel’s Pub!
DESCRIPTION:McPage & Powell Band at Engel’s Pub August 2nd\, 8pm
URL:https://southsoundblues.org/event/the-mcpage-powell-band-celebrate-marys-birthday-bash-at-engels-pub/
LOCATION:Engels Pub\, 113 5th Ave S\, Edmonds\, WA\, 98020
CATEGORIES:Local South Sound Blues
END:VEVENT
BEGIN:VEVENT
DTSTART;TZID=America/Los_Angeles:20250802T203000
DTEND;TZID=America/Los_Angeles:20250802T220000
DTSTAMP:20260423T081853
CREATED:20250710T205007Z
LAST-MODIFIED:20250710T205007Z
UID:15408-1754166600-1754172000@southsoundblues.org
SUMMARY:Annie Eastwood & Her All-Star Band Featuring Billy Stapleton at Bake’s Place\, Bellevue 
DESCRIPTION:Annie Eastwood & Her All-Star Band Featuring Billy Stapleton \nBake’s Place\,  Saturday August 2nd\, 8:30pm to 10pm
URL:https://southsoundblues.org/event/annie-eastwood-her-all-star-band-featuring-billy-stapleton-at-bakes-place-bellevue/
LOCATION:Bake’s Place\, 155 108th Ave NE Ste 110\, Bellevue\, WA\, 98004
CATEGORIES:Local South Sound Blues
END:VEVENT
BEGIN:VEVENT
DTSTART;TZID=America/Los_Angeles:20250803T180000
DTEND;TZID=America/Los_Angeles:20250803T210000
DTSTAMP:20260423T081853
CREATED:20250617T223523Z
LAST-MODIFIED:20250617T223659Z
UID:15190-1754244000-1754254800@southsoundblues.org
SUMMARY:Tim Hall Blues Jam every Sunday at Zesty’s Steakhouse
DESCRIPTION:Tim Hall Blues Jam every Sunday at Zesty’s Steakhouse\, 6-9pm
URL:https://southsoundblues.org/event/tim-hall-blues-jam-every-sunday-at-zestys-steakhouse-4/
LOCATION:Zesty’s Cajun Steakhouse\, 9905 Bridgeport Way Southwest\, Lakewood\, WA\, 98499
CATEGORIES:Local South Sound Blues
END:VEVENT
BEGIN:VEVENT
DTSTART;TZID=America/Los_Angeles:20250803T190000
DTEND;TZID=America/Los_Angeles:20250803T220000
DTSTAMP:20260423T081853
CREATED:20250607T223006Z
LAST-MODIFIED:20250719T000642Z
UID:14998-1754247600-1754258400@southsoundblues.org
SUMMARY:Sunday Blues at the Spar with LTD spotlight series- "Blues lady" Eden Brent
DESCRIPTION:Sunday Blues at the Spar 7-10 pm\nLTD Presents: Blues lady Eden Brent is a piano-pounding\, juke-joint hollering powerhouse of American music. A legendary performer and southern songwriter\, she spent the first two decades of her career under the tutelage of Abie “Boogaloo” Ames\, before winning The International Blues Challenge and bouncing onto the global music scene. \nSince winning The Blues Foundation’s Challenge she lands steady honors\, three Blues Music Awards among them. Her new album Getaway Blues presents nine original songs recorded in London with a four-piece band. Laid down in London. Mixed up in Memphis. Made in Mississippi. \nhttps://www.edenbrent.com/biography \n 
URL:https://southsoundblues.org/event/sunday-blues-at-the-spar-25/
LOCATION:The Spar\, 2121 N 30th St\, Tacoma\, WA\, 98403
CATEGORIES:Local South Sound Blues,Special Event
END:VEVENT
BEGIN:VEVENT
DTSTART;TZID=America/Los_Angeles:20250803T190000
DTEND;TZID=America/Los_Angeles:20250803T220000
DTSTAMP:20260423T081853
CREATED:20250723T214515Z
LAST-MODIFIED:20250723T214515Z
UID:15539-1754247600-1754258400@southsoundblues.org
SUMMARY:George Thorogood at the Emerald Queen Casino\, Tacoma
DESCRIPTION:George Thorogood at the Emerald Queen Casino August 3rd\, 7pm\n  \nhttps://www.ticketsales.com/emerald-queen-casino-tickets/venue?utm_source=bing&utm_medium=cpc&utm_campaign=438335306&utm_network=HCTest&msclkid=7d351033e3ea1de1c90578b2b55697c8 \n 
URL:https://southsoundblues.org/event/george-thorogood-at-the-emerald-queen-casino-tacoma/
LOCATION:Emerald Queen Casino & Hotel\, 2920 East R Street\, Tacoma\, WA\, 98404
CATEGORIES:Local South Sound Blues
END:VEVENT
END:VCALENDAR