BEGIN:VCALENDAR
VERSION:2.0
PRODID:-//South Sound Blues Association - ECPv6.15.18//NONSGML v1.0//EN
CALSCALE:GREGORIAN
METHOD:PUBLISH
X-ORIGINAL-URL:https://southsoundblues.org
X-WR-CALDESC:Events for South Sound Blues Association
REFRESH-INTERVAL;VALUE=DURATION:PT1H
X-Robots-Tag:noindex
X-PUBLISHED-TTL:PT1H
BEGIN:VTIMEZONE
TZID:America/Los_Angeles
BEGIN:DAYLIGHT
TZOFFSETFROM:-0800
TZOFFSETTO:-0700
TZNAME:PDT
DTSTART:20230312T100000
END:DAYLIGHT
BEGIN:STANDARD
TZOFFSETFROM:-0700
TZOFFSETTO:-0800
TZNAME:PST
DTSTART:20231105T090000
END:STANDARD
BEGIN:DAYLIGHT
TZOFFSETFROM:-0800
TZOFFSETTO:-0700
TZNAME:PDT
DTSTART:20240310T100000
END:DAYLIGHT
BEGIN:STANDARD
TZOFFSETFROM:-0700
TZOFFSETTO:-0800
TZNAME:PST
DTSTART:20241103T090000
END:STANDARD
BEGIN:DAYLIGHT
TZOFFSETFROM:-0800
TZOFFSETTO:-0700
TZNAME:PDT
DTSTART:20250309T100000
END:DAYLIGHT
BEGIN:STANDARD
TZOFFSETFROM:-0700
TZOFFSETTO:-0800
TZNAME:PST
DTSTART:20251102T090000
END:STANDARD
END:VTIMEZONE
BEGIN:VEVENT
DTSTART;TZID=America/Los_Angeles:20240418T190000
DTEND;TZID=America/Los_Angeles:20240418T190000
DTSTAMP:20260424T064837
CREATED:20240313T230602Z
LAST-MODIFIED:20240313T230602Z
UID:12425-1713466800-1713466800@southsoundblues.org
SUMMARY:Marcel Smith with The LTD Band at The Slippery Pig Brewery\, Poulsbo
DESCRIPTION:Apr 18th\, Slippery Pig\, Poulsbo\, LTD Presents & PB&J Present: Marcel Smith with The LTD Band\, 7pm
URL:https://southsoundblues.org/event/marcel-smith-with-the-ltd-band-at-the-slippery-pig-brewery-poulsbo/
LOCATION:Slippery Pig Brewery\, 18801 Front St NE\, Poulsbo\, WA\, 98370
CATEGORIES:Local South Sound Blues
END:VEVENT
BEGIN:VEVENT
DTSTART;TZID=America/Los_Angeles:20240420T200000
DTEND;TZID=America/Los_Angeles:20240420T230000
DTSTAMP:20260424T064837
CREATED:20240403T194045Z
LAST-MODIFIED:20240403T194125Z
UID:12511-1713643200-1713654000@southsoundblues.org
SUMMARY:Groove Colony with Mid-Nite Bourbon at The Valley
DESCRIPTION:Saturday April-20th\, The  Groove Colony with Mid-Nite Bourbon at The Valley\, Tacoma\, 8-11 pm.
URL:https://southsoundblues.org/event/groove-colony-with-mid-nite-bourbon-at-the-valley/
LOCATION:The Valley\, 1206 Puyallup Ave\, Tacoma\, WA\, 98421
CATEGORIES:Local South Sound Blues
END:VEVENT
BEGIN:VEVENT
DTSTART;TZID=America/Los_Angeles:20240421T190000
DTEND;TZID=America/Los_Angeles:20240421T220000
DTSTAMP:20260424T064837
CREATED:20240313T223836Z
LAST-MODIFIED:20240313T223836Z
UID:12408-1713726000-1713736800@southsoundblues.org
SUMMARY:Sunday Blues at The Spar with Kimball & The Fugitives\, featuring Annie Eastwood
DESCRIPTION:Apr 21st\, The Spar\, Kimball & The Fugitives\, featuring Annie Eastwood\, 7-10 pm
URL:https://southsoundblues.org/event/sunday-blues-at-the-spar-with-kimball-the-fugitives-featuring-annie-eastwood/
LOCATION:The Spar\, 2121 N 30th St\, Tacoma\, WA\, 98403
CATEGORIES:Local South Sound Blues
END:VEVENT
BEGIN:VEVENT
DTSTART;TZID=America/Los_Angeles:20240422T180000
DTEND;TZID=America/Los_Angeles:20240422T210000
DTSTAMP:20260424T064837
CREATED:20240307T232745Z
LAST-MODIFIED:20240401T235613Z
UID:12347-1713808800-1713819600@southsoundblues.org
SUMMARY:Monday Jazz at Brother Don’s Bar and Grill
DESCRIPTION:Monday Jazz at Brother Don’s Bar and Grill\, 6-9 pm\, Bremerton\, WA
URL:https://southsoundblues.org/event/monday-jazz-at-brother-dons-bar-and-grill-5/
LOCATION:Brother Don’s Bar & Grill\, 4200 Kitsap Way\, Bremerton\, WA\, 98312
CATEGORIES:Local South Sound Blues
END:VEVENT
BEGIN:VEVENT
DTSTART;TZID=America/Los_Angeles:20240424T183000
DTEND;TZID=America/Los_Angeles:20240424T203000
DTSTAMP:20260424T064837
CREATED:20240402T000428Z
LAST-MODIFIED:20240402T000428Z
UID:12501-1713983400-1713990600@southsoundblues.org
SUMMARY:Billy Stoops with Leanne Trevalyan at the TK Irish Pub\, Puyallup
DESCRIPTION:Billy Stoops with Leanne Trevalyan at the TK Irish Pub\, Puyallup\, April 24th\, 6:30-8:30 pm
URL:https://southsoundblues.org/event/billy-stoops-with-leanne-trevalyan-at-the-tk-irish-pub-puyallup/
LOCATION:Twisted Kilt\, 109 S Meridian\, Puyallup\, WA\, 98371
CATEGORIES:Local South Sound Blues
END:VEVENT
BEGIN:VEVENT
DTSTART;TZID=America/Los_Angeles:20240426T190000
DTEND;TZID=America/Los_Angeles:20240426T210000
DTSTAMP:20260424T064837
CREATED:20240313T225525Z
LAST-MODIFIED:20240313T225525Z
UID:12418-1714158000-1714165200@southsoundblues.org
SUMMARY:Joel Astley Band at Kimball Coffeehouse
DESCRIPTION:Apr 26th\, Kimball Coffeehouse\, Joel Astley Band\, 7-9 pm
URL:https://southsoundblues.org/event/joel-astley-band-at-kimball-coffeehouse/
LOCATION:Kimball’s Coffeehouse\, 6659 Kimball Dr\, Gig Harbor\, WA\, 98335
CATEGORIES:Local South Sound Blues
END:VEVENT
BEGIN:VEVENT
DTSTART;TZID=America/Los_Angeles:20240426T200000
DTEND;TZID=America/Los_Angeles:20240426T200000
DTSTAMP:20260424T064837
CREATED:20240311T212936Z
LAST-MODIFIED:20240311T212936Z
UID:12372-1714161600-1714161600@southsoundblues.org
SUMMARY:King Kom Beaux at Zesty's
DESCRIPTION:King Kom Beaux at Zesty’s Steakhouse\, April 26th\, 8pm.
URL:https://southsoundblues.org/event/king-kom-beaux-at-zestys/
LOCATION:Zesty’s Cajun Steakhouse\, 9905 Bridgeport Way Southwest\, Lakewood\, WA\, 98499
CATEGORIES:Local South Sound Blues
END:VEVENT
BEGIN:VEVENT
DTSTART;TZID=America/Los_Angeles:20240427T200000
DTEND;TZID=America/Los_Angeles:20240427T233000
DTSTAMP:20260424T064837
CREATED:20240125T212230Z
LAST-MODIFIED:20240125T212514Z
UID:12092-1714248000-1714260600@southsoundblues.org
SUMMARY:Suze Sims La Roca Boom at Dawson's
DESCRIPTION:Suze Sims La Roca Boom at Dawson’s April 27th 8-12pm\n  \n 
URL:https://southsoundblues.org/event/suze-sims-la-roca-boom-at-dawsons/
LOCATION:Dawson’s Bar & Grill\, 5443 South Tacoma Way\, Tacoma\, WA\, 98409
CATEGORIES:Local South Sound Blues
END:VEVENT
BEGIN:VEVENT
DTSTART;TZID=America/Los_Angeles:20240428T190000
DTEND;TZID=America/Los_Angeles:20240428T220000
DTSTAMP:20260424T064837
CREATED:20240313T224043Z
LAST-MODIFIED:20240313T224043Z
UID:12410-1714330800-1714341600@southsoundblues.org
SUMMARY:Sunday Blues at The Spar with The Tim Turner Band
DESCRIPTION:Apr 28th\, The Spar\, Tim Turner Band\, 7-10 pm
URL:https://southsoundblues.org/event/sunday-blues-at-the-spar-with-the-tim-turner-band-2/
LOCATION:The Spar\, 2121 N 30th St\, Tacoma\, WA\, 98403
CATEGORIES:Local South Sound Blues
END:VEVENT
BEGIN:VEVENT
DTSTART;TZID=America/Los_Angeles:20240429T160000
DTEND;TZID=America/Los_Angeles:20240429T190000
DTSTAMP:20260424T064837
CREATED:20240430T020507Z
LAST-MODIFIED:20240430T020600Z
UID:12643-1714406400-1714417200@southsoundblues.org
SUMMARY:Billy Stoops & the Dirt Angels at the Urban Elk\, Tacoma
DESCRIPTION:Billy Stoops & the Dirt Angels at the Urban Elk\, Tacoma\,  May 4th\, 4pm\n\n\nUrban Elk Restaurant & Allenmore Event Center\n\n\n\n\n\n\n\n\n\n\n\n\n2013 South Cedar St.\, Tacoma\, WA\, United States\, Washington 98405
URL:https://southsoundblues.org/event/billy-stoops-the-dirt-angels-at-the-urban-elk-tacoma/
LOCATION:Urban Elk\, 2013 S Cedar St\, Tacoma\, WA\, 98405
CATEGORIES:Local South Sound Blues
END:VEVENT
BEGIN:VEVENT
DTSTART;TZID=America/Los_Angeles:20240430T190000
DTEND;TZID=America/Los_Angeles:20240430T210000
DTSTAMP:20260424T064837
CREATED:20231211T214742Z
LAST-MODIFIED:20231211T214816Z
UID:11791-1714503600-1714510800@southsoundblues.org
SUMMARY:Tuesday "Blues Showcase" with Stevie & The Blue Flames at Purdy's Public House and Arcade\, Sumner
DESCRIPTION:Blues Showcase with Stevie & The Blue Flames at Purdy’s Public House and Arcade\, April 30th\, 7-9pm \n \nLocation: Purdy’s Public House\, 16202 64th St E\, Sumner\, WA 98390
URL:https://southsoundblues.org/event/tuesday-blues-showcase-with-stevie-the-blue-flames-at-purdys-public-house-and-arcade-sumner/
LOCATION:Purdy’s Public House & Arcade\, Sumner\, 16202 64th St E\, Sumner\, WA\, 98390
CATEGORIES:Local South Sound Blues
END:VEVENT
BEGIN:VEVENT
DTSTART;TZID=America/Los_Angeles:20240501T190000
DTEND;TZID=America/Los_Angeles:20240501T220000
DTSTAMP:20260424T064837
CREATED:20240422T000303Z
LAST-MODIFIED:20240422T000303Z
UID:12587-1714590000-1714600800@southsoundblues.org
SUMMARY:Wednesdays Blues “Jam Night” with Brian Olver and Glenn Hummel at Purdy’s\, Sumner
DESCRIPTION:Wednesdays Blues “Jam Night” with Brian Olver and Glenn Hummel at Purdy’s\, Sumner\, WA. 7-10 pm
URL:https://southsoundblues.org/event/wednesdays-blues-jam-night-with-brian-olver-and-glenn-hummel-at-purdys-sumner-7/
LOCATION:Purdy’s Public House & Arcade\, Sumner\, 16202 64th St E\, Sumner\, WA\, 98390
CATEGORIES:Local South Sound Blues
END:VEVENT
BEGIN:VEVENT
DTSTART;TZID=America/Los_Angeles:20240502T200000
DTEND;TZID=America/Los_Angeles:20240502T220000
DTSTAMP:20260424T064837
CREATED:20240422T000656Z
LAST-MODIFIED:20240422T000656Z
UID:12591-1714680000-1714687200@southsoundblues.org
SUMMARY:Thursday Night Jam at the Realm Venue\, hosted by Billy Shew
DESCRIPTION:Thursday Night Jam at the Realm Venue\, hosted by Billy Shew\, 8-10 pm
URL:https://southsoundblues.org/event/thursday-night-jam-at-the-realm-venue-hosted-by-billy-shew-4/
LOCATION:Realm Venue\, 5602 So. Washington St.\, Tacoma\, WA\, 98409
CATEGORIES:Local South Sound Blues
END:VEVENT
BEGIN:VEVENT
DTSTART;TZID=America/Los_Angeles:20240505T150000
DTEND;TZID=America/Los_Angeles:20240505T170000
DTSTAMP:20260424T064837
CREATED:20240504T012431Z
LAST-MODIFIED:20240504T012431Z
UID:12659-1714921200-1714928400@southsoundblues.org
SUMMARY:Billy Stapleton's Powerhouse band\, Cinco De Mayo at the Bellevue Brewing company
DESCRIPTION:SUNDAY May 5th! it’s Cinco De Mayo at the Bellevue Brewing Company in Bellevue 3-5pm.\n \nPOWERHOUSE features the great Don Wilhelm on Lead Vocals and Bass\, Stevie “Boom Boom” Peterson on Vocals and drums and the phenomenal Billy Stapleton on Lead and Slide Guitar.\n12190 NE District Way\nBellevue\, WA 98005 \n  \n 
URL:https://southsoundblues.org/event/billy-stapletons-powerhouse-band-cinco-de-mayo-at-the-bellevue-brewing-company/
LOCATION:bellevue Brewing Company\, 12190 NE District Way\, Bellevue\, WA\, 98005
CATEGORIES:Local South Sound Blues
END:VEVENT
BEGIN:VEVENT
DTSTART;TZID=America/Los_Angeles:20240505T190000
DTEND;TZID=America/Los_Angeles:20240505T220000
DTSTAMP:20260424T064837
CREATED:20240410T005533Z
LAST-MODIFIED:20240410T005533Z
UID:12546-1714935600-1714946400@southsoundblues.org
SUMMARY:Sunday Blues at The Spar with The John Stephan Band
DESCRIPTION:May 5th\, The Spar\, Tacoma\, John Stephan Band\, 7pm
URL:https://southsoundblues.org/event/sunday-blues-at-the-spar-with-the-john-stephan-band/
LOCATION:The Spar\, 2121 N 30th St\, Tacoma\, WA\, 98403
CATEGORIES:Local South Sound Blues
END:VEVENT
BEGIN:VEVENT
DTSTART;TZID=America/Los_Angeles:20240505T190000
DTEND;TZID=America/Los_Angeles:20240505T230000
DTSTAMP:20260424T064837
CREATED:20240421T235336Z
LAST-MODIFIED:20240421T235336Z
UID:12581-1714935600-1714950000@southsoundblues.org
SUMMARY:Billy Shew Blues Jam\, every Sunday at Dawson’s
DESCRIPTION:Billy Shew Blues Jam\, every Sunday at Dawson’s\, 7-11 pm
URL:https://southsoundblues.org/event/billy-shew-blues-jam-every-sunday-at-dawsons-17/
LOCATION:Dawson’s Bar & Grill\, 5443 South Tacoma Way\, Tacoma\, WA\, 98409
CATEGORIES:Local South Sound Blues
END:VEVENT
BEGIN:VEVENT
DTSTART;TZID=America/Los_Angeles:20240506T200000
DTEND;TZID=America/Los_Angeles:20240506T220000
DTSTAMP:20260424T064837
CREATED:20240421T235603Z
LAST-MODIFIED:20240421T235603Z
UID:12583-1715025600-1715032800@southsoundblues.org
SUMMARY:Mike Witmer hosts “Mojo Mike’s Blues Revue” every Monday on KVSH 101.9 FM
DESCRIPTION:Mike Witmer hosts “Mojo Mike’s Blues Revue” every Monday on KVSH 101.9 FM 8-10 pm
URL:https://southsoundblues.org/event/mike-witmer-hosts-mojo-mikes-blues-revue-every-monday-on-kvsh-101-9-fm-18/
LOCATION:WA
CATEGORIES:Local South Sound Blues
END:VEVENT
BEGIN:VEVENT
DTSTART;TZID=America/Los_Angeles:20240507T190000
DTEND;TZID=America/Los_Angeles:20240507T220000
DTSTAMP:20260424T064837
CREATED:20240422T000041Z
LAST-MODIFIED:20240422T000041Z
UID:12585-1715108400-1715119200@southsoundblues.org
SUMMARY:Jam every Tuesday at Brother Don's Bar & Grill with the Tim Hall band
DESCRIPTION:Jam every Tuesday at Brother Don’s Bar & Grill with the Tim Hall band\, 7-10 pm.
URL:https://southsoundblues.org/event/jam-every-tuesday-at-brother-dons-bar-grill-with-the-tim-hall-band/
LOCATION:Brother Don’s Bar & Grill\, 4200 Kitsap Way\, Bremerton\, WA\, 98312
CATEGORIES:Local South Sound Blues
END:VEVENT
BEGIN:VEVENT
DTSTART;TZID=America/Los_Angeles:20240507T190000
DTEND;TZID=America/Los_Angeles:20240507T220000
DTSTAMP:20260424T064837
CREATED:20240430T003626Z
LAST-MODIFIED:20240430T003749Z
UID:12629-1715108400-1715119200@southsoundblues.org
SUMMARY:Tuesday "Bluesday" at Brother Don’s Bar & Grill\, Bremerton
DESCRIPTION:Tuesday “Bluesday” at Brother Don’s Bar & Grill in Bremerton\, Jam with The Tim Hall Band\, 7-10 pm
URL:https://southsoundblues.org/event/tuesday-bluesday-at-brother-dons-bar-grill-bremerton/
LOCATION:Brother Don’s Bar & Grill\, 4200 Kitsap Way\, Bremerton\, WA\, 98312
CATEGORIES:Local South Sound Blues
END:VEVENT
BEGIN:VEVENT
DTSTART;TZID=America/Los_Angeles:20240509T190000
DTEND;TZID=America/Los_Angeles:20240509T220000
DTSTAMP:20260424T064837
CREATED:20240422T000832Z
LAST-MODIFIED:20240422T000832Z
UID:12593-1715281200-1715292000@southsoundblues.org
SUMMARY:“Billy the Pocket Jam” Thursday nights at Dawson’s
DESCRIPTION:“Billy the Pocket Jam” Thursday nights at Dawson’s\, 7-10 pm
URL:https://southsoundblues.org/event/billy-the-pocket-jam-thursday-nights-at-dawsons-32/
LOCATION:Dawson’s Bar & Grill\, 5443 South Tacoma Way\, Tacoma\, WA\, 98409
CATEGORIES:Local South Sound Blues
END:VEVENT
BEGIN:VEVENT
DTSTART;TZID=America/Los_Angeles:20240510T190000
DTEND;TZID=America/Los_Angeles:20240510T220000
DTSTAMP:20260424T064837
CREATED:20240410T001034Z
LAST-MODIFIED:20240410T001034Z
UID:12542-1715367600-1715378400@southsoundblues.org
SUMMARY:Michele D'Amour and The Love Dealers at Ocean 5\, Gig Harbor
DESCRIPTION:May 10th\, Michele D’Amour and The Love Dealers at Ocean 5\, Gig Harbor\, 7-10 pm\nFriday\, May 10 – 7 to 10 p.m. \n Michele D’Amour \n5268 Point Fosdick Dr\, Gig Harbor\, WA 98335 \nTickets are $10 and here is the link: https://www.eventbrite.com/e/live-music-michele-damour-and-the-love-dealers-tickets-846548147297
URL:https://southsoundblues.org/event/michele-damour-and-the-love-dealers-at-ocean-5-gig-harbor/
LOCATION:Ocean 5\, Table 47\, 5268 Point Fosdick Drive\, Gig Harbor\, WA\, 98335
CATEGORIES:Featured,Local South Sound Blues
END:VEVENT
BEGIN:VEVENT
DTSTART;TZID=America/Los_Angeles:20240510T190000
DTEND;TZID=America/Los_Angeles:20240510T220000
DTSTAMP:20260424T064837
CREATED:20240509T230504Z
LAST-MODIFIED:20240509T230504Z
UID:12701-1715367600-1715378400@southsoundblues.org
SUMMARY:Dr Jop Funkin Shop at Kimball Coffeehouse
DESCRIPTION:Dr Jop Funkin Shop at Kimball Coffeehouse May 10th\, 7-9 pm\n 
URL:https://southsoundblues.org/event/dr-jop-funkin-shop-at-kimball-coffeehouse/
LOCATION:Kimball’s Coffeehouse\, 6659 Kimball Dr\, Gig Harbor\, WA\, 98335
CATEGORIES:Local South Sound Blues
END:VEVENT
BEGIN:VEVENT
DTSTART;TZID=America/Los_Angeles:20240510T200000
DTEND;TZID=America/Los_Angeles:20240510T200000
DTSTAMP:20260424T064837
CREATED:20240103T040851Z
LAST-MODIFIED:20240103T040851Z
UID:11943-1715371200-1715371200@southsoundblues.org
SUMMARY:King Kom Beaux at The Garage\, Bremerton
DESCRIPTION:King Kom Beaux at The Garage May 10th\, 8pm
URL:https://southsoundblues.org/event/king-kom-beaux-at-the-garage-bremerton-3/
LOCATION:The Garage Bar and Grill\, 6812 Kitsap Way\, Bremerton\, WA\, 98312
CATEGORIES:Local South Sound Blues
END:VEVENT
BEGIN:VEVENT
DTSTART;TZID=America/Los_Angeles:20240510T213000
DTEND;TZID=America/Los_Angeles:20240510T230000
DTSTAMP:20260424T064837
CREATED:20240410T012345Z
LAST-MODIFIED:20240410T012345Z
UID:12561-1715376600-1715382000@southsoundblues.org
SUMMARY:Mark DuFresne Band at Bake's\, Bellevue
DESCRIPTION:May 10th\, Bake’s\, Bellevue\, Mark DuFresne Band feat. Billy Stapleton\, 9:30-11pm\n Featuring Billy Stapleton on Guitar
URL:https://southsoundblues.org/event/mark-dufresne-band-at-bakes-bellevue/
LOCATION:Bake’s Place\, 155 108th Ave NE Ste 110\, Bellevue\, WA\, 98004
CATEGORIES:Local South Sound Blues
END:VEVENT
BEGIN:VEVENT
DTSTART;TZID=America/Los_Angeles:20240511T180000
DTEND;TZID=America/Los_Angeles:20240511T200000
DTSTAMP:20260424T064837
CREATED:20240508T233429Z
LAST-MODIFIED:20240508T233429Z
UID:12690-1715450400-1715457600@southsoundblues.org
SUMMARY:Ross Robinson at the Lady of the Lake Public House\, Offut Lake Resort\, Tenino
DESCRIPTION:Ross Robinson at the Lady of the Lake Public House\, Offut Lake Resort\, May 11th\, 6-8 pm.\n \nGreat Weather\, Food\, Lakeside dining\, Friendly staff and wonderful mellow acoustic music provided by Ross Robinson & Charles Valentine.\n\n 
URL:https://southsoundblues.org/event/ross-robinson-at-the-lady-of-the-lake-public-house-offut-lake-resort-tenino/
LOCATION:Lady of the Lake Pub\, 4005 120th Ave SE\, Tenino\, WA\, 98589
CATEGORIES:Local South Sound Blues
END:VEVENT
BEGIN:VEVENT
DTSTART;TZID=America/Los_Angeles:20240511T190000
DTEND;TZID=America/Los_Angeles:20240511T220000
DTSTAMP:20260424T064837
CREATED:20240410T012638Z
LAST-MODIFIED:20240410T012638Z
UID:12564-1715454000-1715464800@southsoundblues.org
SUMMARY:Trailer Park Kings at the Spar
DESCRIPTION:May 11th\, The Spar\, Tacoma\, Trailer Park Kings\, 7pm\n \n 
URL:https://southsoundblues.org/event/trailer-park-kings-at-the-spar-8/
LOCATION:The Spar\, 2121 N 30th St\, Tacoma\, WA\, 98403
CATEGORIES:Local South Sound Blues
END:VEVENT
BEGIN:VEVENT
DTSTART;TZID=America/Los_Angeles:20240511T200000
DTEND;TZID=America/Los_Angeles:20240511T220000
DTSTAMP:20260424T064837
CREATED:20240509T230758Z
LAST-MODIFIED:20240509T230758Z
UID:12703-1715457600-1715464800@southsoundblues.org
SUMMARY:Stacy Jones Band at the Mill
DESCRIPTION:Stacy Jones Band at the Mill May 11th\, 8-10 pm
URL:https://southsoundblues.org/event/stacy-jones-band-at-the-mill-2/
LOCATION:The Mill of Milton\, 900 Meridian E. #50\, Milton\, WA\, 98354
CATEGORIES:Local South Sound Blues
END:VEVENT
BEGIN:VEVENT
DTSTART;TZID=America/Los_Angeles:20240511T200000
DTEND;TZID=America/Los_Angeles:20240511T233000
DTSTAMP:20260424T064837
CREATED:20240507T003246Z
LAST-MODIFIED:20240507T003713Z
UID:12682-1715457600-1715470200@southsoundblues.org
SUMMARY:Linda Carroll & Retro Gruv at the Gig Harbor Eagles #2809
DESCRIPTION:Linda Carroll & Retro Gruv at the Gig Harbor Eagles #2809\, May 11th 8-Midnight
URL:https://southsoundblues.org/event/linda-carroll-retro-gruv-at-the-gig-harbor-eagles-2809/
LOCATION:Gig Harbor Eagles\, 4425 Burnham Dr.\, Gig Harbor\, WA\, 98332
CATEGORIES:Local South Sound Blues
END:VEVENT
BEGIN:VEVENT
DTSTART;TZID=America/Los_Angeles:20240512T190000
DTEND;TZID=America/Los_Angeles:20240512T220000
DTSTAMP:20260424T064837
CREATED:20240410T005750Z
LAST-MODIFIED:20240410T005750Z
UID:12549-1715540400-1715551200@southsoundblues.org
SUMMARY:Sunday Blues at the Spar with The Jerry Miller Band
DESCRIPTION:May 12th The Spar\, Tacoma\, Jerry Miller Band\, 7pm\n 
URL:https://southsoundblues.org/event/sunday-blues-at-the-spar-with-the-jerry-miller-band-2/
LOCATION:The Spar\, 2121 N 30th St\, Tacoma\, WA\, 98403
CATEGORIES:Local South Sound Blues
END:VEVENT
BEGIN:VEVENT
DTSTART;TZID=America/Los_Angeles:20240514T190000
DTEND;TZID=America/Los_Angeles:20240514T210000
DTSTAMP:20260424T064837
CREATED:20240430T002059Z
LAST-MODIFIED:20240430T002059Z
UID:12625-1715713200-1715720400@southsoundblues.org
SUMMARY:Rob Tudor and Dave McKibbin at the Twisted Fork Saloon every Tuesday
DESCRIPTION:Rob Tudor and Dave McKibbin at the Twisted Fork Saloon every Tuesday\, 7-9 pm
URL:https://southsoundblues.org/event/rob-tudor-and-dave-mckibbin-at-the-twisted-fork-saloon-every-tuesday-5/
LOCATION:Twisted Fork Saloon\, 5005 Main St\, Tacoma\, WA\, 98407
CATEGORIES:Local South Sound Blues
END:VEVENT
END:VCALENDAR