BEGIN:VCALENDAR
VERSION:2.0
PRODID:-//South Sound Blues Association - ECPv6.15.18//NONSGML v1.0//EN
CALSCALE:GREGORIAN
METHOD:PUBLISH
X-ORIGINAL-URL:https://southsoundblues.org
X-WR-CALDESC:Events for South Sound Blues Association
REFRESH-INTERVAL;VALUE=DURATION:PT1H
X-Robots-Tag:noindex
X-PUBLISHED-TTL:PT1H
BEGIN:VTIMEZONE
TZID:America/Los_Angeles
BEGIN:DAYLIGHT
TZOFFSETFROM:-0800
TZOFFSETTO:-0700
TZNAME:PDT
DTSTART:20240310T100000
END:DAYLIGHT
BEGIN:STANDARD
TZOFFSETFROM:-0700
TZOFFSETTO:-0800
TZNAME:PST
DTSTART:20241103T090000
END:STANDARD
BEGIN:DAYLIGHT
TZOFFSETFROM:-0800
TZOFFSETTO:-0700
TZNAME:PDT
DTSTART:20250309T100000
END:DAYLIGHT
BEGIN:STANDARD
TZOFFSETFROM:-0700
TZOFFSETTO:-0800
TZNAME:PST
DTSTART:20251102T090000
END:STANDARD
BEGIN:DAYLIGHT
TZOFFSETFROM:-0800
TZOFFSETTO:-0700
TZNAME:PDT
DTSTART:20260308T100000
END:DAYLIGHT
BEGIN:STANDARD
TZOFFSETFROM:-0700
TZOFFSETTO:-0800
TZNAME:PST
DTSTART:20261101T090000
END:STANDARD
END:VTIMEZONE
BEGIN:VEVENT
DTSTART;TZID=America/Los_Angeles:20250512T200000
DTEND;TZID=America/Los_Angeles:20250512T220000
DTSTAMP:20260423T121501
CREATED:20250313T003454Z
LAST-MODIFIED:20250313T003454Z
UID:14494-1747080000-1747087200@southsoundblues.org
SUMMARY:Mike Witmer hosts “Mojo Mike’s Blues Revue” every Monday on KVSH 101.9 FM
DESCRIPTION:Mike Witmer hosts “Mojo Mike’s Blues Revue” every Monday on KVSH 101.9 FM 8-10 pm
URL:https://southsoundblues.org/event/mike-witmer-hosts-mojo-mikes-blues-revue-every-monday-on-kvsh-101-9-fm-36/
LOCATION:KVSH\, 17643 Vashon Hwy SW\, Vashon Island\, WA\, 98070
CATEGORIES:Local South Sound Blues
END:VEVENT
BEGIN:VEVENT
DTSTART;TZID=America/Los_Angeles:20250513T200000
DTEND;TZID=America/Los_Angeles:20250513T233000
DTSTAMP:20260423T121501
CREATED:20250313T005315Z
LAST-MODIFIED:20250313T005315Z
UID:14508-1747166400-1747179000@southsoundblues.org
SUMMARY:Cory Wilds Band Tuesday open Jam Night at Elmer’s Bar and Grill
DESCRIPTION:Cory Wilds Band Tuesday open Jam Night at Elmer’s Bar and Grill\, 8-11:30 pm
URL:https://southsoundblues.org/event/cory-wilds-band-tuesday-open-jam-night-at-elmers-bar-and-grill-30/
LOCATION:Elmer’s Bar & Grill\, 15027 Ambaum Blvd SW\, Burien\, WA\, 98166
CATEGORIES:Local South Sound Blues
END:VEVENT
BEGIN:VEVENT
DTSTART;TZID=America/Los_Angeles:20250515T200000
DTEND;TZID=America/Los_Angeles:20250515T220000
DTSTAMP:20260423T121501
CREATED:20250504T195218Z
LAST-MODIFIED:20250504T195218Z
UID:14821-1747339200-1747346400@southsoundblues.org
SUMMARY:Thursdays\, Steve Itterly and Friends at the Snapdragon\, Vashon
DESCRIPTION:Thursdays\, Steve Itterly and Friends at the Snapdragon\, Vashon\, 8-10 pm
URL:https://southsoundblues.org/event/thursdays-steve-itterly-and-friends-at-the-snapdragon-vashon/
LOCATION:Snapdragon\, 17817 Vashon Hwy\, Vashon\, WA\, 98070
CATEGORIES:Local South Sound Blues
END:VEVENT
BEGIN:VEVENT
DTSTART;TZID=America/Los_Angeles:20250516T200000
DTEND;TZID=America/Los_Angeles:20250516T230000
DTSTAMP:20260423T121501
CREATED:20250501T013928Z
LAST-MODIFIED:20250501T013928Z
UID:14786-1747425600-1747436400@southsoundblues.org
SUMMARY:Cory Wilds Band at JP's Barroom
DESCRIPTION:May 16th\, Cory Wilds Band at JP’s Barroom 8-11 pm
URL:https://southsoundblues.org/event/cory-wilds-band-at-jps-barroom/
LOCATION:JP’s Barroom\, 214 Williams Ave S\, Renton\, WA\, 98057
CATEGORIES:Local South Sound Blues
END:VEVENT
BEGIN:VEVENT
DTSTART;TZID=America/Los_Angeles:20250517T183000
DTEND;TZID=America/Los_Angeles:20250517T210000
DTSTAMP:20260423T121501
CREATED:20250504T200455Z
LAST-MODIFIED:20250504T200455Z
UID:14823-1747506600-1747515600@southsoundblues.org
SUMMARY:Reji Marc at The Vault Taphouse Bistro & Beer Garden\, Black Diamond
DESCRIPTION:Reji Marc at The Vault Taphouse Bistro & Beer Garden\, Black Diamond\, 6:30 pm\n\n 
URL:https://southsoundblues.org/event/reji-marc-at-the-vault-taphouse-bistro-beer-garden-black-diamond/
LOCATION:The Vault Taphouse Bistro & Beer Garden\, 31329 3rd Ave.\, Black Diamond\, WA\, 98010
CATEGORIES:Local South Sound Blues
END:VEVENT
BEGIN:VEVENT
DTSTART;TZID=America/Los_Angeles:20250518T190000
DTEND;TZID=America/Los_Angeles:20250518T220000
DTSTAMP:20260423T121501
CREATED:20250313T004644Z
LAST-MODIFIED:20250313T004644Z
UID:14502-1747594800-1747605600@southsoundblues.org
SUMMARY:Sunday Blues at the Spar
DESCRIPTION:Sunday Blues at the Spar 7-10 pm
URL:https://southsoundblues.org/event/sunday-blues-at-the-spar-14/
LOCATION:The Spar\, 2121 N 30th St\, Tacoma\, WA\, 98403
CATEGORIES:Local South Sound Blues
END:VEVENT
BEGIN:VEVENT
DTSTART;TZID=America/Los_Angeles:20250518T190000
DTEND;TZID=America/Los_Angeles:20250518T220000
DTSTAMP:20260423T121501
CREATED:20250501T005051Z
LAST-MODIFIED:20250501T005051Z
UID:14761-1747594800-1747605600@southsoundblues.org
SUMMARY:Dawson’s Sunday Night Jam with guest Host Tim Turner
DESCRIPTION:May 18 Sunday\, Dawson’s Sunday Night Jam with guest Host Tim Turner @ 7:00 PM
URL:https://southsoundblues.org/event/dawsons-sunday-night-jam-with-guest-host-tim-turner/
LOCATION:Dawson’s Bar & Grill\, 5443 South Tacoma Way\, Tacoma\, WA\, 98409
CATEGORIES:Local South Sound Blues
END:VEVENT
BEGIN:VEVENT
DTSTART;TZID=America/Los_Angeles:20250518T190000
DTEND;TZID=America/Los_Angeles:20250518T230000
DTSTAMP:20260423T121501
CREATED:20250313T004331Z
LAST-MODIFIED:20250313T004331Z
UID:14500-1747594800-1747609200@southsoundblues.org
SUMMARY:Billy Shew Blues Jam\, every Sunday at Dawson’s
DESCRIPTION:Billy Shew Blues Jam\, every Sunday at Dawson’s\, 7-11 pm
URL:https://southsoundblues.org/event/billy-shew-blues-jam-every-sunday-at-dawsons-39/
LOCATION:Dawson’s Bar & Grill\, 5443 South Tacoma Way\, Tacoma\, WA\, 98409
CATEGORIES:Local South Sound Blues
END:VEVENT
BEGIN:VEVENT
DTSTART;TZID=America/Los_Angeles:20250520T190000
DTEND;TZID=America/Los_Angeles:20250520T223000
DTSTAMP:20260423T121501
CREATED:20250313T005825Z
LAST-MODIFIED:20250313T005825Z
UID:14512-1747767600-1747780200@southsoundblues.org
SUMMARY:Billy Shew hosts the Burien Eagles Tuesday Night Jams
DESCRIPTION:Billy Shew hosts the Burien Eagles Tuesday Night Jams\,  7:00pm
URL:https://southsoundblues.org/event/billy-shew-hosts-the-burien-eagles-tuesday-night-jams-8/
LOCATION:Burien Eagles\, 920 SW 150th St\, Burien\, WA\, 98166
CATEGORIES:Local South Sound Blues
END:VEVENT
BEGIN:VEVENT
DTSTART;TZID=America/Los_Angeles:20250522T190000
DTEND;TZID=America/Los_Angeles:20250522T220000
DTSTAMP:20260423T121501
CREATED:20250504T011911Z
LAST-MODIFIED:20250504T011911Z
UID:14807-1747940400-1747951200@southsoundblues.org
SUMMARY:“Billy the Pocket Jam” Thursday nights at Dawson’s
DESCRIPTION:“Billy the Pocket Jam” Thursday nights at Dawson’s\, 7-10 pm
URL:https://southsoundblues.org/event/billy-the-pocket-jam-thursday-nights-at-dawsons-9/
LOCATION:Dawson’s Bar & Grill\, 5443 South Tacoma Way\, Tacoma\, WA\, 98409
CATEGORIES:Local South Sound Blues
END:VEVENT
BEGIN:VEVENT
DTSTART;TZID=America/Los_Angeles:20250522T190000
DTEND;TZID=America/Los_Angeles:20250522T220000
DTSTAMP:20260423T121501
CREATED:20250514T210818Z
LAST-MODIFIED:20250514T210818Z
UID:14887-1747940400-1747951200@southsoundblues.org
SUMMARY:Red Dog Saloon Jam Thursdays with host Billy Shew
DESCRIPTION:Red Dog Saloon Jam Thursdays with host Billy Shew\, 7-10 pm
URL:https://southsoundblues.org/event/red-dog-saloon-jam-thursdays-with-host-billy-shew/
LOCATION:Red Dog Saloon\, 18605 Renton-Maple Valley Rd\, Maple Valley\, WA\, 98038
CATEGORIES:Local South Sound Blues
END:VEVENT
BEGIN:VEVENT
DTSTART;TZID=America/Los_Angeles:20250523T190000
DTEND;TZID=America/Los_Angeles:20250523T210000
DTSTAMP:20260423T121501
CREATED:20250413T222422Z
LAST-MODIFIED:20250413T222422Z
UID:14673-1748026800-1748034000@southsoundblues.org
SUMMARY:Annie Eastwood & her Allstar band featuring Billy Stapleton at Kimball Coffeehouse
DESCRIPTION:Annie Eastwood & her Allstar band featuring Billy Stapleton\nEclectic Rhythm & Blues\, Rock\, Blues\, Soul and Jazz. May 23rd at Kimball Coffeehouse\, 7-9 pm\nFeaturing award winning guitarist Billy Stapleton\, bassist and vocalist Jeff Davies\, and drummer and vocalist Steve Peterson. Music from Blind Faith to Delbert McClinton\, Robben Ford to Boz Scaggs\, Robert Plant to Sonny Landreth\, Mose Allison to Ronnie Earl and Julie London to Lucinda Williams\, Annie Eastwood and Her All-Star Band play an eclectic variety of Rhythm & Blues\, Rock\, Blues\, Soul\, Swing and Jazz.\nKimball Coffeehouse – Doors Open at 6pm – Music Starts at 7pmWe are coffee people\, music aficionados and food lovers\, holding it down in Gig Harbor\, WA. We like to have a good time. If you do too\, you’ve come to the right place.Kimball Coffeehouse
URL:https://southsoundblues.org/event/annie-eastwood-her-allstar-band-featuring-billy-stapleton-at-kimball-coffeehouse/
LOCATION:Kimball’s Coffeehouse\, 6659 Kimball Dr\, Gig Harbor\, WA\, 98335
CATEGORIES:Local South Sound Blues
END:VEVENT
BEGIN:VEVENT
DTSTART;TZID=America/Los_Angeles:20250525T190000
DTEND;TZID=America/Los_Angeles:20250525T220000
DTSTAMP:20260423T121501
CREATED:20250313T004942Z
LAST-MODIFIED:20250313T004942Z
UID:14506-1748199600-1748210400@southsoundblues.org
SUMMARY:Sunday Blues at the Spar
DESCRIPTION:Sunday Blues at the Spar 7-10 pm
URL:https://southsoundblues.org/event/sunday-blues-at-the-spar-16/
LOCATION:The Spar\, 2121 N 30th St\, Tacoma\, WA\, 98403
CATEGORIES:Local South Sound Blues
END:VEVENT
BEGIN:VEVENT
DTSTART;TZID=America/Los_Angeles:20250527T190000
DTEND;TZID=America/Los_Angeles:20250527T210000
DTSTAMP:20260423T121501
CREATED:20250309T225122Z
LAST-MODIFIED:20250309T225122Z
UID:14445-1748372400-1748379600@southsoundblues.org
SUMMARY:"Tuesday Blues Showcase" featuring Blues Redemption at Purdy's\, Sumner
DESCRIPTION:“Tuesday Blues Showcase” featuring Blues Redemption at Purdy’s Public House & Arcade\, May 27th\, 7-9 pm
URL:https://southsoundblues.org/event/tuesday-blues-showcase-featuring-blues-redemption-at-purdys-sumner/
LOCATION:Purdy’s Public House & Arcade\, Sumner\, 16202 64th St E\, Sumner\, WA\, 98390
CATEGORIES:Local South Sound Blues
END:VEVENT
BEGIN:VEVENT
DTSTART;TZID=America/Los_Angeles:20250529T200000
DTEND;TZID=America/Los_Angeles:20250529T220000
DTSTAMP:20260423T121501
CREATED:20250504T204823Z
LAST-MODIFIED:20250504T204823Z
UID:14840-1748548800-1748556000@southsoundblues.org
SUMMARY:Thursdays\, Steve Itterly and Friends at the Snapdragon\, Vashon
DESCRIPTION:Thursdays\, Steve Itterly and Friends at the Snapdragon\, Vashon\, 8-10 pm
URL:https://southsoundblues.org/event/thursdays-steve-itterly-and-friends-at-the-snapdragon-vashon-2/
LOCATION:Snapdragon\, 17817 Vashon Hwy\, Vashon\, WA\, 98070
CATEGORIES:Local South Sound Blues
END:VEVENT
BEGIN:VEVENT
DTSTART;TZID=America/Los_Angeles:20250530T200000
DTEND;TZID=America/Los_Angeles:20250530T230000
DTSTAMP:20260423T121501
CREATED:20250418T015652Z
LAST-MODIFIED:20250418T015652Z
UID:14720-1748635200-1748646000@southsoundblues.org
SUMMARY:John Stephan Band at Salmon Bay Eagles
DESCRIPTION:John Stephan Band @ Salmon Bay Eagles May 30th\, 8-11 pm\n\n 
URL:https://southsoundblues.org/event/john-stephan-band-at-salmon-bay-eagles/
LOCATION:Salmon Bay Eagles\, 5216 20th Ave NW\, Seattle\, WA\, 98107
CATEGORIES:Local South Sound Blues
END:VEVENT
BEGIN:VEVENT
DTSTART;TZID=America/Los_Angeles:20250531T160000
DTEND;TZID=America/Los_Angeles:20250531T190000
DTSTAMP:20260423T121501
CREATED:20250527T213439Z
LAST-MODIFIED:20250527T213439Z
UID:14980-1748707200-1748718000@southsoundblues.org
SUMMARY:Billy Stoops & The Dirt Angels at the Urban Elk
DESCRIPTION:Billy Stoops & The Dirt Angels at the Urban Elk May 31st 4-7 pm\n \nThe Dirt Angels… Trev Cutler Barbra Blue Troy Moss Leanne Trevalyan
URL:https://southsoundblues.org/event/billy-stoops-the-dirt-angels-at-the-urban-elk/
LOCATION:Urban Elk\, 2013 S Cedar St\, Tacoma\, WA\, 98405
CATEGORIES:Local South Sound Blues
END:VEVENT
BEGIN:VEVENT
DTSTART;TZID=America/Los_Angeles:20250531T200000
DTEND;TZID=America/Los_Angeles:20250531T230000
DTSTAMP:20260423T121501
CREATED:20250314T205055Z
LAST-MODIFIED:20250314T205055Z
UID:14540-1748721600-1748732400@southsoundblues.org
SUMMARY:Tim Hall Blues Band at Zesty Cajon Steak House
DESCRIPTION:Tim Hall Blues Band at Zesty Cajon Steak House May 31st\, 8-11pm
URL:https://southsoundblues.org/event/tim-hall-blues-band-at-zesty-cajon-steak-house-2/
LOCATION:Zesty’s Cajun Steakhouse\, 9905 Bridgeport Way Southwest\, Lakewood\, WA\, 98499
CATEGORIES:Local South Sound Blues
END:VEVENT
BEGIN:VEVENT
DTSTART;TZID=America/Los_Angeles:20250531T200000
DTEND;TZID=America/Los_Angeles:20250531T230000
DTSTAMP:20260423T121501
CREATED:20250428T225405Z
LAST-MODIFIED:20250428T225405Z
UID:14745-1748721600-1748732400@southsoundblues.org
SUMMARY:Stacy Jones Band at the Salmon Bay Eagles
DESCRIPTION:Stacy Jones Band at the Salmon Bay Eagles May 31st\, 8pm
URL:https://southsoundblues.org/event/stacy-jones-band-at-the-salmon-bay-eagles/
LOCATION:Salmon Bay Eagles\, 5216 20th Ave NW\, Seattle\, WA\, 98107
CATEGORIES:Local South Sound Blues
END:VEVENT
BEGIN:VEVENT
DTSTART;TZID=America/Los_Angeles:20250531T200000
DTEND;TZID=America/Los_Angeles:20250531T230000
DTSTAMP:20260423T121501
CREATED:20250523T235652Z
LAST-MODIFIED:20250523T235652Z
UID:14895-1748721600-1748732400@southsoundblues.org
SUMMARY:Heather Jones & The Groove Masters at Dawsons Bar & Grill
DESCRIPTION:Heather Jones & The Groove Masters at Dawsons Bar & Grill May 31st\, 8pm
URL:https://southsoundblues.org/event/heather-jones-the-groove-masters-at-dawsons-bar-grill/
LOCATION:Dawson’s Bar & Grill\, 5443 South Tacoma Way\, Tacoma\, WA\, 98409
CATEGORIES:Local South Sound Blues
END:VEVENT
BEGIN:VEVENT
DTSTART;TZID=America/Los_Angeles:20250601T170000
DTEND;TZID=America/Los_Angeles:20250601T200000
DTSTAMP:20260423T121501
CREATED:20250411T012007Z
LAST-MODIFIED:20250411T012007Z
UID:14655-1748797200-1748808000@southsoundblues.org
SUMMARY:Brother Don's Bar and Grill Sunday Night Jams with Joe Faker
DESCRIPTION:Brother Don’s Bar and Grill Sunday Night Jams with Joe Faker 5-8 pm
URL:https://southsoundblues.org/event/brother-dons-bar-and-grill-sunday-night-jams-with-joe-faker/
LOCATION:Brother Don’s Bar & Grill\, 4200 Kitsap Way\, Bremerton\, WA\, 98312
CATEGORIES:Local South Sound Blues
END:VEVENT
BEGIN:VEVENT
DTSTART;TZID=America/Los_Angeles:20250601T180000
DTEND;TZID=America/Los_Angeles:20250601T210000
DTSTAMP:20260423T121501
CREATED:20250411T004300Z
LAST-MODIFIED:20250411T004300Z
UID:14649-1748800800-1748811600@southsoundblues.org
SUMMARY:Tim Hall Blues Jam every Sunday at Zesty's
DESCRIPTION:Tim Hall Blues Jam every Sunday at Zesty’s Steakhouse\, 6-9pm
URL:https://southsoundblues.org/event/tim-hall-blues-jam-every-sunday-at-zestys-3/
LOCATION:Zesty’s Cajun Steakhouse\, 9905 Bridgeport Way Southwest\, Lakewood\, WA\, 98499
CATEGORIES:Local South Sound Blues
END:VEVENT
BEGIN:VEVENT
DTSTART;TZID=America/Los_Angeles:20250601T190000
DTEND;TZID=America/Los_Angeles:20250601T220000
DTSTAMP:20260423T121501
CREATED:20250524T003728Z
LAST-MODIFIED:20250524T003728Z
UID:14907-1748804400-1748815200@southsoundblues.org
SUMMARY:Sunday Blues at the Spar
DESCRIPTION:Sunday Blues at the Spar June 1st\, 7-10 pm
URL:https://southsoundblues.org/event/sunday-blues-at-the-spar-20/
LOCATION:WA
CATEGORIES:Local South Sound Blues
END:VEVENT
BEGIN:VEVENT
DTSTART;TZID=America/Los_Angeles:20250602T200000
DTEND;TZID=America/Los_Angeles:20250602T220000
DTSTAMP:20260423T121501
CREATED:20250313T003628Z
LAST-MODIFIED:20250313T003628Z
UID:14496-1748894400-1748901600@southsoundblues.org
SUMMARY:Mike Witmer hosts “Mojo Mike’s Blues Revue” every Monday on KVSH 101.9 FM
DESCRIPTION:Mike Witmer hosts “Mojo Mike’s Blues Revue” every Monday on KVSH 101.9 FM\, 8-10 pm
URL:https://southsoundblues.org/event/mike-witmer-hosts-mojo-mikes-blues-revue-every-monday-on-kvsh-101-9-fm-37/
LOCATION:KVSH\, 17643 Vashon Hwy SW\, Vashon Island\, WA\, 98070
CATEGORIES:Local South Sound Blues
END:VEVENT
BEGIN:VEVENT
DTSTART;TZID=America/Los_Angeles:20250603T190000
DTEND;TZID=America/Los_Angeles:20250603T220000
DTSTAMP:20260423T121501
CREATED:20250411T013409Z
LAST-MODIFIED:20250411T013409Z
UID:14665-1748977200-1748988000@southsoundblues.org
SUMMARY:Jam every Tuesday at Brother Don’s Bar & Grill with the Tim Hall band
DESCRIPTION:Jam every Tuesday at Brother Don’s Bar & Grill with the Tim Hall band\, 7-10 pm.
URL:https://southsoundblues.org/event/jam-every-tuesday-at-brother-dons-bar-grill-with-the-tim-hall-band-14/
LOCATION:Brother Don’s Bar & Grill\, 4200 Kitsap Way\, Bremerton\, WA\, 98312
CATEGORIES:Local South Sound Blues
END:VEVENT
BEGIN:VEVENT
DTSTART;TZID=America/Los_Angeles:20250604T180000
DTEND;TZID=America/Los_Angeles:20250604T210000
DTSTAMP:20260423T121501
CREATED:20250313T002131Z
LAST-MODIFIED:20250504T213049Z
UID:14484-1749060000-1749070800@southsoundblues.org
SUMMARY:Wednesday Funky Jazz at the Spar
DESCRIPTION:Wednesday Funky Jazz at the Spar  6-9pm
URL:https://southsoundblues.org/event/billy-shew-and-friends-host-an-open-jam-every-wednesday-at-stocktons-32/
LOCATION:The Spar\, 2121 N 30th St\, Tacoma\, WA\, 98403
CATEGORIES:Local South Sound Blues
END:VEVENT
BEGIN:VEVENT
DTSTART;TZID=America/Los_Angeles:20250605T170000
DTEND;TZID=America/Los_Angeles:20250605T190000
DTSTAMP:20260423T121501
CREATED:20250501T001809Z
LAST-MODIFIED:20250501T001809Z
UID:14749-1749142800-1749150000@southsoundblues.org
SUMMARY:Billy Shew Band at Cockrell Cider Farm\, Puyallup
DESCRIPTION:Billy Shew Band at Cockrell Cider Farm\, June 5th\, 5-7 pm
URL:https://southsoundblues.org/event/billy-shew-band-at-cockrell-cider-farm-puyallup/
LOCATION:COCKRELL FARMS\, 6613 114TH AVE CT E\, PUYALLUP\, WA\, 98372
CATEGORIES:Local South Sound Blues
END:VEVENT
BEGIN:VEVENT
DTSTART;TZID=America/Los_Angeles:20250605T190000
DTEND;TZID=America/Los_Angeles:20250605T220000
DTSTAMP:20260423T121501
CREATED:20250313T011226Z
LAST-MODIFIED:20250313T011226Z
UID:14524-1749150000-1749160800@southsoundblues.org
SUMMARY:“Billy the Pocket Jam” Thursday nights at Dawson’s
DESCRIPTION:“Billy the Pocket Jam” Thursday nights at Dawson’s\, 7-10 pm
URL:https://southsoundblues.org/event/billy-the-pocket-jam-thursday-nights-at-dawsons-7/
LOCATION:Dawson’s Bar & Grill\, 5443 South Tacoma Way\, Tacoma\, WA\, 98409
CATEGORIES:Local South Sound Blues
END:VEVENT
BEGIN:VEVENT
DTSTART;TZID=America/Los_Angeles:20250606T190000
DTEND;TZID=America/Los_Angeles:20250606T210000
DTSTAMP:20260423T121501
CREATED:20250504T010154Z
LAST-MODIFIED:20250504T010154Z
UID:14798-1749236400-1749243600@southsoundblues.org
SUMMARY:Stevie & The Blue Flames at Kimball Coffeehouse
DESCRIPTION:Stevie & The Blue Flames at Kimball Coffeehouse June 6th\, 7-9 pm
URL:https://southsoundblues.org/event/stevie-the-blue-flames-at-kimball-coffeehouse/
LOCATION:Kimball’s Coffeehouse\, 6659 Kimball Dr\, Gig Harbor\, WA\, 98335
CATEGORIES:Local South Sound Blues
END:VEVENT
BEGIN:VEVENT
DTSTART;TZID=America/Los_Angeles:20250607T200000
DTEND;TZID=America/Los_Angeles:20250607T230000
DTSTAMP:20260423T121501
CREATED:20250523T235939Z
LAST-MODIFIED:20250523T235939Z
UID:14897-1749326400-1749337200@southsoundblues.org
SUMMARY:Billy Shew Band at Dawsons Bar & Grill
DESCRIPTION:Billy Shew Band at Dawsons Bar & Grill June 7th\, 8pm
URL:https://southsoundblues.org/event/billy-shew-band-at-dawsons-bar-grill/
LOCATION:Dawson’s Bar & Grill\, 5443 South Tacoma Way\, Tacoma\, WA\, 98409
CATEGORIES:Local South Sound Blues
END:VEVENT
END:VCALENDAR