BEGIN:VCALENDAR
VERSION:2.0
PRODID:-//South Sound Blues Association - ECPv6.15.18//NONSGML v1.0//EN
CALSCALE:GREGORIAN
METHOD:PUBLISH
X-ORIGINAL-URL:https://southsoundblues.org
X-WR-CALDESC:Events for South Sound Blues Association
REFRESH-INTERVAL;VALUE=DURATION:PT1H
X-Robots-Tag:noindex
X-PUBLISHED-TTL:PT1H
BEGIN:VTIMEZONE
TZID:America/Los_Angeles
BEGIN:DAYLIGHT
TZOFFSETFROM:-0800
TZOFFSETTO:-0700
TZNAME:PDT
DTSTART:20240310T100000
END:DAYLIGHT
BEGIN:STANDARD
TZOFFSETFROM:-0700
TZOFFSETTO:-0800
TZNAME:PST
DTSTART:20241103T090000
END:STANDARD
BEGIN:DAYLIGHT
TZOFFSETFROM:-0800
TZOFFSETTO:-0700
TZNAME:PDT
DTSTART:20250309T100000
END:DAYLIGHT
BEGIN:STANDARD
TZOFFSETFROM:-0700
TZOFFSETTO:-0800
TZNAME:PST
DTSTART:20251102T090000
END:STANDARD
BEGIN:DAYLIGHT
TZOFFSETFROM:-0800
TZOFFSETTO:-0700
TZNAME:PDT
DTSTART:20260308T100000
END:DAYLIGHT
BEGIN:STANDARD
TZOFFSETFROM:-0700
TZOFFSETTO:-0800
TZNAME:PST
DTSTART:20261101T090000
END:STANDARD
END:VTIMEZONE
BEGIN:VEVENT
DTSTART;TZID=America/Los_Angeles:20250615T180000
DTEND;TZID=America/Los_Angeles:20250615T210000
DTSTAMP:20260423T093618
CREATED:20250417T020505Z
LAST-MODIFIED:20250417T020505Z
UID:14697-1750010400-1750021200@southsoundblues.org
SUMMARY:Tim Hall Blues Jam every Sunday at Zesty’s Steakhouse
DESCRIPTION:Tim Hall Blues Jam every Sunday at Zesty’s Steakhouse\, 6-9pm
URL:https://southsoundblues.org/event/tim-hall-blues-jam-every-sunday-at-zestys-steakhouse/
LOCATION:Zesty’s Cajun Steakhouse\, 9905 Bridgeport Way Southwest\, Lakewood\, WA\, 98499
CATEGORIES:Local South Sound Blues
END:VEVENT
BEGIN:VEVENT
DTSTART;TZID=America/Los_Angeles:20250615T190000
DTEND;TZID=America/Los_Angeles:20250615T220000
DTSTAMP:20260423T093618
CREATED:20250411T012326Z
LAST-MODIFIED:20250411T012326Z
UID:14657-1750014000-1750024800@southsoundblues.org
SUMMARY:Sunday Blues at the Spar
DESCRIPTION:Sunday Blues at the Spar
URL:https://southsoundblues.org/event/sunday-blues-at-the-spar-17/
LOCATION:The Spar\, 2121 N 30th St\, Tacoma\, WA\, 98403
CATEGORIES:Local South Sound Blues
END:VEVENT
BEGIN:VEVENT
DTSTART;TZID=America/Los_Angeles:20250617T190000
DTEND;TZID=America/Los_Angeles:20250617T220000
DTSTAMP:20260423T093618
CREATED:20250411T013931Z
LAST-MODIFIED:20250411T013931Z
UID:14669-1750186800-1750197600@southsoundblues.org
SUMMARY:Billy Shew hosts the Burien Eagles Tuesday Night Jams
DESCRIPTION:Billy Shew hosts the Burien Eagles Tuesday Night Jams\,  7:00pm
URL:https://southsoundblues.org/event/billy-shew-hosts-the-burien-eagles-tuesday-night-jams-10/
LOCATION:Burien Eagles\, 920 SW 150th St\, Burien\, WA\, 98166
CATEGORIES:Local South Sound Blues
END:VEVENT
BEGIN:VEVENT
DTSTART;TZID=America/Los_Angeles:20250619T190000
DTEND;TZID=America/Los_Angeles:20250619T220000
DTSTAMP:20260423T093618
CREATED:20250524T002831Z
LAST-MODIFIED:20250524T002831Z
UID:14903-1750359600-1750370400@southsoundblues.org
SUMMARY:Red Dog Saloon Jam Thursdays with host Billy Shew
DESCRIPTION:Red Dog Saloon Jam Thursdays with host Billy Shew\, 7-10 pm\n\n\n18605 Renton Maple Valley Rd SE\, Maple Valley\, WA\, United States\, Washington
URL:https://southsoundblues.org/event/red-dog-saloon-jam-thursdays-with-host-billy-shew-2/
LOCATION:Red Dog Saloon\, 18605 Renton-Maple Valley Rd\, Maple Valley\, WA\, 98038
CATEGORIES:Local South Sound Blues
END:VEVENT
BEGIN:VEVENT
DTSTART;TZID=America/Los_Angeles:20250619T200000
DTEND;TZID=America/Los_Angeles:20250619T230000
DTSTAMP:20260423T093618
CREATED:20250504T215924Z
LAST-MODIFIED:20250504T215924Z
UID:14858-1750363200-1750374000@southsoundblues.org
SUMMARY:Thursdays\, Steve Itterly & Friends at the Snapdragon\, Vashon
DESCRIPTION:Steve Itterly & Friends  at the Snapdragon\, 8-11 pm\n\nThu Jun 12th 8:00pm – 11:00pm (PDT)\n\n\n\n\nSnapdragon\, 17817 Vashon Hwy SW\, Vashon\, WA 98070\, \n\n\n \nSteve Itterly & Guests\n\nEvery Thursday night at Snapdragon\n8pm (after Trivia) the acclaimed blues guitarist and songwriter\, Steve Itterly\, The performances resonate with a dynamic connection\, evident in the rhythmic boot stomping and impassioned solos that characterize their music.\n\n\n\nwww.facebook.com/itterlypitman
URL:https://southsoundblues.org/event/thursdays-steve-itterly-friends-at-the-snapdragon-vashon/
LOCATION:Snapdragon\, 17817 Vashon Hwy\, Vashon\, WA\, 98070
CATEGORIES:Local South Sound Blues
END:VEVENT
BEGIN:VEVENT
DTSTART;TZID=America/Los_Angeles:20250620T180000
DTEND;TZID=America/Los_Angeles:20250620T210000
DTSTAMP:20260423T093618
CREATED:20250620T002441Z
LAST-MODIFIED:20250620T002441Z
UID:15245-1750442400-1750453200@southsoundblues.org
SUMMARY:King Kom Beaux at the Garage\, Bremerton
DESCRIPTION:King Kom Beaux at the Garage\, June 20th\, 6-9 pm
URL:https://southsoundblues.org/event/king-kom-beaux-at-the-garage-bremerton-4/
LOCATION:Garage Bar and Grill\, 6812 Kitsap Way\, Bremerton\, WA\, 98312
CATEGORIES:Local South Sound Blues
END:VEVENT
BEGIN:VEVENT
DTSTART;TZID=America/Los_Angeles:20250620T190000
DTEND;TZID=America/Los_Angeles:20250620T210000
DTSTAMP:20260423T093618
CREATED:20250504T005356Z
LAST-MODIFIED:20250504T005356Z
UID:14796-1750446000-1750453200@southsoundblues.org
SUMMARY:Polly O'Keary & The Rhythm Method at Kimball Coffeehouse
DESCRIPTION:Polly O’Keary & The Rhythm Method at the Kimball Coffeehouse\, June 20th\, 7-9 pm
URL:https://southsoundblues.org/event/polly-okeary-the-rhythm-method-at-kimball-coffeehouse-2/
LOCATION:Kimball’s Coffeehouse\, 6659 Kimball Dr\, Gig Harbor\, WA\, 98335
CATEGORIES:Local South Sound Blues
END:VEVENT
BEGIN:VEVENT
DTSTART;TZID=America/Los_Angeles:20250620T200000
DTEND;TZID=America/Los_Angeles:20250620T230000
DTSTAMP:20260423T093618
CREATED:20250501T014336Z
LAST-MODIFIED:20250501T014519Z
UID:14789-1750449600-1750460400@southsoundblues.org
SUMMARY:Cory Wilds Band at JP's Barroom\, Renton
DESCRIPTION:Cory Wilds Band at JP’s Barroom\, Renton\,  June 20th\, 8-11 pm
URL:https://southsoundblues.org/event/cory-wilds-band-at-jps-barroom-2/
LOCATION:JP’s Barroom\, 214 Williams Ave S\, Renton\, WA\, 98057
CATEGORIES:Local South Sound Blues
END:VEVENT
BEGIN:VEVENT
DTSTART;VALUE=DATE:20250621
DTEND;VALUE=DATE:20250623
DTSTAMP:20260423T093618
CREATED:20250409T013153Z
LAST-MODIFIED:20250616T194007Z
UID:14627-1750471200-1750557599@southsoundblues.org
SUMMARY:Blues at the Barn at McMillin Farm and Brewhouse
DESCRIPTION:Blues at the Barn\, McMillin Farm and Brewhouse June 21st! 2-9pm\nMcMillin Farm and Brewhouse bring you “Blues at the Barn!” June 21st\, 2:00 to 9:00 pm. First Annual McMillin Farm Blues Festival located north of Orting\, 12517 State Route 162 E. (South of Route 410). Lots of Parking\, admission is $10. plus fees on eventbrite.com or $15. at the gate. \nJames Howard Music\, \nMid-Nite Bourbon\, \nMacon Bacon\, \nThe Spinoffs\, \nBilly Shew band\, \nand Mattlock & the Keys. \n“Blues at the Barn!” \n \nMcMillin Farm and Brewhouse\, acres of parking\, easy access off of Route 162\, halfway between Orting and Sumner WA \nhttps://www.eventbrite.com/e/mcmillin-farm-brewhouse-blues-concert-tickets-1328991371969?aff=ebdssbdestsearch&fbclid=IwY2xjawK9UbBleHRuA2FlbQIxMABicmlkETFaOEZwMHFMUG1pWVBxM1NwAR7VQTk0vLGzS_DF6Wqu2p8CtBTORkbiYu4G36hLn5MarKl4BLInLdCJDbePZA_aem_itN3i9SohGlohiRYYcX2Cw \n  \n 
URL:https://southsoundblues.org/event/blues-at-the-barn-mcmillin-farm-and-brewhouse/
LOCATION:McMillin Farm and Brewhouse\, 12517 WA-162\, McMillin\, WA\, 98374
CATEGORIES:Festival,Local South Sound Blues,Special Event
END:VEVENT
BEGIN:VEVENT
DTSTART;TZID=America/Los_Angeles:20250622T190000
DTEND;TZID=America/Los_Angeles:20250622T220000
DTSTAMP:20260423T093618
CREATED:20250417T020256Z
LAST-MODIFIED:20250501T014122Z
UID:14695-1750618800-1750629600@southsoundblues.org
SUMMARY:Sunday Blues at the Spar with the Cory Wilds Band
DESCRIPTION:Cory Wilds Band\, Sunday Blues at the Spar 7-10 pm
URL:https://southsoundblues.org/event/sunday-blues-at-the-spar-19/
LOCATION:The Spar\, 2121 N 30th St\, Tacoma\, WA\, 98403
CATEGORIES:Local South Sound Blues
END:VEVENT
BEGIN:VEVENT
DTSTART;TZID=America/Los_Angeles:20250623T200000
DTEND;TZID=America/Los_Angeles:20250623T220000
DTSTAMP:20260423T093618
CREATED:20250504T223233Z
LAST-MODIFIED:20250504T223233Z
UID:14866-1750708800-1750716000@southsoundblues.org
SUMMARY:Mike Witmer hosts “Mojo Mike’s Blues Revue” every Monday on KVSH 101.9 FM
DESCRIPTION:Mike Witmer hosts “Mojo Mike’s Blues Revue” every Monday on KVSH 101.9 FM\, 8-10 pm
URL:https://southsoundblues.org/event/mike-witmer-hosts-mojo-mikes-blues-revue-every-monday-on-kvsh-101-9-fm-38/
LOCATION:KVSH\, 17643 Vashon Hwy SW\, Vashon Island\, WA\, 98070
CATEGORIES:Local South Sound Blues
END:VEVENT
BEGIN:VEVENT
DTSTART;TZID=America/Los_Angeles:20250624T200000
DTEND;TZID=America/Los_Angeles:20250624T233000
DTSTAMP:20260423T093618
CREATED:20250313T005511Z
LAST-MODIFIED:20250313T005511Z
UID:14510-1750795200-1750807800@southsoundblues.org
SUMMARY:Cory Wilds Band Tuesday open Jam Night at Elmer’s Bar and Grill
DESCRIPTION:Cory Wilds Band Tuesday open Jam Night at Elmer’s Bar and Grill\, 8-11:30 pm
URL:https://southsoundblues.org/event/cory-wilds-band-tuesday-open-jam-night-at-elmers-bar-and-grill-31/
LOCATION:Elmer’s Bar & Grill\, 15027 Ambaum Blvd SW\, Burien\, WA\, 98166
CATEGORIES:Local South Sound Blues
END:VEVENT
BEGIN:VEVENT
DTSTART;TZID=America/Los_Angeles:20250625T180000
DTEND;TZID=America/Los_Angeles:20250625T210000
DTSTAMP:20260423T093618
CREATED:20250313T002855Z
LAST-MODIFIED:20250504T213341Z
UID:14490-1750874400-1750885200@southsoundblues.org
SUMMARY:Wednesday Funky Jazz at the Spar
DESCRIPTION:  Wednesday Funky Jazz at the Spar\, 6-9 pm
URL:https://southsoundblues.org/event/billy-shew-and-friends-host-an-open-jam-every-wednesday-at-stocktons-35/
LOCATION:The Spar\, 2121 N 30th St\, Tacoma\, WA\, 98403
CATEGORIES:Local South Sound Blues
END:VEVENT
BEGIN:VEVENT
DTSTART;TZID=America/Los_Angeles:20250626T190000
DTEND;TZID=America/Los_Angeles:20250626T220000
DTSTAMP:20260423T093618
CREATED:20250524T003057Z
LAST-MODIFIED:20250524T003057Z
UID:14905-1750964400-1750975200@southsoundblues.org
SUMMARY:“Billy the Pocket Jam” Thursday nights at Dawson’s
DESCRIPTION:“Billy the Pocket Jam” Thursday nights at Dawson’s\, 7-10 pm
URL:https://southsoundblues.org/event/billy-the-pocket-jam-thursday-nights-at-dawsons-46/
LOCATION:Dawson’s Bar & Grill\, 5443 South Tacoma Way\, Tacoma\, WA\, 98409
CATEGORIES:Local South Sound Blues
END:VEVENT
BEGIN:VEVENT
DTSTART;TZID=America/Los_Angeles:20250627T123000
DTEND;TZID=America/Los_Angeles:20250627T133000
DTSTAMP:20260423T093618
CREATED:20250609T012141Z
LAST-MODIFIED:20250609T012141Z
UID:15055-1751027400-1751031000@southsoundblues.org
SUMMARY:Annie Eastwood & Her All-Star Band Featuring Billy Stapleton at Taste NW\, Puyallup Fairgrounds Beer Garden
DESCRIPTION:Friday June 27\, 12:30pm to 1:30pm\, Annie Eastwood & Her All-Star Band Featuring Billy Stapleton at the Taste NW\, Puyallup Fairgrounds Beer Garden \n \n\n  \n  \n10 9th Avenue SW\nPuyallup\, WA 98371
URL:https://southsoundblues.org/event/annie-eastwood-her-all-star-band-featuring-billy-stapleton-at-taste-nw-puyallup-fairgrounds-beer-garden/
LOCATION:Puyallup Fairgrounds Beer Garden\, 10 9th Avenue SW\, Puyallup\, WA\, 98371
CATEGORIES:Local South Sound Blues
END:VEVENT
BEGIN:VEVENT
DTSTART;TZID=America/Los_Angeles:20250627T190000
DTEND;TZID=America/Los_Angeles:20250627T210000
DTSTAMP:20260423T093618
CREATED:20250504T010748Z
LAST-MODIFIED:20250504T010748Z
UID:14802-1751050800-1751058000@southsoundblues.org
SUMMARY:Trailer Park Kings at Kimball Coffeehouse
DESCRIPTION:Trailer Park Kings at Kimball Coffeehouse June 27th\, 7-9 pm
URL:https://southsoundblues.org/event/trailer-park-kings-at-kimball-coffeehouse-2/
LOCATION:Kimball’s Coffeehouse\, 6659 Kimball Dr\, Gig Harbor\, WA\, 98335
CATEGORIES:Local South Sound Blues
END:VEVENT
BEGIN:VEVENT
DTSTART;TZID=America/Los_Angeles:20250627T200000
DTEND;TZID=America/Los_Angeles:20250627T220000
DTSTAMP:20260423T093618
CREATED:20250606T230457Z
LAST-MODIFIED:20250606T230457Z
UID:14988-1751054400-1751061600@southsoundblues.org
SUMMARY:The Kim Archer Band at the Spanish Ballroom
DESCRIPTION:The Kim Archer Band at the Spanish Ballroom June 27th\, 8pm\n All Ages Event | Doors at 7pm & Show at 8pm!Tacoma — she’s back!  After a soulful season lighting up Puerto Vallarta\, Kim Archer returns home to take the stage at one of the city’s most iconic venues: the Spanish Ballroom. This isn’t just another show — it’s a celebration! Tickets are available now! https://www.etix.com/…/the-kim-archer-band-tacoma \n\n\n\n…
URL:https://southsoundblues.org/event/the-kim-archer-band-at-the-spanish-ballroom/
LOCATION:McMenaminsTacoma Elks\, 565 Broadway\, Tacoma\, WA\, 98402
CATEGORIES:Local South Sound Blues
END:VEVENT
BEGIN:VEVENT
DTSTART;TZID=America/Los_Angeles:20250627T200000
DTEND;TZID=America/Los_Angeles:20250627T230000
DTSTAMP:20260423T093618
CREATED:20250314T205257Z
LAST-MODIFIED:20250314T205257Z
UID:14542-1751054400-1751065200@southsoundblues.org
SUMMARY:Tim Hall Blues Band at Zesty Cajon Steak House
DESCRIPTION:Tim Hall Blues Band at Zesty Cajon Steak House June 27th\, 8-11 pm
URL:https://southsoundblues.org/event/tim-hall-blues-band-at-zesty-cajon-steak-house-3/
LOCATION:Zesty’s Cajun Steakhouse\, 9905 Bridgeport Way Southwest\, Lakewood\, WA\, 98499
CATEGORIES:Local South Sound Blues
END:VEVENT
BEGIN:VEVENT
DTSTART;TZID=America/Los_Angeles:20250628T200000
DTEND;TZID=America/Los_Angeles:20250628T220000
DTSTAMP:20260423T093618
CREATED:20250417T021339Z
LAST-MODIFIED:20250417T021339Z
UID:14701-1751140800-1751148000@southsoundblues.org
SUMMARY:The Mistaken at the Pig Bar\, Olympia
DESCRIPTION:The Mistaken at the Pig Bar June 28th\, 8-10 pm
URL:https://southsoundblues.org/event/the-mistaken-at-the-pig-bar-olympia/
LOCATION:South Bay Dickerson’s BBQ / Pig Bar Lounge\, 619 Legion Way SE\, Olympia\, WA\, 98501
CATEGORIES:Local South Sound Blues
END:VEVENT
BEGIN:VEVENT
DTSTART;TZID=America/Los_Angeles:20250628T200000
DTEND;TZID=America/Los_Angeles:20250628T230000
DTSTAMP:20260423T093618
CREATED:20250524T000328Z
LAST-MODIFIED:20250524T000328Z
UID:14899-1751140800-1751151600@southsoundblues.org
SUMMARY:Blues Redemption at Dawsons Bar & Grill
DESCRIPTION:Blues Redemption at Dawsons Bar & Grill June 28th\, 8pm
URL:https://southsoundblues.org/event/blues-redemption-at-dawsons-bar-grill-2/
LOCATION:Dawson’s Bar & Grill\, 5443 South Tacoma Way\, Tacoma\, WA\, 98409
CATEGORIES:Local South Sound Blues
END:VEVENT
BEGIN:VEVENT
DTSTART;TZID=America/Los_Angeles:20250629T190000
DTEND;TZID=America/Los_Angeles:20250629T220000
DTSTAMP:20260423T093618
CREATED:20250411T012530Z
LAST-MODIFIED:20250628T235000Z
UID:14659-1751223600-1751234400@southsoundblues.org
SUMMARY:Sunday Blues at the Spar with the Jeff & The Jet City Flyers
DESCRIPTION:Sunday Blues at the Spar with the Jeff & The Jet City Flyers
URL:https://southsoundblues.org/event/sunday-blues-at-the-spar-18/
LOCATION:The Spar\, 2121 N 30th St\, Tacoma\, WA\, 98403
CATEGORIES:Local South Sound Blues
END:VEVENT
BEGIN:VEVENT
DTSTART;TZID=America/Los_Angeles:20250629T190000
DTEND;TZID=America/Los_Angeles:20250629T230000
DTSTAMP:20260423T093618
CREATED:20250417T020759Z
LAST-MODIFIED:20250607T221919Z
UID:14699-1751223600-1751238000@southsoundblues.org
SUMMARY:Billy Shew Blues Jam\, every Sunday at Dawson’s
DESCRIPTION:Billy Shew Blues Jam\, every Sunday at Dawson’s\, 7-11 pm
URL:https://southsoundblues.org/event/billy-shew-blues-jam-every-sunday-at-dawsons-41/
LOCATION:Dawson’s Bar & Grill\, 5443 South Tacoma Way\, Tacoma\, WA\, 98409
CATEGORIES:Local South Sound Blues
END:VEVENT
BEGIN:VEVENT
DTSTART;TZID=America/Los_Angeles:20250630T180000
DTEND;TZID=America/Los_Angeles:20250630T210000
DTSTAMP:20260423T093618
CREATED:20250504T222826Z
LAST-MODIFIED:20250504T222903Z
UID:14864-1751306400-1751317200@southsoundblues.org
SUMMARY:Monday Jazz at Brother Don’s Bar & Grill\, Bremerton
DESCRIPTION:Monday Jazz at Brother Don’s Bar & Grill\, Bremerton\, 6-9 pm
URL:https://southsoundblues.org/event/monday-jazz-at-brother-dons-bar-grill-bremerton-17/
LOCATION:Brother Don’s Bar & Grill\, 4200 Kitsap Way\, Bremerton\, WA\, 98312
CATEGORIES:Local South Sound Blues
END:VEVENT
BEGIN:VEVENT
DTSTART;TZID=America/Los_Angeles:20250701T190000
DTEND;TZID=America/Los_Angeles:20250701T220000
DTSTAMP:20260423T093618
CREATED:20250417T015907Z
LAST-MODIFIED:20250417T015907Z
UID:14693-1751396400-1751407200@southsoundblues.org
SUMMARY:Jam every Tuesday at Brother Don’s Bar & Grill with the Tim Hall band
DESCRIPTION:Jam every Tuesday at Brother Don’s Bar & Grill with the Tim Hall band\, 7-10 pm.
URL:https://southsoundblues.org/event/jam-every-tuesday-at-brother-dons-bar-grill-with-the-tim-hall-band-15/
LOCATION:Brother Don’s Bar & Grill\, 4200 Kitsap Way\, Bremerton\, WA\, 98312
CATEGORIES:Local South Sound Blues
END:VEVENT
BEGIN:VEVENT
DTSTART;TZID=America/Los_Angeles:20250701T190000
DTEND;TZID=America/Los_Angeles:20250701T220000
DTSTAMP:20260423T093618
CREATED:20250701T150816Z
LAST-MODIFIED:20250701T150816Z
UID:15322-1751396400-1751407200@southsoundblues.org
SUMMARY:Billy Shew hosts the Burien Eagles Tuesday Night Jams
DESCRIPTION:Billy Shew hosts the Burien Eagles Tuesday Night Jams\,  7:00pm\n  Billy Shew photo by Dan Hill
URL:https://southsoundblues.org/event/billy-shew-hosts-the-burien-eagles-tuesday-night-jams-15/
LOCATION:Burien Eagles\, 920 SW 150th St\, Burien\, WA\, 98166
CATEGORIES:Local South Sound Blues
END:VEVENT
BEGIN:VEVENT
DTSTART;TZID=America/Los_Angeles:20250701T200000
DTEND;TZID=America/Los_Angeles:20250701T233000
DTSTAMP:20260423T093618
CREATED:20250612T200646Z
LAST-MODIFIED:20250612T200646Z
UID:15135-1751400000-1751412600@southsoundblues.org
SUMMARY:Cory Wilds Band Tuesday open Jam Night at Elmer’s Bar and Grill
DESCRIPTION:Cory Wilds Band Tuesday open Jam Night at Elmer’s Bar and Grill\, 8-11:30 pm
URL:https://southsoundblues.org/event/cory-wilds-band-tuesday-open-jam-night-at-elmers-bar-and-grill-34/
LOCATION:Elmer’s Bar & Grill\, 15027 Ambaum Blvd SW\, Burien\, WA\, 98166
CATEGORIES:Local South Sound Blues
END:VEVENT
BEGIN:VEVENT
DTSTART;TZID=America/Los_Angeles:20250703T190000
DTEND;TZID=America/Los_Angeles:20250703T220000
DTSTAMP:20260423T093618
CREATED:20250526T203005Z
LAST-MODIFIED:20250526T203005Z
UID:14938-1751569200-1751580000@southsoundblues.org
SUMMARY:Thursday nights- Billy "The Pocket" Blues Jams at Dawsons
DESCRIPTION:Thursday nights- Billy “The Pocket” Blues Jams at Dawsons\, 7-10 pm\n 
URL:https://southsoundblues.org/event/thursday-nights-billy-the-pocket-blues-jams-at-dawsons/
LOCATION:Dawson’s Bar & Grill\, 5443 South Tacoma Way\, Tacoma\, WA\, 98409
CATEGORIES:Local South Sound Blues
END:VEVENT
BEGIN:VEVENT
DTSTART;TZID=America/Los_Angeles:20250705T190000
DTEND;TZID=America/Los_Angeles:20250705T220000
DTSTAMP:20260423T093618
CREATED:20250703T164419Z
LAST-MODIFIED:20250703T164419Z
UID:15361-1751742000-1751752800@southsoundblues.org
SUMMARY:King Kom Beaux On The Deck at Johnny's Dock
DESCRIPTION:King Kom Beaux On The Deck at Johnny’s SATURDAY JULY 5TH 7-10PM
URL:https://southsoundblues.org/event/king-kom-beaux-on-the-deck-at-johnnys-dock/
LOCATION:Johnny’s Dock\, 1900 E D St\, Tacoma\, WA\, 98421
CATEGORIES:Local South Sound Blues
END:VEVENT
BEGIN:VEVENT
DTSTART;TZID=America/Los_Angeles:20250706T180000
DTEND;TZID=America/Los_Angeles:20250706T210000
DTSTAMP:20260423T093618
CREATED:20250411T004404Z
LAST-MODIFIED:20250411T004404Z
UID:14651-1751824800-1751835600@southsoundblues.org
SUMMARY:Tim Hall Blues Jam every Sunday at Zesty's
DESCRIPTION:Tim Hall Blues Jam every Sunday at Zesty’s Steakhouse\, 6-9pm
URL:https://southsoundblues.org/event/tim-hall-blues-jam-every-sunday-at-zestys-4/
LOCATION:Zesty’s Cajun Steakhouse\, 9905 Bridgeport Way Southwest\, Lakewood\, WA\, 98499
CATEGORIES:Local South Sound Blues
END:VEVENT
BEGIN:VEVENT
DTSTART;TZID=America/Los_Angeles:20250706T190000
DTEND;TZID=America/Los_Angeles:20250706T220000
DTSTAMP:20260423T093618
CREATED:20250524T020110Z
LAST-MODIFIED:20250630T155942Z
UID:14927-1751828400-1751839200@southsoundblues.org
SUMMARY:Sunday Blues at the Spar with the Joel Astley Band
DESCRIPTION:Sunday Blues at the Spar\, The Joel Astley Band July 6th\, 7-10 pm
URL:https://southsoundblues.org/event/sunday-blues-at-the-spar-24/
LOCATION:The Spar\, 2121 N 30th St\, Tacoma\, WA\, 98403
CATEGORIES:Local South Sound Blues
END:VEVENT
END:VCALENDAR