BEGIN:VCALENDAR
VERSION:2.0
PRODID:-//South Sound Blues Association - ECPv6.15.18//NONSGML v1.0//EN
CALSCALE:GREGORIAN
METHOD:PUBLISH
X-WR-CALNAME:South Sound Blues Association
X-ORIGINAL-URL:https://southsoundblues.org
X-WR-CALDESC:Events for South Sound Blues Association
REFRESH-INTERVAL;VALUE=DURATION:PT1H
X-Robots-Tag:noindex
X-PUBLISHED-TTL:PT1H
BEGIN:VTIMEZONE
TZID:America/Los_Angeles
BEGIN:DAYLIGHT
TZOFFSETFROM:-0800
TZOFFSETTO:-0700
TZNAME:PDT
DTSTART:20250309T100000
END:DAYLIGHT
BEGIN:STANDARD
TZOFFSETFROM:-0700
TZOFFSETTO:-0800
TZNAME:PST
DTSTART:20251102T090000
END:STANDARD
BEGIN:DAYLIGHT
TZOFFSETFROM:-0800
TZOFFSETTO:-0700
TZNAME:PDT
DTSTART:20260308T100000
END:DAYLIGHT
BEGIN:STANDARD
TZOFFSETFROM:-0700
TZOFFSETTO:-0800
TZNAME:PST
DTSTART:20261101T090000
END:STANDARD
BEGIN:DAYLIGHT
TZOFFSETFROM:-0800
TZOFFSETTO:-0700
TZNAME:PDT
DTSTART:20270314T100000
END:DAYLIGHT
BEGIN:STANDARD
TZOFFSETFROM:-0700
TZOFFSETTO:-0800
TZNAME:PST
DTSTART:20271107T090000
END:STANDARD
END:VTIMEZONE
BEGIN:VEVENT
DTSTART;TZID=America/Los_Angeles:20260428T200000
DTEND;TZID=America/Los_Angeles:20260428T233000
DTSTAMP:20260423T001655
CREATED:20260325T231132Z
LAST-MODIFIED:20260325T231132Z
UID:17386-1777406400-1777419000@southsoundblues.org
SUMMARY:Cory Wilds Band Tuesday open Jam Night at Elmer’s Bar and Grill
DESCRIPTION:Cory Wilds Band Tuesday open Jam Night at Elmer’s Bar and Grill\, 8-11:30 pm
URL:https://southsoundblues.org/event/cory-wilds-band-tuesday-open-jam-night-at-elmers-bar-and-grill-47/
LOCATION:Elmer’s Bar & Grill\, 15027 Ambaum Blvd SW\, Burien\, WA\, 98166
CATEGORIES:Local South Sound Blues
END:VEVENT
BEGIN:VEVENT
DTSTART;TZID=America/Los_Angeles:20260430T190000
DTEND;TZID=America/Los_Angeles:20260430T220000
DTSTAMP:20260423T001655
CREATED:20260306T001147Z
LAST-MODIFIED:20260306T001644Z
UID:17193-1777575600-1777586400@southsoundblues.org
SUMMARY:LTD Presents The Tad Robinson Band at the Blue Mouse Theatre\, Tacoma
DESCRIPTION:The Tad Robinson Band at the Blue Mouse Theatre April 30th 7pm\nTAD ROBINSON BAND featuring ALEX SCHULTZ\nhttps://www.ltdpresentslive.com/\nTickets: IN ADVANCE $35/$50\,   DAY OF SHOW all tickets +$5 \nhttps://tadrobinsontacoma.rsvpify.com/
URL:https://southsoundblues.org/event/the-tad-robinson-band-at-the-blue-mouse-theatre-tacoma/
LOCATION:Blue Mouse Theatre\, 2611 N Proctor\, Tacoma\, WA\, 98407
CATEGORIES:Local South Sound Blues
END:VEVENT
BEGIN:VEVENT
DTSTART;TZID=America/Los_Angeles:20260501T190000
DTEND;TZID=America/Los_Angeles:20260501T210000
DTSTAMP:20260423T001655
CREATED:20260312T053957Z
LAST-MODIFIED:20260312T053957Z
UID:17289-1777662000-1777669200@southsoundblues.org
SUMMARY:Annie Eastwood All-Star Band at Kimball Coffeehouse\, Gig Harbor
DESCRIPTION:Annie Eastwood All-Star Band at Kimball Coffeehouse Friday May 1st  7pm – 9pm\n \n 
URL:https://southsoundblues.org/event/annie-eastwood-all-star-band-at-kimball-coffeehouse-gig-harbor/
LOCATION:Kimball’s Coffeehouse\, 6659 Kimball Dr\, Gig Harbor\, WA\, 98335
CATEGORIES:Local South Sound Blues
END:VEVENT
BEGIN:VEVENT
DTSTART;TZID=America/Los_Angeles:20260502T193000
DTEND;TZID=America/Los_Angeles:20260502T220000
DTSTAMP:20260423T001655
CREATED:20260322T233325Z
LAST-MODIFIED:20260330T154455Z
UID:17341-1777750200-1777759200@southsoundblues.org
SUMMARY:Bell Bottom Blues- Tribute to Eric Clapton- at Green River College Student Affairs Building
DESCRIPTION:Bell Bottom Blues- Tribute to Eric Clapton- at Green River College Student Affairs Building May 2nd\, 7:30 pm\nBRAVO Performing Arts  https://app.arts-people.com/index.php?show=294136 \n\n\n\n\nPart of the 2026 BRAVO PERFORMING ARTS season at Green River College!Regular: $25\, Student/Senior: $22\,  Student Affairs Building\, 12401 SE 320th St. \n\n\n\n\n\nFounded in 2019\, Bell Bottom Blues quickly became a name in the Tribute scene of the Pacific Northwest. Honoring the extensive catalog of the great Eric Clapton – including Cream & Derek and The Dominos – Bell Bottom Blues’ lineup has evolved over the years and continues to thrill crowds from theaters and casinos to wineries and private events \nFront man JUSTIN KAUSAL-HAYES (lead vocals and guitar) brings years of experience as a performer and bandleader\, striving to recreate Clapton’s sound and feel with every note. Paired with the unmatched guitar skills of co-founding band member SCOTT DONALDSON with his own decades of expertise\, they are dedicated to the timeless melodies\, driving rhythms\, and masterful guitar licks of the iconic artist. Rounding out the band are some of Seattle’s most accomplished pro musicians. Their combined talent and passion for this classic music is evident every time they take the stage.
URL:https://southsoundblues.org/event/bell-bottom-blues-tribute-to-eric-clapton-at-green-river-college-student-affairs-building/
LOCATION:Green River College\, 12401 SE 320th St.\, Auburn\, WA\, 98092
CATEGORIES:Featured,Local South Sound Blues,Special Event
END:VEVENT
BEGIN:VEVENT
DTSTART;TZID=America/Los_Angeles:20260503T170000
DTEND;TZID=America/Los_Angeles:20260503T183000
DTSTAMP:20260423T001655
CREATED:20260107T214250Z
LAST-MODIFIED:20260107T214250Z
UID:16726-1777827600-1777833000@southsoundblues.org
SUMMARY:Blues Vespers at the Kilworth Memorial Chapel featuring Adam Levy & Tim Lerch (CD release party)
DESCRIPTION:Blues Vespers: a concert with a poem and something to think about. 5:00 Kilworth Chapel at the University of Puget Sound May 3rd\, Adam Levy & Tim Lerch CD release party!
URL:https://southsoundblues.org/event/blues-vespers-at-the-kilworth-memorial-chapel-featuring-adam-levy-tim-lerch-cd-release-party/
LOCATION:Kilworth Memorial Chapel\, 3410 N 18th St\, Tacoma\, WA\, 98416
CATEGORIES:Local South Sound Blues
END:VEVENT
BEGIN:VEVENT
DTSTART;TZID=America/Los_Angeles:20260505T190000
DTEND;TZID=America/Los_Angeles:20260505T220000
DTSTAMP:20260423T001655
CREATED:20260325T232332Z
LAST-MODIFIED:20260325T232332Z
UID:17396-1778007600-1778018400@southsoundblues.org
SUMMARY:Jam every Tuesday at Brother Don’s Bar & Grill with the Tim Hall band
DESCRIPTION:Jam every Tuesday at Brother Don’s Bar & Grill with the Tim Hall band 7-10 pm
URL:https://southsoundblues.org/event/jam-every-tuesday-at-brother-dons-bar-grill-with-the-tim-hall-band-32/
LOCATION:Brother Don’s Bar & Grill\, 4200 Kitsap Way\, Bremerton\, WA\, 98312
CATEGORIES:Local South Sound Blues
END:VEVENT
BEGIN:VEVENT
DTSTART;TZID=America/Los_Angeles:20260505T200000
DTEND;TZID=America/Los_Angeles:20260505T233000
DTSTAMP:20260423T001655
CREATED:20260325T231825Z
LAST-MODIFIED:20260325T231825Z
UID:17392-1778011200-1778023800@southsoundblues.org
SUMMARY:Cory Wilds Band Tuesday open Jam Night at Elmer’s Bar and Grill
DESCRIPTION:Cory Wilds Band Tuesday open Jam Night at Elmer’s Bar and Grill\, 8-11:30 pm
URL:https://southsoundblues.org/event/cory-wilds-band-tuesday-open-jam-night-at-elmers-bar-and-grill-50/
LOCATION:Elmer’s Bar & Grill\, 15027 Ambaum Blvd SW\, Burien\, WA\, 98166
CATEGORIES:Local South Sound Blues
END:VEVENT
BEGIN:VEVENT
DTSTART;TZID=America/Los_Angeles:20260507T190000
DTEND;TZID=America/Los_Angeles:20260507T220000
DTSTAMP:20260423T001655
CREATED:20260211T010956Z
LAST-MODIFIED:20260211T010956Z
UID:17030-1778180400-1778191200@southsoundblues.org
SUMMARY:Thursday nights- Billy “The Pocket” Blues Jams at Dawsons
DESCRIPTION:Thursday nights- Billy “The Pocket” Blues Jams at Dawsons\, 7-10 pm
URL:https://southsoundblues.org/event/thursday-nights-billy-the-pocket-blues-jams-at-dawsons-18/
LOCATION:Dawson’s Bar & Grill\, 5443 South Tacoma Way\, Tacoma\, WA\, 98409
CATEGORIES:Local South Sound Blues
END:VEVENT
BEGIN:VEVENT
DTSTART;TZID=America/Los_Angeles:20260507T190000
DTEND;TZID=America/Los_Angeles:20260507T220000
DTSTAMP:20260423T001655
CREATED:20260324T004520Z
LAST-MODIFIED:20260417T190822Z
UID:17359-1778180400-1778191200@southsoundblues.org
SUMMARY:The Spanish Ballroom Presents MidNite Bourbon with Guest Joel Astley
DESCRIPTION:MIDNITE BOURBON\, May 7th at the Spanish Ballroom With guest Joel Astley \, 7pm\nDoors 6PM\, Show 7PM\, All ages Event\, $17.43\nhttps://www.etix.com/ticket/p/98898244/midnite-bourbon-tacoma-mcmenamins-spanish-ballroom-elks-temple\n\nMid-Nite Bourbon\nDebuting in early 2022\, Mid-Nite Bourbon was born from the need to take blues music in a new direction while keeping the traditions of classic power trio bands and adding a unique Pacific Northwest twist. Mid-Nite Bourbon is the fierce guitar work of Brian Olver\, the bong rattling bass of Jesse Turcotte and the competent drum work of Devan Bland. Wherever the stage Mid-Nite Bourbon will provide top shelf entertainment and a high energy performance every time!\nBrian Olver- Guitar/Vocals\, Jesse Turcotte – Bass\, Devan Bland- Drums\n\nJoel Astley\nSeattle-based Joel Astley\, a world class singer\, songwriter\, and harmonica slinger\, has amassed dozens of awards from the Washington Blues Society\, among other accolades. His 4-piece band delivers a high energy and engaging show\, blending catchy originals and select classic cuts! They bring a high energy show that draws from roots rock\, funk\, blues\, soul\, Americana and rockabilly. The band has amassed dozens of awards\, nominations and other accolades\, most recently sweeping the 2024 and 2025 Washington’s Best of the Blues Awards. They tour regularly\, and have performed and/ or headlined many festivals throughout the Pacific\n\nNorthwest. $12 ADV $15 Door May 7th at 7PM.\n 
URL:https://southsoundblues.org/event/the-spanish-ballroom-presents-midnite-bourbon-with-guest-joel-astley/
LOCATION:McMenaminsTacoma Elks\, 565 Broadway\, Tacoma\, WA\, 98402
CATEGORIES:Local South Sound Blues,Special Event
END:VEVENT
BEGIN:VEVENT
DTSTART;TZID=America/Los_Angeles:20260508T190000
DTEND;TZID=America/Los_Angeles:20260508T210000
DTSTAMP:20260423T001655
CREATED:20260331T194953Z
LAST-MODIFIED:20260331T194953Z
UID:17468-1778266800-1778274000@southsoundblues.org
SUMMARY:The Trailer Park Kings at Kimball Coffeehouse
DESCRIPTION:The Trailer Park Kings at Kimball Coffeehouse May 8th 7-9 pm
URL:https://southsoundblues.org/event/the-trailer-park-kings-at-kimball-coffeehouse/
LOCATION:Kimball’s Coffeehouse\, 6659 Kimball Dr\, Gig Harbor\, WA\, 98335
CATEGORIES:Local South Sound Blues
END:VEVENT
BEGIN:VEVENT
DTSTART;TZID=America/Los_Angeles:20260509T180000
DTEND;TZID=America/Los_Angeles:20260510T000000
DTSTAMP:20260423T001655
CREATED:20260206T023147Z
LAST-MODIFIED:20260206T023258Z
UID:16975-1778349600-1778371200@southsoundblues.org
SUMMARY:All Blues\, Every Saturday and Sunday night on KNKX 88.5 fm
DESCRIPTION:All Blues\, Every Saturday and Sunday night on KNKX 88.5 fm 6pm-Midnight\nhttps://www.knkx.org/listening-options
URL:https://southsoundblues.org/event/all-blues-every-saturday-and-sunday-night-on-knkx-88-5-fm-4/
LOCATION:KNKX\, 930 Broadway Tacoma\, WA\, 98402\, Tacoma\, WA\, 98402
CATEGORIES:Local South Sound Blues
END:VEVENT
BEGIN:VEVENT
DTSTART;TZID=America/Los_Angeles:20260510T190000
DTEND;TZID=America/Los_Angeles:20260510T230000
DTSTAMP:20260423T001655
CREATED:20260115T023238Z
LAST-MODIFIED:20260115T023332Z
UID:16787-1778439600-1778454000@southsoundblues.org
SUMMARY:Billy Shew Blues Jam\, every Sunday at Dawson’s
DESCRIPTION:Billy Shew Blues Jam\, every Sunday at Dawson’s\, 7-11 pm
URL:https://southsoundblues.org/event/billy-shew-blues-jam-every-sunday-at-dawsons-54/
LOCATION:Dawson’s Bar & Grill\, 5443 South Tacoma Way\, Tacoma\, WA\, 98409
CATEGORIES:Local South Sound Blues
END:VEVENT
BEGIN:VEVENT
DTSTART;TZID=America/Los_Angeles:20260511T170000
DTEND;TZID=America/Los_Angeles:20260511T190000
DTSTAMP:20260423T001655
CREATED:20260312T062629Z
LAST-MODIFIED:20260312T062629Z
UID:17311-1778518800-1778526000@southsoundblues.org
SUMMARY:Maxwell street all stars Blues Jam 2nd and 3rd Mondays at Echoes Brewing\, Poulsbo
DESCRIPTION:Maxwell street all stars Blues Jam 2nd and 3rd Mondays at Echoes Brewing\, Poulsbo\, 5-7 pm hosted by the “Maxwell Street All-Stars!\n\nEchoes Brewing\, 19479 Viking Ave NW\, Poulsbo\, WA 98370 
URL:https://southsoundblues.org/event/maxwell-street-all-stars-blues-jam-2nd-and-3rd-mondays-at-echoes-brewing-poulsbo-2/
LOCATION:Echoes Brewing\, 19479 Viking Ave NW\, Poulsbo\, WA\, 98370
CATEGORIES:Local South Sound Blues
END:VEVENT
BEGIN:VEVENT
DTSTART;TZID=America/Los_Angeles:20260512T190000
DTEND;TZID=America/Los_Angeles:20260512T220000
DTSTAMP:20260423T001655
CREATED:20260325T232529Z
LAST-MODIFIED:20260325T232529Z
UID:17398-1778612400-1778623200@southsoundblues.org
SUMMARY:Jam every Tuesday at Brother Don’s Bar & Grill with the Tim Hall band
DESCRIPTION:Jam every Tuesday at Brother Don’s Bar & Grill with the Tim Hall band 7-10 pm
URL:https://southsoundblues.org/event/jam-every-tuesday-at-brother-dons-bar-grill-with-the-tim-hall-band-33/
LOCATION:Brother Don’s Bar & Grill\, 4200 Kitsap Way\, Bremerton\, WA\, 98312
CATEGORIES:Local South Sound Blues
END:VEVENT
BEGIN:VEVENT
DTSTART;TZID=America/Los_Angeles:20260512T200000
DTEND;TZID=America/Los_Angeles:20260512T233000
DTSTAMP:20260423T001655
CREATED:20260325T231335Z
LAST-MODIFIED:20260325T231335Z
UID:17388-1778616000-1778628600@southsoundblues.org
SUMMARY:Cory Wilds Band Tuesday open Jam Night at Elmer’s Bar and Grill
DESCRIPTION:Cory Wilds Band Tuesday open Jam Night at Elmer’s Bar and Grill\, 8-11:30 pm
URL:https://southsoundblues.org/event/cory-wilds-band-tuesday-open-jam-night-at-elmers-bar-and-grill-48/
LOCATION:Elmer’s Bar & Grill\, 15027 Ambaum Blvd SW\, Burien\, WA\, 98166
CATEGORIES:Local South Sound Blues
END:VEVENT
BEGIN:VEVENT
DTSTART;TZID=America/Los_Angeles:20260514T190000
DTEND;TZID=America/Los_Angeles:20260514T220000
DTSTAMP:20260423T001655
CREATED:20260211T010228Z
LAST-MODIFIED:20260211T010500Z
UID:17021-1778785200-1778796000@southsoundblues.org
SUMMARY:Creole Soul Open Mic Jam Night Thursdays\, Des Moines
DESCRIPTION:Creole Soul Open Mic Jam Night Thursdays at 7 PM in Des Moines\, WA\, with host The Busby Band.\n\n\nRock the mic\, beat the skins\, and spank the plank—Full backline provided.\n22341 Marine View Drive South\, Des Moines\, Washington 98198\nSoulful singers\, melody minglers\, hand clappers\, toe tappers\, and finger snappers.
URL:https://southsoundblues.org/event/creole-soul-open-mic-jam-night-thursdays-at-7-pm-in-des-moines/
LOCATION:Creole Soul\, 22341 Marine View Drive\, Des Moines\, WA\, 98198
CATEGORIES:Local South Sound Blues
END:VEVENT
BEGIN:VEVENT
DTSTART;TZID=America/Los_Angeles:20260519T190000
DTEND;TZID=America/Los_Angeles:20260519T220000
DTSTAMP:20260423T001655
CREATED:20260330T224950Z
LAST-MODIFIED:20260330T224950Z
UID:17456-1779217200-1779228000@southsoundblues.org
SUMMARY:Billy Shew Jam every Tuesday night at the Burien Eagles
DESCRIPTION:Billy Shew Jam every Tuesday night at the Burien Eagles 7-10 pm\n 
URL:https://southsoundblues.org/event/billy-shew-jam-every-tuesday-night-at-the-burien-eagles-4/
LOCATION:Burien Eagles\, 920 SW 150th St\, Burien\, WA\, 98166
CATEGORIES:Local South Sound Blues
END:VEVENT
BEGIN:VEVENT
DTSTART;TZID=America/Los_Angeles:20260519T200000
DTEND;TZID=America/Los_Angeles:20260519T233000
DTSTAMP:20260423T001655
CREATED:20260325T232100Z
LAST-MODIFIED:20260325T232100Z
UID:17394-1779220800-1779233400@southsoundblues.org
SUMMARY:Cory Wilds Band Tuesday open Jam Night at Elmer’s Bar and Grill
DESCRIPTION:Cory Wilds Band Tuesday open Jam Night at Elmer’s Bar and Grill\, 8-11:30 pm
URL:https://southsoundblues.org/event/cory-wilds-band-tuesday-open-jam-night-at-elmers-bar-and-grill-51/
LOCATION:Elmer’s Bar & Grill\, 15027 Ambaum Blvd SW\, Burien\, WA\, 98166
CATEGORIES:Local South Sound Blues
END:VEVENT
BEGIN:VEVENT
DTSTART;TZID=America/Los_Angeles:20260520T190000
DTEND;TZID=America/Los_Angeles:20260520T220000
DTSTAMP:20260423T001655
CREATED:20260417T190627Z
LAST-MODIFIED:20260417T190713Z
UID:17540-1779303600-1779314400@southsoundblues.org
SUMMARY:McMenamins Presents: The Bruce Maier Blues Band with Backlash at the Spanish Ballroom
DESCRIPTION:McMenamins Presents: THE BRUCE MAIER BLUES BAND with Backlash at the Spanish Ballroom with Backlash May 20th\, 7pm\nDoors 6PM\, All ages Event\, $12.23\nhttps://www.etix.com/ticket/p/32135872/the-bruce-maier-blues-band-tacoma-mcmenamins-spanish-ballroom-elks-temple\n\nTHE BRUCE MAIER BLUES BAND\n\nBruce made his living as a musician and singer throughout the seventies and into the nineties. He became a recording engineer with television production eventually owning a small studio writing over 200 of his own songs. His shows always incorporate at least six originals. He is a member of both the SSBA and the Washington Blues Society. He often visits musicians in Vegas helping in the studio playing guitar\, bass piano or mandolin and also performs at the annual ‘Jam on the Rocks’ Blues Jam each year with other international musicians. Bruce was born in Pasadena CA and currently resides in the Centralia area in Washington.\n\nBACKLASH BackLash is a 5-piece cover band playing a variety of rock\, country and blues music. Their selection of songs are classic hits that evoke good memories of another time and place. The band consists of Drums\, Bass\, Keyboard\, two Guitars\, Harmonica and four vocalists. The band has been together since 2011 playing throughout the South Sound and is based out of Olympia\, Washington.
URL:https://southsoundblues.org/event/mcmenamins-presents-the-bruce-maier-blues-band-with-backlash-at-the-spanish-ballroom/
LOCATION:McMenaminsTacoma Elks\, 565 Broadway\, Tacoma\, WA\, 98402
CATEGORIES:Featured,Local South Sound Blues
END:VEVENT
BEGIN:VEVENT
DTSTART;TZID=America/Los_Angeles:20260522T190000
DTEND;TZID=America/Los_Angeles:20260522T210000
DTSTAMP:20260423T001655
CREATED:20260331T201106Z
LAST-MODIFIED:20260331T201106Z
UID:17478-1779476400-1779483600@southsoundblues.org
SUMMARY:Mark Dufresne band at Kimball Coffeehouse\, Gig Harbor
DESCRIPTION:mark dufresne\n\nFri May 22nd 7:00pm (PDT)\n\n\n\n\nKimball Coffee House\, 6659 Kimball Dr a102\, Gig Harbor\, WA 98335\, USA  \n\nMay 22nd Kimball’s Gig Harbor\, Mark Dufresne 7-9pm
URL:https://southsoundblues.org/event/mark-dufresne-band-at-kimball-coffeehouse-gig-harbor/
LOCATION:Kimball’s Coffeehouse\, 6659 Kimball Dr\, Gig Harbor\, WA\, 98335
CATEGORIES:Local South Sound Blues
END:VEVENT
BEGIN:VEVENT
DTSTART;TZID=America/Los_Angeles:20260522T200000
DTEND;TZID=America/Los_Angeles:20260522T223000
DTSTAMP:20260423T001655
CREATED:20260417T192106Z
LAST-MODIFIED:20260417T192426Z
UID:17545-1779480000-1779489000@southsoundblues.org
SUMMARY:Mcmenamins Presents: One Way Out (Allman Brothers tribute) at the Spanish Ballroom\, Also- Rafael Tranquilino\, Tacoma
DESCRIPTION:One Way Out (Allman Brothers tribute) Friday May 22nd 8pm at the Mcmenamins Spanish Ballroom in Tacoma. Doors- 7pm\nhttps://www.etix.com/ticket/p/94427063/one-way-out-allman-brother-tribute-tacoma-mcmenamins-spanish-ballroom-elks-temple\nOne Way Out PDX is the Portland\, OR based 8-member powerhouse tribute to the music of the great Allman Brothers Band. One way Out is taking the Northwest by storm with their high energy and inspired live performances of the music of one of the best live rock bands of all time. Everyone One Way Out show is a different experience\, with the repertoire representing the long history of this great band.\nWebsite: https://onewayoutpdx.com/\nRafael Tranquilino was Awarded “2023 Best Electric Blues Guitar” – He gained popularity in the U.S. playing guitar and as acting musical director for the Randy Oxford Band (2007 – 2011) before branching out and forming the Rafael Tranquilino Band in 2011. Additionally\, during this time\, Rafael became a skilled music producer\, with past and ongoing projects in the works. In the year of 2020\, Rafael decided to use his production skills and started his career as a Music Producer and adding his own special touch to any music genre that comes his way\, including his own.  “The music I play is to rock your heart & soul- to expand your awareness.” – Rafael Tranquilino
URL:https://southsoundblues.org/event/mcmenamins-presents-one-way-out-allman-brothers-tribute-at-the-spanish-ballroom-also-rafael-tranquilino-tacoma/
LOCATION:McMenaminsTacoma Elks\, 565 Broadway\, Tacoma\, WA\, 98402
CATEGORIES:Featured,Local South Sound Blues
END:VEVENT
BEGIN:VEVENT
DTSTART;TZID=America/Los_Angeles:20260524T190000
DTEND;TZID=America/Los_Angeles:20260524T230000
DTSTAMP:20260423T001655
CREATED:20260211T013623Z
LAST-MODIFIED:20260211T013623Z
UID:17052-1779649200-1779663600@southsoundblues.org
SUMMARY:Billy Shew Jam at Dawsons every Sunday
DESCRIPTION:Billy Shew Jam at Dawsons every Sunday 7-11 pm
URL:https://southsoundblues.org/event/billy-shew-jam-at-dawsons-every-sunday-4/
LOCATION:Dawson’s Bar & Grill\, 5443 South Tacoma Way\, Tacoma\, WA\, 98409
CATEGORIES:Local South Sound Blues
END:VEVENT
BEGIN:VEVENT
DTSTART;TZID=America/Los_Angeles:20260526T190000
DTEND;TZID=America/Los_Angeles:20260526T210000
DTSTAMP:20260423T001655
CREATED:20251227T210353Z
LAST-MODIFIED:20260406T231721Z
UID:16637-1779822000-1779829200@southsoundblues.org
SUMMARY:Purdy's Tuesday Blues Showcase featuring Stevie & The Blue Flames\, Sumner
DESCRIPTION:Purdy’s Tuesday Blues Showcase featuring Stevie & The Blue Flames May 26th\, 7-9 pm at Purdy’s Public House & Arcade\n  Steve Bailey
URL:https://southsoundblues.org/event/purdys-tuesday-blues-showcase-featuring-stevie-the-blue-flames-sumner/
LOCATION:Purdy’s Public House & Arcade\, Sumner\, 16202 64th St E\, Sumner\, WA\, 98390
CATEGORIES:Local South Sound Blues
END:VEVENT
BEGIN:VEVENT
DTSTART;TZID=America/Los_Angeles:20260528T190000
DTEND;TZID=America/Los_Angeles:20260528T220000
DTSTAMP:20260423T001655
CREATED:20260306T012453Z
LAST-MODIFIED:20260306T012453Z
UID:17216-1779994800-1780005600@southsoundblues.org
SUMMARY:Thursday nights- Billy “The Pocket” Blues Jams at Dawsons
DESCRIPTION:Thursday nights- Billy “The Pocket” Blues Jams at Dawsons\, 7-10 pm
URL:https://southsoundblues.org/event/thursday-nights-billy-the-pocket-blues-jams-at-dawsons-22/
LOCATION:Dawson’s Bar & Grill\, 5443 South Tacoma Way\, Tacoma\, WA\, 98409
CATEGORIES:Local South Sound Blues
END:VEVENT
BEGIN:VEVENT
DTSTART;TZID=America/Los_Angeles:20260531T190000
DTEND;TZID=America/Los_Angeles:20260531T220000
DTSTAMP:20260423T001655
CREATED:20251117T020406Z
LAST-MODIFIED:20251117T020406Z
UID:16576-1780254000-1780264800@southsoundblues.org
SUMMARY:Sunday Blues at the Spar
DESCRIPTION:Sunday Blues at the Spar 7-10 pm
URL:https://southsoundblues.org/event/sunday-blues-at-the-spar-57/
LOCATION:The Spar\, 2121 N 30th St\, Tacoma\, WA\, 98403
CATEGORIES:Local South Sound Blues
END:VEVENT
BEGIN:VEVENT
DTSTART;TZID=America/Los_Angeles:20260601T200000
DTEND;TZID=America/Los_Angeles:20260601T220000
DTSTAMP:20260423T001655
CREATED:20260206T003349Z
LAST-MODIFIED:20260206T003349Z
UID:16957-1780344000-1780351200@southsoundblues.org
SUMMARY:Mike Witmer hosts “Mojo Mike’s Blues Revue” every Monday on KVSH 101.9 FM
DESCRIPTION:Mike Witmer hosts “Mojo Mike’s Blues Revue” every Monday on KVSH 101.9 FM\, 8-10 pm
URL:https://southsoundblues.org/event/mike-witmer-hosts-mojo-mikes-blues-revue-every-monday-on-kvsh-101-9-fm-52/
LOCATION:KVSH\, 17643 Vashon Hwy SW\, Vashon Island\, WA\, 98070
CATEGORIES:Local South Sound Blues
END:VEVENT
BEGIN:VEVENT
DTSTART;TZID=America/Los_Angeles:20260602T200000
DTEND;TZID=America/Los_Angeles:20260602T233000
DTSTAMP:20260423T001655
CREATED:20260325T231551Z
LAST-MODIFIED:20260325T231551Z
UID:17390-1780430400-1780443000@southsoundblues.org
SUMMARY:Cory Wilds Band Tuesday open Jam Night at Elmer’s Bar and Grill
DESCRIPTION:Cory Wilds Band Tuesday open Jam Night at Elmer’s Bar and Grill\, 8-11:30 pm
URL:https://southsoundblues.org/event/cory-wilds-band-tuesday-open-jam-night-at-elmers-bar-and-grill-49/
LOCATION:Elmer’s Bar & Grill\, 15027 Ambaum Blvd SW\, Burien\, WA\, 98166
CATEGORIES:Local South Sound Blues
END:VEVENT
BEGIN:VEVENT
DTSTART;TZID=America/Los_Angeles:20260604T190000
DTEND;TZID=America/Los_Angeles:20260604T213000
DTSTAMP:20260423T001655
CREATED:20260324T013906Z
LAST-MODIFIED:20260324T014009Z
UID:17361-1780599600-1780608600@southsoundblues.org
SUMMARY:BELL BOTTOM BLUES (Clapton Tribute) at the Blue Mouse\, Tacoma
DESCRIPTION:BELL BOTTOM BLUES (Clapton Tribute)\,LIVE AND UNPLUGGED in TACOMA!!! June 4th\, 7pm at The Blue Mouse
URL:https://southsoundblues.org/event/bell-bottom-blues-clapton-tribute-at-the-blue-mouse-tacoma/
LOCATION:Blue Mouse Theatre\, 2611 N Proctor\, Tacoma\, WA\, 98407
CATEGORIES:Local South Sound Blues
END:VEVENT
BEGIN:VEVENT
DTSTART;TZID=America/Los_Angeles:20260606T180000
DTEND;TZID=America/Los_Angeles:20260607T000000
DTSTAMP:20260423T001655
CREATED:20260211T011903Z
LAST-MODIFIED:20260211T011951Z
UID:17038-1780768800-1780790400@southsoundblues.org
SUMMARY:All Blues\, Every Saturday and Sunday night on KNKX 88.5 fm
DESCRIPTION:All Blues\, Every Saturday and Sunday night on KNKX 88.5 fm 6pm-Midnight\nFrom Tacoma/Seattle\, blues party; hosted by John Kessler. For a full six hours each evening\, John draws from the full spectrum of the blues in his award-winning shows and offers a unique look at blues recording history.  https://www.knkx.org/listening-options
URL:https://southsoundblues.org/event/all-blues-every-saturday-and-sunday-night-on-knkx-88-5-fm-5/
LOCATION:KNKX\, 930 Broadway Tacoma\, WA\, 98402\, Tacoma\, WA\, 98402
CATEGORIES:Local South Sound Blues
END:VEVENT
BEGIN:VEVENT
DTSTART;TZID=America/Los_Angeles:20260607T190000
DTEND;TZID=America/Los_Angeles:20260607T230000
DTSTAMP:20260423T001655
CREATED:20260115T023505Z
LAST-MODIFIED:20260115T023505Z
UID:16789-1780858800-1780873200@southsoundblues.org
SUMMARY:Billy Shew Blues Jam\, every Sunday at Dawson’s
DESCRIPTION:Billy Shew Blues Jam\, every Sunday at Dawson’s\, 7-11 pm
URL:https://southsoundblues.org/event/billy-shew-blues-jam-every-sunday-at-dawsons-55/
LOCATION:Dawson’s Bar & Grill\, 5443 South Tacoma Way\, Tacoma\, WA\, 98409
CATEGORIES:Local South Sound Blues
END:VEVENT
END:VCALENDAR