BEGIN:VCALENDAR
VERSION:2.0
PRODID:-//South Sound Blues Association - ECPv6.15.18//NONSGML v1.0//EN
CALSCALE:GREGORIAN
METHOD:PUBLISH
X-WR-CALNAME:South Sound Blues Association
X-ORIGINAL-URL:https://southsoundblues.org
X-WR-CALDESC:Events for South Sound Blues Association
REFRESH-INTERVAL;VALUE=DURATION:PT1H
X-Robots-Tag:noindex
X-PUBLISHED-TTL:PT1H
BEGIN:VTIMEZONE
TZID:America/Los_Angeles
BEGIN:DAYLIGHT
TZOFFSETFROM:-0800
TZOFFSETTO:-0700
TZNAME:PDT
DTSTART:20240310T100000
END:DAYLIGHT
BEGIN:STANDARD
TZOFFSETFROM:-0700
TZOFFSETTO:-0800
TZNAME:PST
DTSTART:20241103T090000
END:STANDARD
BEGIN:DAYLIGHT
TZOFFSETFROM:-0800
TZOFFSETTO:-0700
TZNAME:PDT
DTSTART:20250309T100000
END:DAYLIGHT
BEGIN:STANDARD
TZOFFSETFROM:-0700
TZOFFSETTO:-0800
TZNAME:PST
DTSTART:20251102T090000
END:STANDARD
BEGIN:DAYLIGHT
TZOFFSETFROM:-0800
TZOFFSETTO:-0700
TZNAME:PDT
DTSTART:20260308T100000
END:DAYLIGHT
BEGIN:STANDARD
TZOFFSETFROM:-0700
TZOFFSETTO:-0800
TZNAME:PST
DTSTART:20261101T090000
END:STANDARD
END:VTIMEZONE
BEGIN:VEVENT
DTSTART;TZID=America/Los_Angeles:20250120T180000
DTEND;TZID=America/Los_Angeles:20250120T210000
DTSTAMP:20260423T233602
CREATED:20241223T231005Z
LAST-MODIFIED:20241223T231005Z
UID:13975-1737396000-1737406800@southsoundblues.org
SUMMARY:Monday Jazz at Brother Don’s Bar & Grill\, Bremerton
DESCRIPTION:Monday Jazz at Brother Don’s Bar & Grill\, Bremerton\, 6-9 pm.
URL:https://southsoundblues.org/event/monday-jazz-at-brother-dons-bar-grill-bremerton-8/
LOCATION:Brother Don’s Bar & Grill\, 4200 Kitsap Way\, Bremerton\, WA\, 98312
CATEGORIES:Local South Sound Blues
END:VEVENT
BEGIN:VEVENT
DTSTART;TZID=America/Los_Angeles:20250121T190000
DTEND;TZID=America/Los_Angeles:20250121T220000
DTSTAMP:20260423T233602
CREATED:20241031T004418Z
LAST-MODIFIED:20241031T004418Z
UID:13727-1737486000-1737496800@southsoundblues.org
SUMMARY:Jam every Tuesday at Brother Don’s Bar & Grill with the Tim Hall band
DESCRIPTION:Jam every Tuesday at Brother Don’s Bar & Grill with the Tim Hall band\, 7-10 pm.
URL:https://southsoundblues.org/event/jam-every-tuesday-at-brother-dons-bar-grill-with-the-tim-hall-band-9/
LOCATION:Brother Don’s Bar & Grill\, 4200 Kitsap Way\, Bremerton\, WA\, 98312
CATEGORIES:Local South Sound Blues
END:VEVENT
BEGIN:VEVENT
DTSTART;TZID=America/Los_Angeles:20250122T190000
DTEND;TZID=America/Los_Angeles:20250122T220000
DTSTAMP:20260423T233602
CREATED:20241223T232229Z
LAST-MODIFIED:20241223T232229Z
UID:13981-1737572400-1737583200@southsoundblues.org
SUMMARY:Wednesdays Blues “Jam Night” with Brian Olver and Glenn Hummel at Purdy’s\, Sumner
DESCRIPTION:Wednesdays Blues “Jam Night” with Brian Olver and Glenn Hummel at Purdy’s\, Sumner\, WA. 7-10 pm
URL:https://southsoundblues.org/event/wednesdays-blues-jam-night-with-brian-olver-and-glenn-hummel-at-purdys-sumner-19/
LOCATION:Purdy’s Public House & Arcade\, Sumner\, 16202 64th St E\, Sumner\, WA\, 98390
CATEGORIES:Local South Sound Blues
END:VEVENT
BEGIN:VEVENT
DTSTART;TZID=America/Los_Angeles:20250124T200000
DTEND;TZID=America/Los_Angeles:20250124T233000
DTSTAMP:20260423T233602
CREATED:20250107T014538Z
LAST-MODIFIED:20250107T014538Z
UID:14122-1737748800-1737761400@southsoundblues.org
SUMMARY:King Kom Beaux at the Bethel Saloon
DESCRIPTION:King Kom Beaux at the Bethel Saloon January 24th 8-12 pm
URL:https://southsoundblues.org/event/king-kom-beaux-at-the-bethel-saloon/
LOCATION:Bethel Saloon\, 3840 Bethel Rd SE\, Port Orchard\, WA\, 98366
CATEGORIES:Local South Sound Blues
END:VEVENT
BEGIN:VEVENT
DTSTART;TZID=America/Los_Angeles:20250125T160000
DTEND;TZID=America/Los_Angeles:20250125T190000
DTSTAMP:20260423T233602
CREATED:20250122T231025Z
LAST-MODIFIED:20250122T231025Z
UID:14195-1737820800-1737831600@southsoundblues.org
SUMMARY:Mark Hurwitz & Gin Creek at the Urban Elk
DESCRIPTION:Mark Hurwitz & Gin Creek at the Urban Elk January 25th 4-7 pm\n\n\n\n\n\n\n\n\n\n\n\n\n\n\n\n\n\n\nReturning to the Urban Elk with a great lineup of musicians! Including Tanya Hodel\, Patrick McDanel and Aaron Hennings.
URL:https://southsoundblues.org/event/mark-hurwitz-gin-creek-at-the-urban-elk/
LOCATION:Urban Elk\, 2013 S Cedar St\, Tacoma\, WA\, 98405
CATEGORIES:Local South Sound Blues
END:VEVENT
BEGIN:VEVENT
DTSTART;TZID=America/Los_Angeles:20250125T180000
DTEND;TZID=America/Los_Angeles:20250125T200000
DTSTAMP:20260423T233602
CREATED:20250123T000454Z
LAST-MODIFIED:20250123T000714Z
UID:14199-1737828000-1737835200@southsoundblues.org
SUMMARY:Reji Marc at Velvet's Big Easy\, Parkland
DESCRIPTION:Reji Marc performing at Velvet’s Big Easy\,  January 25th\, 6-8 PM!\n\n\n Experience the soul-stirring blues-alternative sounds of Reji Marc while indulging in our HOT HOT HOT newly added menu items:\n Vegan Jambalaya\n Chicken & Sausage Jambalaya\n Fried Bologna Sandwich\n Hush Puppies\n Fried Chicken Po’Boy\n Shrimp Plate w/ Fries\n\n\nBring your appetite and your love for live music—we can’t wait to see you!\n\n\n Velvet’s Big Easy\n124 146th St S\, Parkland\, WA 98444
URL:https://southsoundblues.org/event/reji-marc-at-velvets-big-easy-parkland/
LOCATION:Velvet’s Big Easy\, 124 146th St S\, Parkland\, WA\, 98444
CATEGORIES:Local South Sound Blues
END:VEVENT
BEGIN:VEVENT
DTSTART;TZID=America/Los_Angeles:20250126T190000
DTEND;TZID=America/Los_Angeles:20250126T220000
DTSTAMP:20260423T233602
CREATED:20241112T012922Z
LAST-MODIFIED:20241112T012922Z
UID:13809-1737918000-1737928800@southsoundblues.org
SUMMARY:Sunday Blues at the Spar with the Dana Lupinacci Band
DESCRIPTION:Jan 26th\, Sunday Blues at the Spar with the Dana Lupinacci Band\,  7pm
URL:https://southsoundblues.org/event/sunday-blues-at-the-spar-with-the-dana-lupinacci-band/
LOCATION:The Spar\, 2121 N 30th St\, Tacoma\, WA\, 98403
CATEGORIES:Local South Sound Blues
END:VEVENT
BEGIN:VEVENT
DTSTART;TZID=America/Los_Angeles:20250127T200000
DTEND;TZID=America/Los_Angeles:20250127T220000
DTSTAMP:20260423T233602
CREATED:20241228T065146Z
LAST-MODIFIED:20241228T065146Z
UID:14007-1738008000-1738015200@southsoundblues.org
SUMMARY:Mike Witmer hosts “Mojo Mike’s Blues Revue” every Monday on KVSH 101.9 FM
DESCRIPTION:Mike Witmer hosts “Mojo Mike’s Blues Revue” every Monday on KVSH 101.9 FM 8-10 pm
URL:https://southsoundblues.org/event/mike-witmer-hosts-mojo-mikes-blues-revue-every-monday-on-kvsh-101-9-fm-31/
LOCATION:KVSH\, 17643 Vashon Hwy SW\, Vashon Island\, WA\, 98070
CATEGORIES:Local South Sound Blues
END:VEVENT
BEGIN:VEVENT
DTSTART;TZID=America/Los_Angeles:20250128T190000
DTEND;TZID=America/Los_Angeles:20250128T210000
DTSTAMP:20260423T233602
CREATED:20240924T202836Z
LAST-MODIFIED:20240924T202836Z
UID:13466-1738090800-1738098000@southsoundblues.org
SUMMARY:Tuesday 'Blues Showcase' with The John Stephan Band at Purdy's Public House & Arcade\, Sumner
DESCRIPTION:Tuesday ‘Blues Showcase’ with The John Stephan Band at Purdy’s Public House & Arcade\, Sumner. 7-9 pm
URL:https://southsoundblues.org/event/tuesday-blues-showcase-with-the-john-stephan-band-at-purdys-public-house-arcade-sumner/
LOCATION:Purdy’s Public House & Arcade\, Sumner\, 16202 64th St E\, Sumner\, WA\, 98390
CATEGORIES:Local South Sound Blues
END:VEVENT
BEGIN:VEVENT
DTSTART;TZID=America/Los_Angeles:20250129T180000
DTEND;TZID=America/Los_Angeles:20250129T210000
DTSTAMP:20260423T233602
CREATED:20241223T232619Z
LAST-MODIFIED:20241223T232619Z
UID:13984-1738173600-1738184400@southsoundblues.org
SUMMARY:Billy Shew and Friends host an open Jam every Wednesday at Stockton’s
DESCRIPTION:Billy Shew and Friends host an open Jam every Wednesday at Stockton’s\, 6-9pm
URL:https://southsoundblues.org/event/billy-shew-and-friends-host-an-open-jam-every-wednesday-at-stocktons-27/
LOCATION:Stockton’s Restaurant & Spirits\, 23220 Maple Valley Black Diamond Rd SE\, Maple Valley\, WA\, 98038
CATEGORIES:Local South Sound Blues
END:VEVENT
BEGIN:VEVENT
DTSTART;TZID=America/Los_Angeles:20250130T190000
DTEND;TZID=America/Los_Angeles:20250130T220000
DTSTAMP:20260423T233602
CREATED:20241228T064609Z
LAST-MODIFIED:20241228T064609Z
UID:14005-1738263600-1738274400@southsoundblues.org
SUMMARY:“Billy the Pocket Jam” Thursday nights at Dawson’s
DESCRIPTION:“Billy the Pocket Jam” Thursday nights at Dawson’s\, 7-10 pm
URL:https://southsoundblues.org/event/billy-the-pocket-jam-thursday-nights-at-dawsons-2/
LOCATION:Dawson’s Bar & Grill\, 5443 South Tacoma Way\, Tacoma\, WA\, 98409
CATEGORIES:Local South Sound Blues
END:VEVENT
BEGIN:VEVENT
DTSTART;TZID=America/Los_Angeles:20250201T200000
DTEND;TZID=America/Los_Angeles:20250201T223000
DTSTAMP:20260423T233602
CREATED:20241213T211809Z
LAST-MODIFIED:20241213T211809Z
UID:13942-1738440000-1738449000@southsoundblues.org
SUMMARY:Heather Jones & the Groove Masters at Stockton's
DESCRIPTION:Heather Jones & the Groove Masters at Stockton’s February 1st\, 8pm
URL:https://southsoundblues.org/event/heather-jones-the-groove-masters-at-stocktons-4/
LOCATION:Stockton’s Restaurant & Spirits\, 23220 Maple Valley Black Diamond Rd SE\, Maple Valley\, WA\, 98038
CATEGORIES:Local South Sound Blues
END:VEVENT
BEGIN:VEVENT
DTSTART;TZID=America/Los_Angeles:20250202T190000
DTEND;TZID=America/Los_Angeles:20250202T220000
DTSTAMP:20260423T233602
CREATED:20250130T225453Z
LAST-MODIFIED:20250131T215805Z
UID:14263-1738522800-1738533600@southsoundblues.org
SUMMARY:Sunday Blues at the Spar with the T-Town Aces
DESCRIPTION:Sun\, February 2nd – Sunday Blues at the Spar with the T-Town Aces\, 7-10 pm\n \n 
URL:https://southsoundblues.org/event/sunday-blues-at-the-spar-with-billy-stapletons-powerhouse-band-2/
LOCATION:The Spar\, 2121 N 30th St\, Tacoma\, WA\, 98403
CATEGORIES:Local South Sound Blues
END:VEVENT
BEGIN:VEVENT
DTSTART;TZID=America/Los_Angeles:20250202T190000
DTEND;TZID=America/Los_Angeles:20250202T230000
DTSTAMP:20260423T233602
CREATED:20241224T000542Z
LAST-MODIFIED:20241224T000542Z
UID:13990-1738522800-1738537200@southsoundblues.org
SUMMARY:Billy Shew Blues Jam\, every Sunday at Dawson’s
DESCRIPTION:Billy Shew Blues Jam\, every Sunday at Dawson’s\, 7-11 pm
URL:https://southsoundblues.org/event/billy-shew-blues-jam-every-sunday-at-dawsons-32/
LOCATION:Dawson’s Bar & Grill\, 5443 South Tacoma Way\, Tacoma\, WA\, 98409
CATEGORIES:Local South Sound Blues
END:VEVENT
BEGIN:VEVENT
DTSTART;TZID=America/Los_Angeles:20250204T190000
DTEND;TZID=America/Los_Angeles:20250204T220000
DTSTAMP:20260423T233602
CREATED:20241228T084607Z
LAST-MODIFIED:20241228T084607Z
UID:14046-1738695600-1738706400@southsoundblues.org
SUMMARY:Jam every Tuesday at Brother Don’s Bar & Grill with the Tim Hall band
DESCRIPTION:Jam every Tuesday at Brother Don’s Bar & Grill with the Tim Hall band\, 7-10 pm.
URL:https://southsoundblues.org/event/jam-every-tuesday-at-brother-dons-bar-grill-with-the-tim-hall-band-10/
LOCATION:Brother Don’s Bar & Grill\, 4200 Kitsap Way\, Bremerton\, WA\, 98312
CATEGORIES:Local South Sound Blues
END:VEVENT
BEGIN:VEVENT
DTSTART;TZID=America/Los_Angeles:20250206T200000
DTEND;TZID=America/Los_Angeles:20250206T230000
DTSTAMP:20260423T233602
CREATED:20241228T220144Z
LAST-MODIFIED:20241228T220241Z
UID:14072-1738872000-1738882800@southsoundblues.org
SUMMARY:Jeff Herzog & the Jet City Flyers at the Salmon Bay Eagles
DESCRIPTION:Jeff Herzog & the Jet City Flyers at the Salmon Bay Eagles February 6th\, 8-11 pm\n\n\nSalmon Bay Eagles\, 5216 20th Avenue Northwest\, Seattle\, WA 98107 \n\n\n\n\n\nJeff is a multiple award-winning artist; he performs witty originals and well-chosen cover songs. He decorates his stage with care and entertains his audiences as a true showman. For Jeff it is all about the song and getting inside the song to bring it out with a flourish of color. Bring your dancing shoes and be ready to use them.
URL:https://southsoundblues.org/event/jeff-herzog-the-jet-city-flyers-at-the-salmon-bay-eagles/
LOCATION:Salmon Bay Eagles\, 5216 20th Ave NW\, Seattle\, WA\, 98107
CATEGORIES:Local South Sound Blues
END:VEVENT
BEGIN:VEVENT
DTSTART;TZID=America/Los_Angeles:20250206T200000
DTEND;TZID=America/Los_Angeles:20250206T230000
DTSTAMP:20260423T233602
CREATED:20250113T234341Z
LAST-MODIFIED:20250113T234341Z
UID:14161-1738872000-1738882800@southsoundblues.org
SUMMARY:Thursdays\, Steve Itterly & Guests at the Snapdragon
DESCRIPTION:Thursdays\, Steve Itterly & Guests at the Snapdragon\, 8-11 pm
URL:https://southsoundblues.org/event/thursdays-steve-itterly-guests-at-the-snapdragon-3/
LOCATION:Snapdragon\, 17817 Vashon Hwy\, Vashon\, WA\, 98070
CATEGORIES:Local South Sound Blues
END:VEVENT
BEGIN:VEVENT
DTSTART;TZID=America/Los_Angeles:20250207T190000
DTEND;TZID=America/Los_Angeles:20250207T210000
DTSTAMP:20260423T233602
CREATED:20241228T075924Z
LAST-MODIFIED:20241228T075924Z
UID:14033-1738954800-1738962000@southsoundblues.org
SUMMARY:John Stephan Band at Kimball Coffeehouse
DESCRIPTION:John Stephan Band @ Kimball Coffeehouse February 7th\, 7-9 pm\n\n 
URL:https://southsoundblues.org/event/john-stephan-band-at-kimball-coffeehouse/
LOCATION:Kimball’s Coffeehouse\, 6659 Kimball Dr\, Gig Harbor\, WA\, 98335
CATEGORIES:Local South Sound Blues
END:VEVENT
BEGIN:VEVENT
DTSTART;TZID=America/Los_Angeles:20250209T190000
DTEND;TZID=America/Los_Angeles:20250209T220000
DTSTAMP:20260423T233602
CREATED:20241228T070031Z
LAST-MODIFIED:20250130T225812Z
UID:14015-1739127600-1739138400@southsoundblues.org
SUMMARY:Sunday blues at the Spar with the Tim Turner Band
DESCRIPTION:Sunday blues at the Spar\, 7-10 pm Sun\, Feb 9th – Tim Turner Band
URL:https://southsoundblues.org/event/sunday-blues-at-the-spar-12/
LOCATION:The Spar\, 2121 N 30th St\, Tacoma\, WA\, 98403
CATEGORIES:Local South Sound Blues
END:VEVENT
BEGIN:VEVENT
DTSTART;TZID=America/Los_Angeles:20250209T190000
DTEND;TZID=America/Los_Angeles:20250209T230000
DTSTAMP:20260423T233602
CREATED:20241228T225812Z
LAST-MODIFIED:20241228T225812Z
UID:14096-1739127600-1739142000@southsoundblues.org
SUMMARY:Billy Shew Blues Jam\, every Sunday at Dawson’s
DESCRIPTION:Billy Shew Blues Jam\, every Sunday at Dawson’s\, 7-11 pm
URL:https://southsoundblues.org/event/billy-shew-blues-jam-every-sunday-at-dawsons-34/
LOCATION:Dawson’s Bar & Grill\, 5443 South Tacoma Way\, Tacoma\, WA\, 98409
CATEGORIES:Local South Sound Blues
END:VEVENT
BEGIN:VEVENT
DTSTART;TZID=America/Los_Angeles:20250210T200000
DTEND;TZID=America/Los_Angeles:20250210T220000
DTSTAMP:20260423T233602
CREATED:20241224T001310Z
LAST-MODIFIED:20241224T001310Z
UID:13996-1739217600-1739224800@southsoundblues.org
SUMMARY:Mike Witmer hosts “Mojo Mike’s Blues Revue” every Monday on KVSH 101.9 FM
DESCRIPTION:Mike Witmer hosts “Mojo Mike’s Blues Revue” every Monday on KVSH 101.9 FM 8-10 pm
URL:https://southsoundblues.org/event/mike-witmer-hosts-mojo-mikes-blues-revue-every-monday-on-kvsh-101-9-fm-30/
LOCATION:KVSH\, 17643 Vashon Hwy SW\, Vashon Island\, WA\, 98070
CATEGORIES:Local South Sound Blues
END:VEVENT
BEGIN:VEVENT
DTSTART;TZID=America/Los_Angeles:20250212T190000
DTEND;TZID=America/Los_Angeles:20250212T220000
DTSTAMP:20260423T233602
CREATED:20250113T223156Z
LAST-MODIFIED:20250113T223156Z
UID:14142-1739386800-1739397600@southsoundblues.org
SUMMARY:Wednesdays Blues “Jam Night” with Brian Olver and Glenn Hummel at Purdy’s\, Sumner
DESCRIPTION:Wednesdays Blues “Jam Night” with Brian Olver and Glenn Hummel at Purdy’s\, Sumner\, WA. 7-10 pm
URL:https://southsoundblues.org/event/wednesdays-blues-jam-night-with-brian-olver-and-glenn-hummel-at-purdys-sumner-20/
LOCATION:Purdy’s Public House & Arcade\, Sumner\, 16202 64th St E\, Sumner\, WA\, 98390
CATEGORIES:Local South Sound Blues
END:VEVENT
BEGIN:VEVENT
DTSTART;TZID=America/Los_Angeles:20250213T200000
DTEND;TZID=America/Los_Angeles:20250213T230000
DTSTAMP:20260423T233602
CREATED:20241228T210230Z
LAST-MODIFIED:20241228T210258Z
UID:14062-1739476800-1739487600@southsoundblues.org
SUMMARY:Thursdays\, Steve Itterly & Guests at the Snapdragon\, Vashon
DESCRIPTION:Thursdays\, Steve Itterly & Guests at the Snapdragon\, 8-11 pm\n\n\n\n\n\n\nSnapdragon\, 17817 Vashon Hwy SW\, Vashon\, WA 98070
URL:https://southsoundblues.org/event/thursdays-steve-itterly-guests-at-the-snapdragon-vashon/
LOCATION:Snapdragon\, 17817 Vashon Hwy\, Vashon\, WA\, 98070
CATEGORIES:Local South Sound Blues
END:VEVENT
BEGIN:VEVENT
DTSTART;TZID=America/Los_Angeles:20250213T200000
DTEND;TZID=America/Los_Angeles:20250213T230000
DTSTAMP:20260423T233602
CREATED:20241228T220602Z
LAST-MODIFIED:20241228T220731Z
UID:14076-1739476800-1739487600@southsoundblues.org
SUMMARY:Polly O'Keary & the Rhythm Method at the Salmon Bay Eagles
DESCRIPTION:Polly O’Keary & the Rhythm Method at the Salmon Bay Eagles \n\nThu February 13th  8:00- 11:00pm\nPolly O’Keary is today’s blues Woman\, rooted in tradition\, but informed by the 21st Century. Pulling in influences from zydeco\, country\, funk\, jazz\, rockabilly\, surf and rock and roll\, she and her trio\, Polly O’Keary and the Rhythm Method\, bring a searing and joyful performance of today’s blues to audiences across the U.S. and Canada. Polly O’Keary and the Rhythm Method is a trio she built with her husband Tommy Cook\, a three-time winner of WBS Drummer award and David Miller from California\, who one reviewer described his “jaw-dropping guitar licks”.\n\n\nSalmon Bay Eagles\, 5216 20th Avenue Northwest\, Seattle\, WA 98107
URL:https://southsoundblues.org/event/polly-okeary-the-rhythm-method-at-the-salmon-bay-eagles/
LOCATION:Salmon Bay Eagles\, 5216 20th Ave NW\, Seattle\, WA\, 98107
CATEGORIES:Local South Sound Blues
END:VEVENT
BEGIN:VEVENT
DTSTART;TZID=America/Los_Angeles:20250214T190000
DTEND;TZID=America/Los_Angeles:20250214T210000
DTSTAMP:20260423T233602
CREATED:20250124T214224Z
LAST-MODIFIED:20250124T214224Z
UID:14205-1739559600-1739566800@southsoundblues.org
SUMMARY:Billy Stapleton’s Powerhouse Band at the Kimball Coffeehouse
DESCRIPTION:February 14th\, Billy Stapleton’s Powerhouse Band at the Kimball Coffeehouse\, 7-9 pm\n\n\n 6659 Kimball Drive\, Suite A102\, Gig Harbor\, W
URL:https://southsoundblues.org/event/billy-stapletons-powerhouse-band-at-the-kimball-coffeehouse-2/
LOCATION:Kimball’s Coffeehouse\, 6659 Kimball Dr\, Gig Harbor\, WA\, 98335
CATEGORIES:Local South Sound Blues
END:VEVENT
BEGIN:VEVENT
DTSTART;TZID=America/Los_Angeles:20250215T190000
DTEND;TZID=America/Los_Angeles:20250215T210000
DTSTAMP:20260423T233602
CREATED:20250108T212019Z
LAST-MODIFIED:20250108T212019Z
UID:14132-1739646000-1739653200@southsoundblues.org
SUMMARY:Maia Santell and House Blend at The Mill in Milton
DESCRIPTION:Maia Santell and House Blend on the Mill Town stage at The Mill in Milton\, February 15th\, 7 to 9PM.
URL:https://southsoundblues.org/event/maia-santell-and-house-blend-at-the-mill-in-milton/
LOCATION:The Mill of Milton\, 900 Meridian E. #50\, Milton\, WA\, 98354
CATEGORIES:Local South Sound Blues
END:VEVENT
BEGIN:VEVENT
DTSTART;TZID=America/Los_Angeles:20250215T200000
DTEND;TZID=America/Los_Angeles:20250215T220000
DTSTAMP:20260423T233602
CREATED:20241228T225039Z
LAST-MODIFIED:20241228T225039Z
UID:14092-1739649600-1739656800@southsoundblues.org
SUMMARY:Cory Wilds band at Stocktons
DESCRIPTION:Cory Wilds band at Stockton’s February 15th\, 8pm
URL:https://southsoundblues.org/event/cory-wilds-band-at-stocktons/
LOCATION:Stockton’s Restaurant & Spirits\, 23220 Maple Valley Black Diamond Rd SE\, Maple Valley\, WA\, 98038
CATEGORIES:Local South Sound Blues
END:VEVENT
BEGIN:VEVENT
DTSTART;TZID=America/Los_Angeles:20250215T200000
DTEND;TZID=America/Los_Angeles:20250215T230000
DTSTAMP:20260423T233602
CREATED:20250128T220502Z
LAST-MODIFIED:20250128T220502Z
UID:14239-1739649600-1739660400@southsoundblues.org
SUMMARY:Mark Hurwitz & Gin Creek at Rock the Dock
DESCRIPTION:Mark Hurwitz & Gin Creek at Rock the Dock Pub & Grill\, February 15th\, 8-11 pm\n\n\n\n\n\n\n\n\n\n\n\n\n\n\n\n\nRock the Dock\, down on the beautiful Foss Waterway in Tacoma.
URL:https://southsoundblues.org/event/mark-hurwitz-gin-creek-at-rock-the-dock-2/
LOCATION:Rock the Dock\, 535 Dock St # 118\, Tacoma\, WA\, 98402
CATEGORIES:Local South Sound Blues
END:VEVENT
BEGIN:VEVENT
DTSTART;TZID=America/Los_Angeles:20250215T200000
DTEND;TZID=America/Los_Angeles:20250215T233000
DTSTAMP:20260423T233602
CREATED:20241213T212335Z
LAST-MODIFIED:20241213T212335Z
UID:13944-1739649600-1739662200@southsoundblues.org
SUMMARY:Heather Jones & the Groove Masters at the Roundup
DESCRIPTION:Heather Jones & the Groove Masters at the Roundup February 15th\, 8pm\n \nHeather Jones & the Groove Masters at the Roundup \n30411 Mountain Hwy E\, Graham\, WA 98338
URL:https://southsoundblues.org/event/heather-jones-the-groove-masters-at-the-roundup/
LOCATION:Roundup\, 30411 Mountain Hwy E\, Graham\, WA\, 98338
CATEGORIES:Local South Sound Blues
END:VEVENT
BEGIN:VEVENT
DTSTART;TZID=America/Los_Angeles:20250216T170000
DTEND;TZID=America/Los_Angeles:20250216T183000
DTSTAMP:20260423T233602
CREATED:20250130T232742Z
LAST-MODIFIED:20250130T232742Z
UID:14279-1739725200-1739730600@southsoundblues.org
SUMMARY:Blues Vespers at Kilworth Memorial Chapel with the Annie Eastwood All Stars
DESCRIPTION:Feb 16th Blues Vespers with Dave Brown at the Kilworth Memorial Chapel\, University Puget Sound\, Annie Eastwood All Stars\, 5pm-6:30pm
URL:https://southsoundblues.org/event/blues-vespers-at-kilworth-memorial-chapel-with-the-annie-eastwood-all-stars/
LOCATION:Kilworth Memorial Chapel\, 3410 N 18th St\, Tacoma\, WA\, 98416
CATEGORIES:Local South Sound Blues
END:VEVENT
END:VCALENDAR