BEGIN:VCALENDAR
VERSION:2.0
PRODID:-//South Sound Blues Association - ECPv6.15.18//NONSGML v1.0//EN
CALSCALE:GREGORIAN
METHOD:PUBLISH
X-WR-CALNAME:South Sound Blues Association
X-ORIGINAL-URL:https://southsoundblues.org
X-WR-CALDESC:Events for South Sound Blues Association
REFRESH-INTERVAL;VALUE=DURATION:PT1H
X-Robots-Tag:noindex
X-PUBLISHED-TTL:PT1H
BEGIN:VTIMEZONE
TZID:America/Los_Angeles
BEGIN:DAYLIGHT
TZOFFSETFROM:-0800
TZOFFSETTO:-0700
TZNAME:PDT
DTSTART:20250309T100000
END:DAYLIGHT
BEGIN:STANDARD
TZOFFSETFROM:-0700
TZOFFSETTO:-0800
TZNAME:PST
DTSTART:20251102T090000
END:STANDARD
BEGIN:DAYLIGHT
TZOFFSETFROM:-0800
TZOFFSETTO:-0700
TZNAME:PDT
DTSTART:20260308T100000
END:DAYLIGHT
BEGIN:STANDARD
TZOFFSETFROM:-0700
TZOFFSETTO:-0800
TZNAME:PST
DTSTART:20261101T090000
END:STANDARD
BEGIN:DAYLIGHT
TZOFFSETFROM:-0800
TZOFFSETTO:-0700
TZNAME:PDT
DTSTART:20270314T100000
END:DAYLIGHT
BEGIN:STANDARD
TZOFFSETFROM:-0700
TZOFFSETTO:-0800
TZNAME:PST
DTSTART:20271107T090000
END:STANDARD
END:VTIMEZONE
BEGIN:VEVENT
DTSTART;TZID=America/Los_Angeles:20260522T200000
DTEND;TZID=America/Los_Angeles:20260522T223000
DTSTAMP:20260423T013012
CREATED:20260417T192106Z
LAST-MODIFIED:20260417T192426Z
UID:17545-1779480000-1779489000@southsoundblues.org
SUMMARY:Mcmenamins Presents: One Way Out (Allman Brothers tribute) at the Spanish Ballroom\, Also- Rafael Tranquilino\, Tacoma
DESCRIPTION:One Way Out (Allman Brothers tribute) Friday May 22nd 8pm at the Mcmenamins Spanish Ballroom in Tacoma. Doors- 7pm\nhttps://www.etix.com/ticket/p/94427063/one-way-out-allman-brother-tribute-tacoma-mcmenamins-spanish-ballroom-elks-temple\nOne Way Out PDX is the Portland\, OR based 8-member powerhouse tribute to the music of the great Allman Brothers Band. One way Out is taking the Northwest by storm with their high energy and inspired live performances of the music of one of the best live rock bands of all time. Everyone One Way Out show is a different experience\, with the repertoire representing the long history of this great band.\nWebsite: https://onewayoutpdx.com/\nRafael Tranquilino was Awarded “2023 Best Electric Blues Guitar” – He gained popularity in the U.S. playing guitar and as acting musical director for the Randy Oxford Band (2007 – 2011) before branching out and forming the Rafael Tranquilino Band in 2011. Additionally\, during this time\, Rafael became a skilled music producer\, with past and ongoing projects in the works. In the year of 2020\, Rafael decided to use his production skills and started his career as a Music Producer and adding his own special touch to any music genre that comes his way\, including his own.  “The music I play is to rock your heart & soul- to expand your awareness.” – Rafael Tranquilino
URL:https://southsoundblues.org/event/mcmenamins-presents-one-way-out-allman-brothers-tribute-at-the-spanish-ballroom-also-rafael-tranquilino-tacoma/
LOCATION:McMenaminsTacoma Elks\, 565 Broadway\, Tacoma\, WA\, 98402
CATEGORIES:Featured,Local South Sound Blues
END:VEVENT
BEGIN:VEVENT
DTSTART;TZID=America/Los_Angeles:20260524T190000
DTEND;TZID=America/Los_Angeles:20260524T230000
DTSTAMP:20260423T013012
CREATED:20260211T013623Z
LAST-MODIFIED:20260211T013623Z
UID:17052-1779649200-1779663600@southsoundblues.org
SUMMARY:Billy Shew Jam at Dawsons every Sunday
DESCRIPTION:Billy Shew Jam at Dawsons every Sunday 7-11 pm
URL:https://southsoundblues.org/event/billy-shew-jam-at-dawsons-every-sunday-4/
LOCATION:Dawson’s Bar & Grill\, 5443 South Tacoma Way\, Tacoma\, WA\, 98409
CATEGORIES:Local South Sound Blues
END:VEVENT
BEGIN:VEVENT
DTSTART;TZID=America/Los_Angeles:20260526T190000
DTEND;TZID=America/Los_Angeles:20260526T210000
DTSTAMP:20260423T013012
CREATED:20251227T210353Z
LAST-MODIFIED:20260406T231721Z
UID:16637-1779822000-1779829200@southsoundblues.org
SUMMARY:Purdy's Tuesday Blues Showcase featuring Stevie & The Blue Flames\, Sumner
DESCRIPTION:Purdy’s Tuesday Blues Showcase featuring Stevie & The Blue Flames May 26th\, 7-9 pm at Purdy’s Public House & Arcade\n  Steve Bailey
URL:https://southsoundblues.org/event/purdys-tuesday-blues-showcase-featuring-stevie-the-blue-flames-sumner/
LOCATION:Purdy’s Public House & Arcade\, Sumner\, 16202 64th St E\, Sumner\, WA\, 98390
CATEGORIES:Local South Sound Blues
END:VEVENT
BEGIN:VEVENT
DTSTART;TZID=America/Los_Angeles:20260528T190000
DTEND;TZID=America/Los_Angeles:20260528T220000
DTSTAMP:20260423T013012
CREATED:20260306T012453Z
LAST-MODIFIED:20260306T012453Z
UID:17216-1779994800-1780005600@southsoundblues.org
SUMMARY:Thursday nights- Billy “The Pocket” Blues Jams at Dawsons
DESCRIPTION:Thursday nights- Billy “The Pocket” Blues Jams at Dawsons\, 7-10 pm
URL:https://southsoundblues.org/event/thursday-nights-billy-the-pocket-blues-jams-at-dawsons-22/
LOCATION:Dawson’s Bar & Grill\, 5443 South Tacoma Way\, Tacoma\, WA\, 98409
CATEGORIES:Local South Sound Blues
END:VEVENT
BEGIN:VEVENT
DTSTART;TZID=America/Los_Angeles:20260531T190000
DTEND;TZID=America/Los_Angeles:20260531T220000
DTSTAMP:20260423T013012
CREATED:20251117T020406Z
LAST-MODIFIED:20251117T020406Z
UID:16576-1780254000-1780264800@southsoundblues.org
SUMMARY:Sunday Blues at the Spar
DESCRIPTION:Sunday Blues at the Spar 7-10 pm
URL:https://southsoundblues.org/event/sunday-blues-at-the-spar-57/
LOCATION:The Spar\, 2121 N 30th St\, Tacoma\, WA\, 98403
CATEGORIES:Local South Sound Blues
END:VEVENT
BEGIN:VEVENT
DTSTART;TZID=America/Los_Angeles:20260601T200000
DTEND;TZID=America/Los_Angeles:20260601T220000
DTSTAMP:20260423T013012
CREATED:20260206T003349Z
LAST-MODIFIED:20260206T003349Z
UID:16957-1780344000-1780351200@southsoundblues.org
SUMMARY:Mike Witmer hosts “Mojo Mike’s Blues Revue” every Monday on KVSH 101.9 FM
DESCRIPTION:Mike Witmer hosts “Mojo Mike’s Blues Revue” every Monday on KVSH 101.9 FM\, 8-10 pm
URL:https://southsoundblues.org/event/mike-witmer-hosts-mojo-mikes-blues-revue-every-monday-on-kvsh-101-9-fm-52/
LOCATION:KVSH\, 17643 Vashon Hwy SW\, Vashon Island\, WA\, 98070
CATEGORIES:Local South Sound Blues
END:VEVENT
BEGIN:VEVENT
DTSTART;TZID=America/Los_Angeles:20260602T200000
DTEND;TZID=America/Los_Angeles:20260602T233000
DTSTAMP:20260423T013012
CREATED:20260325T231551Z
LAST-MODIFIED:20260325T231551Z
UID:17390-1780430400-1780443000@southsoundblues.org
SUMMARY:Cory Wilds Band Tuesday open Jam Night at Elmer’s Bar and Grill
DESCRIPTION:Cory Wilds Band Tuesday open Jam Night at Elmer’s Bar and Grill\, 8-11:30 pm
URL:https://southsoundblues.org/event/cory-wilds-band-tuesday-open-jam-night-at-elmers-bar-and-grill-49/
LOCATION:Elmer’s Bar & Grill\, 15027 Ambaum Blvd SW\, Burien\, WA\, 98166
CATEGORIES:Local South Sound Blues
END:VEVENT
BEGIN:VEVENT
DTSTART;TZID=America/Los_Angeles:20260604T190000
DTEND;TZID=America/Los_Angeles:20260604T213000
DTSTAMP:20260423T013012
CREATED:20260324T013906Z
LAST-MODIFIED:20260324T014009Z
UID:17361-1780599600-1780608600@southsoundblues.org
SUMMARY:BELL BOTTOM BLUES (Clapton Tribute) at the Blue Mouse\, Tacoma
DESCRIPTION:BELL BOTTOM BLUES (Clapton Tribute)\,LIVE AND UNPLUGGED in TACOMA!!! June 4th\, 7pm at The Blue Mouse
URL:https://southsoundblues.org/event/bell-bottom-blues-clapton-tribute-at-the-blue-mouse-tacoma/
LOCATION:Blue Mouse Theatre\, 2611 N Proctor\, Tacoma\, WA\, 98407
CATEGORIES:Local South Sound Blues
END:VEVENT
BEGIN:VEVENT
DTSTART;TZID=America/Los_Angeles:20260606T180000
DTEND;TZID=America/Los_Angeles:20260607T000000
DTSTAMP:20260423T013012
CREATED:20260211T011903Z
LAST-MODIFIED:20260211T011951Z
UID:17038-1780768800-1780790400@southsoundblues.org
SUMMARY:All Blues\, Every Saturday and Sunday night on KNKX 88.5 fm
DESCRIPTION:All Blues\, Every Saturday and Sunday night on KNKX 88.5 fm 6pm-Midnight\nFrom Tacoma/Seattle\, blues party; hosted by John Kessler. For a full six hours each evening\, John draws from the full spectrum of the blues in his award-winning shows and offers a unique look at blues recording history.  https://www.knkx.org/listening-options
URL:https://southsoundblues.org/event/all-blues-every-saturday-and-sunday-night-on-knkx-88-5-fm-5/
LOCATION:KNKX\, 930 Broadway Tacoma\, WA\, 98402\, Tacoma\, WA\, 98402
CATEGORIES:Local South Sound Blues
END:VEVENT
BEGIN:VEVENT
DTSTART;TZID=America/Los_Angeles:20260607T190000
DTEND;TZID=America/Los_Angeles:20260607T230000
DTSTAMP:20260423T013012
CREATED:20260115T023505Z
LAST-MODIFIED:20260115T023505Z
UID:16789-1780858800-1780873200@southsoundblues.org
SUMMARY:Billy Shew Blues Jam\, every Sunday at Dawson’s
DESCRIPTION:Billy Shew Blues Jam\, every Sunday at Dawson’s\, 7-11 pm
URL:https://southsoundblues.org/event/billy-shew-blues-jam-every-sunday-at-dawsons-55/
LOCATION:Dawson’s Bar & Grill\, 5443 South Tacoma Way\, Tacoma\, WA\, 98409
CATEGORIES:Local South Sound Blues
END:VEVENT
BEGIN:VEVENT
DTSTART;TZID=America/Los_Angeles:20260609T190000
DTEND;TZID=America/Los_Angeles:20260609T220000
DTSTAMP:20260423T013012
CREATED:20260325T232712Z
LAST-MODIFIED:20260325T232712Z
UID:17400-1781031600-1781042400@southsoundblues.org
SUMMARY:Jam every Tuesday at Brother Don’s Bar & Grill with the Tim Hall band
DESCRIPTION:Jam every Tuesday at Brother Don’s Bar & Grill with the Tim Hall band 7-10 pm
URL:https://southsoundblues.org/event/jam-every-tuesday-at-brother-dons-bar-grill-with-the-tim-hall-band-34/
LOCATION:Brother Don’s Bar & Grill\, 4200 Kitsap Way\, Bremerton\, WA\, 98312
CATEGORIES:Local South Sound Blues
END:VEVENT
BEGIN:VEVENT
DTSTART;TZID=America/Los_Angeles:20260611T190000
DTEND;TZID=America/Los_Angeles:20260611T220000
DTSTAMP:20260423T013012
CREATED:20260211T011112Z
LAST-MODIFIED:20260211T011112Z
UID:17032-1781204400-1781215200@southsoundblues.org
SUMMARY:Thursday nights- Billy “The Pocket” Blues Jams at Dawsons
DESCRIPTION:Thursday nights- Billy “The Pocket” Blues Jams at Dawsons\, 7-10 pm
URL:https://southsoundblues.org/event/thursday-nights-billy-the-pocket-blues-jams-at-dawsons-19/
LOCATION:Dawson’s Bar & Grill\, 5443 South Tacoma Way\, Tacoma\, WA\, 98409
CATEGORIES:Local South Sound Blues
END:VEVENT
BEGIN:VEVENT
DTSTART;TZID=America/Los_Angeles:20260615T200000
DTEND;TZID=America/Los_Angeles:20260615T220000
DTSTAMP:20260423T013012
CREATED:20260325T233716Z
LAST-MODIFIED:20260325T233716Z
UID:17412-1781553600-1781560800@southsoundblues.org
SUMMARY:Mike Witmer hosts “Mojo Mike’s Blues Revue” every Monday on KVSH 101.9 FM
DESCRIPTION:Mike Witmer hosts “Mojo Mike’s Blues Revue” every Monday on KVSH 101.9 FM\, 8-10 pm
URL:https://southsoundblues.org/event/mike-witmer-hosts-mojo-mikes-blues-revue-every-monday-on-kvsh-101-9-fm-57/
LOCATION:KVSH\, 17643 Vashon Hwy SW\, Vashon Island\, WA\, 98070
CATEGORIES:Local South Sound Blues
END:VEVENT
BEGIN:VEVENT
DTSTART;TZID=America/Los_Angeles:20260621T190000
DTEND;TZID=America/Los_Angeles:20260621T230000
DTSTAMP:20260423T013012
CREATED:20260211T013737Z
LAST-MODIFIED:20260211T013737Z
UID:17054-1782068400-1782082800@southsoundblues.org
SUMMARY:Billy Shew Jam at Dawsons every Sunday
DESCRIPTION:Billy Shew Jam at Dawsons every Sunday 7-11 pm
URL:https://southsoundblues.org/event/billy-shew-jam-at-dawsons-every-sunday-5/
LOCATION:Dawson’s Bar & Grill\, 5443 South Tacoma Way\, Tacoma\, WA\, 98409
CATEGORIES:Local South Sound Blues
END:VEVENT
BEGIN:VEVENT
DTSTART;TZID=America/Los_Angeles:20260623T190000
DTEND;TZID=America/Los_Angeles:20260623T220000
DTSTAMP:20260423T013012
CREATED:20260325T232835Z
LAST-MODIFIED:20260325T232946Z
UID:17402-1782241200-1782252000@southsoundblues.org
SUMMARY:Jam every Tuesday at Brother Don’s Bar & Grill with the Tim Hall band
DESCRIPTION:Jam every Tuesday at Brother Don’s Bar & Grill with the Tim Hall band 7-10 pm
URL:https://southsoundblues.org/event/jam-every-tuesday-at-brother-dons-bar-grill-with-the-tim-hall-band-35/
LOCATION:Brother Don’s Bar & Grill\, 4200 Kitsap Way\, Bremerton\, WA\, 98312
CATEGORIES:Local South Sound Blues
END:VEVENT
BEGIN:VEVENT
DTSTART;TZID=America/Los_Angeles:20260625T190000
DTEND;TZID=America/Los_Angeles:20260625T220000
DTSTAMP:20260423T013012
CREATED:20260306T012630Z
LAST-MODIFIED:20260306T012630Z
UID:17218-1782414000-1782424800@southsoundblues.org
SUMMARY:Thursday nights- Billy “The Pocket” Blues Jams at Dawsons
DESCRIPTION:Thursday nights- Billy “The Pocket” Blues Jams at Dawsons\, 7-10 pm
URL:https://southsoundblues.org/event/thursday-nights-billy-the-pocket-blues-jams-at-dawsons-23/
LOCATION:Dawson’s Bar & Grill\, 5443 South Tacoma Way\, Tacoma\, WA\, 98409
CATEGORIES:Local South Sound Blues
END:VEVENT
BEGIN:VEVENT
DTSTART;TZID=America/Los_Angeles:20260626T183000
DTEND;TZID=America/Los_Angeles:20260626T203000
DTSTAMP:20260423T013012
CREATED:20260312T050320Z
LAST-MODIFIED:20260312T050717Z
UID:17263-1782498600-1782505800@southsoundblues.org
SUMMARY:Michele D'Amour & the Love Dealers at Olalla Winery\, Olalla
DESCRIPTION:Michele D’Amour & the Love Dealers at Olalla Winery Friday\, June 26 – 6:30 to 8:30 p.m. \nTickets:   https://www.olallawines.com/wine-tasting
URL:https://southsoundblues.org/event/michele-damour-the-love-dealers-at-olalla-winery-olalla/
LOCATION:Olalla Vineyard & Winery\, 13176 Olalla Valley Rd SE\, Olalla\, WA\, 98359
CATEGORIES:Local South Sound Blues
END:VEVENT
BEGIN:VEVENT
DTSTART;TZID=America/Los_Angeles:20260628T170000
DTEND;TZID=America/Los_Angeles:20260628T183000
DTSTAMP:20260423T013012
CREATED:20260417T220940Z
LAST-MODIFIED:20260417T220940Z
UID:17566-1782666000-1782671400@southsoundblues.org
SUMMARY:Blues Vespers featuring CD Woodbury Trio and CD3 South Sound album release at Kilworth Memorial Chapel\, Tacoma
DESCRIPTION:Blues Vespers featuring CD Woodbury Trio and CD3 album release at Kilworth Memorial Chapel\, UPS\, June 28th\, 5-6:30 pm\n       \n  \nSunday June 28th will be both a South Sound album release party and a Blues Vespers event at Kilworth Chapel in Tacoma.
URL:https://southsoundblues.org/event/blues-vespers-featuring-cd-woodbury-trio-and-cd3-south-sound-album-release-at-kilworth-memorial-chapel-tacoma/
LOCATION:Kilworth Memorial Chapel\, 3410 N 18th St\, Tacoma\, WA\, 98416
CATEGORIES:Local South Sound Blues,Special Event
END:VEVENT
BEGIN:VEVENT
DTSTART;TZID=America/Los_Angeles:20260629T200000
DTEND;TZID=America/Los_Angeles:20260629T220000
DTSTAMP:20260423T013012
CREATED:20260206T004105Z
LAST-MODIFIED:20260206T004304Z
UID:16963-1782763200-1782770400@southsoundblues.org
SUMMARY:Mike Witmer hosts “Mojo Mike’s Blues Revue” every Monday on KVSH 101.9 FM
DESCRIPTION:Mike Witmer hosts “Mojo Mike’s Blues Revue” every Monday on KVSH 101.9 FM\, 8-10 pm
URL:https://southsoundblues.org/event/mike-witmer-hosts-mojo-mikes-blues-revue-every-monday-on-kvsh-101-9-fm-54/
LOCATION:KVSH\, 17643 Vashon Hwy SW\, Vashon Island\, WA\, 98070
CATEGORIES:Local South Sound Blues
END:VEVENT
BEGIN:VEVENT
DTSTART;TZID=America/Los_Angeles:20260702T190000
DTEND;TZID=America/Los_Angeles:20260702T220000
DTSTAMP:20260423T013012
CREATED:20260211T010417Z
LAST-MODIFIED:20260211T010417Z
UID:17023-1783018800-1783029600@southsoundblues.org
SUMMARY:Creole Soul Open Mic Jam Night Thursdays\, Des Moines
DESCRIPTION:Creole Soul Open Mic Jam Night Thursdays at 7 PM in Des Moines\, WA\, with host The Busby Band.\n\n\nRock the mic\, beat the skins\, and spank the plank—Full backline provided.\n22341 Marine View Drive South\, Des Moines\, Washington 98198\nSoulful singers\, melody minglers\, hand clappers\, toe tappers\, and finger snappers.
URL:https://southsoundblues.org/event/creole-soul-open-mic-jam-night-thursdays-des-moines-2/
LOCATION:Creole Soul\, 22341 Marine View Drive\, Des Moines\, WA\, 98198
CATEGORIES:Local South Sound Blues
END:VEVENT
BEGIN:VEVENT
DTSTART;TZID=America/Los_Angeles:20260709T190000
DTEND;TZID=America/Los_Angeles:20260709T220000
DTSTAMP:20260423T013012
CREATED:20260211T011239Z
LAST-MODIFIED:20260211T011545Z
UID:17034-1783623600-1783634400@southsoundblues.org
SUMMARY:Thursday nights- Billy “The Pocket” Blues Jams at Dawsons
DESCRIPTION:Thursday nights- Billy “The Pocket” Blues Jams at Dawsons\, 7-10 pm
URL:https://southsoundblues.org/event/thursday-nights-billy-the-pocket-blues-jams-at-dawsons-20/
LOCATION:Dawson’s Bar & Grill\, 5443 South Tacoma Way\, Tacoma\, WA\, 98409
CATEGORIES:Local South Sound Blues
END:VEVENT
BEGIN:VEVENT
DTSTART;TZID=America/Los_Angeles:20260711T180000
DTEND;TZID=America/Los_Angeles:20260712T000000
DTSTAMP:20260423T013012
CREATED:20260211T012112Z
LAST-MODIFIED:20260211T012158Z
UID:17040-1783792800-1783814400@southsoundblues.org
SUMMARY:All Blues\, Every Saturday and Sunday night on KNKX 88.5 fm
DESCRIPTION:All Blues\, Every Saturday and Sunday night on KNKX 88.5 fm 6pm-Midnight\nFrom Tacoma/Seattle\, blues party; hosted by John Kessler. For a full six hours each evening\, John draws from the full spectrum of the blues in his award-winning shows and offers a unique look at blues recording history.  https://www.knkx.org/listening-options
URL:https://southsoundblues.org/event/all-blues-every-saturday-and-sunday-night-on-knkx-88-5-fm-6/
LOCATION:KNKX\, 930 Broadway Tacoma\, WA\, 98402\, Tacoma\, WA\, 98402
CATEGORIES:Local South Sound Blues
END:VEVENT
BEGIN:VEVENT
DTSTART;TZID=America/Los_Angeles:20260712T190000
DTEND;TZID=America/Los_Angeles:20260712T230000
DTSTAMP:20260423T013012
CREATED:20260115T023646Z
LAST-MODIFIED:20260115T023646Z
UID:16791-1783882800-1783897200@southsoundblues.org
SUMMARY:Billy Shew Blues Jam\, every Sunday at Dawson’s
DESCRIPTION:Billy Shew Blues Jam\, every Sunday at Dawson’s\, 7-11 pm
URL:https://southsoundblues.org/event/billy-shew-blues-jam-every-sunday-at-dawsons-56/
LOCATION:Dawson’s Bar & Grill\, 5443 South Tacoma Way\, Tacoma\, WA\, 98409
CATEGORIES:Local South Sound Blues
END:VEVENT
BEGIN:VEVENT
DTSTART;TZID=America/Los_Angeles:20260718T200000
DTEND;TZID=America/Los_Angeles:20260718T223000
DTSTAMP:20260423T013012
CREATED:20260204T011541Z
LAST-MODIFIED:20260417T194138Z
UID:16915-1784404800-1784413800@southsoundblues.org
SUMMARY:Roy Rogers\, Rare solo performance\, at the Spanish Ballroom\, Tacoma
DESCRIPTION:Slide Guitarist Roy Rogers at the Spanish Ballroom on July 18th!\n7pm doors\, 8pm show- All ages welcome. Rare solo performance at spanishballroom.com! \n\n\nRoy Rogers has been considered one of the world’s preeminent master Delta slide guitarists with many decades of touring the globe. Over 20 recordings to his credit\, Rogers has garnered 8 Grammy nominations for producing\, as a recording artist\, and as a songwriter. His collaborations have garnered major media accolades worldwide for producing critically acclaimed Grammy nominated recordings for John Lee Hooker and Ramblin’ Jack Elliott\, as well as collaborations with Bonnie Raitt\, Carlos Santana\, Bela Fleck\, Allan Toussaint\, Sammy Hagar & Ray Manzarek among others. Known for his searing performances that have been named a festival favorites including New Orleans Jazz Fest\, North Sea Jazz Festival in Holland\, Montreux in Switzerland\, Pistoia in Italy\, + North American festivals in Canada & the United States\, with more than 4 decades of touring the world.  Rogers is planning a release of the new single videos from the new release  “The Sky’s The Limit” – his first recording in 10 years with product releases in January 2026.\n\n\n\nSlide Guitarist Roy Rogers – A Rare SOLO Performance \nhttps://www.etix.com/ticket/p/54337999/roy-rogers-tacoma-mcmenamins-spanish-ballroom-elks-temple \n\n\n\n\n\n\n\nTickets \n\n\n\n\n\n\n\n\n\n\nSlide Guitarist Roy Rogers – A Rare SOLO Performance\n\n \n  \n\n\n\n\n\nhttps://www.mcmenamins.com/events/275226-slide-guitarist-roy-rogers-a-rare-solo-performance
URL:https://southsoundblues.org/event/roy-rogers-at-the-spanish-ballroom-tacoma/
LOCATION:McMenaminsTacoma Elks\, 565 Broadway\, Tacoma\, WA\, 98402
CATEGORIES:Featured,Local South Sound Blues,Special Event
END:VEVENT
BEGIN:VEVENT
DTSTART;TZID=America/Los_Angeles:20260726T190000
DTEND;TZID=America/Los_Angeles:20260726T230000
DTSTAMP:20260423T013013
CREATED:20260211T013858Z
LAST-MODIFIED:20260211T013858Z
UID:17056-1785092400-1785106800@southsoundblues.org
SUMMARY:Billy Shew Jam at Dawsons every Sunday
DESCRIPTION:Billy Shew Jam at Dawsons every Sunday 7-11 pm
URL:https://southsoundblues.org/event/billy-shew-jam-at-dawsons-every-sunday-6/
LOCATION:Dawson’s Bar & Grill\, 5443 South Tacoma Way\, Tacoma\, WA\, 98409
CATEGORIES:Local South Sound Blues
END:VEVENT
BEGIN:VEVENT
DTSTART;TZID=America/Los_Angeles:20260727T200000
DTEND;TZID=America/Los_Angeles:20260727T220000
DTSTAMP:20260423T013013
CREATED:20260325T233848Z
LAST-MODIFIED:20260325T233848Z
UID:17414-1785182400-1785189600@southsoundblues.org
SUMMARY:Mike Witmer hosts “Mojo Mike’s Blues Revue” every Monday on KVSH 101.9 FM
DESCRIPTION:Mike Witmer hosts “Mojo Mike’s Blues Revue” every Monday on KVSH 101.9 FM\, 8-10 pm
URL:https://southsoundblues.org/event/mike-witmer-hosts-mojo-mikes-blues-revue-every-monday-on-kvsh-101-9-fm-58/
LOCATION:KVSH\, 17643 Vashon Hwy SW\, Vashon Island\, WA\, 98070
CATEGORIES:Local South Sound Blues
END:VEVENT
BEGIN:VEVENT
DTSTART;TZID=America/Los_Angeles:20260803T200000
DTEND;TZID=America/Los_Angeles:20260803T220000
DTSTAMP:20260423T013013
CREATED:20260206T004440Z
LAST-MODIFIED:20260206T004440Z
UID:16966-1785787200-1785794400@southsoundblues.org
SUMMARY:Mike Witmer hosts “Mojo Mike’s Blues Revue” every Monday on KVSH 101.9 FM
DESCRIPTION:Mike Witmer hosts “Mojo Mike’s Blues Revue” every Monday on KVSH 101.9 FM\, 8-10 pm
URL:https://southsoundblues.org/event/mike-witmer-hosts-mojo-mikes-blues-revue-every-monday-on-kvsh-101-9-fm-55/
LOCATION:KVSH\, 17643 Vashon Hwy SW\, Vashon Island\, WA\, 98070
CATEGORIES:Local South Sound Blues
END:VEVENT
BEGIN:VEVENT
DTSTART;TZID=America/Los_Angeles:20260809T190000
DTEND;TZID=America/Los_Angeles:20260809T230000
DTSTAMP:20260423T013013
CREATED:20260211T014026Z
LAST-MODIFIED:20260211T014026Z
UID:17059-1786302000-1786316400@southsoundblues.org
SUMMARY:Billy Shew Jam at Dawsons every Sunday
DESCRIPTION:Billy Shew Jam at Dawsons every Sunday 7-11 pm
URL:https://southsoundblues.org/event/billy-shew-jam-at-dawsons-every-sunday-7/
LOCATION:Dawson’s Bar & Grill\, 5443 South Tacoma Way\, Tacoma\, WA\, 98409
CATEGORIES:Local South Sound Blues
END:VEVENT
BEGIN:VEVENT
DTSTART;VALUE=DATE:20260814
DTEND;VALUE=DATE:20260818
DTSTAMP:20260423T013013
CREATED:20250825T201717Z
LAST-MODIFIED:20260115T024435Z
UID:15813-1786672800-1786931999@southsoundblues.org
SUMMARY:Downtown Tacoma Blues & Jazz Festival
DESCRIPTION:Downtown Tacoma Blues & Jazz Festival\, 8/23/2026\n \nOn Broadway between 11th St. & 13th St. \nLTDPresentslive.com
URL:https://southsoundblues.org/event/downtown-tacoma-blues-jazz-festival/
LOCATION:Tacoma Blues & Jazz fest loacation\, 1114 Broadway\, Tacoma\, WA\, 98402
CATEGORIES:Featured,Local South Sound Blues,Special Event
END:VEVENT
BEGIN:VEVENT
DTSTART;TZID=America/Los_Angeles:20260829T110000
DTEND;TZID=America/Los_Angeles:20260829T180000
DTSTAMP:20260423T013013
CREATED:20260321T215245Z
LAST-MODIFIED:20260321T221415Z
UID:17326-1788001200-1788026400@southsoundblues.org
SUMMARY:'NudeStock'\, featuring The Spin-Offs\, at the Tiger Mountain Nudist Park\, Issaquah
DESCRIPTION:The Spin-Offs at NudeStock August 29th at the Tiger Mountain Nudist Park\, Issaquah\n \nSaturday\, August 29th\, 11am – 6pm \n\nNudestock is held every year the weekend before Labor Day weekend!      https://tigermtnudists.com/nudestock/\n\nPark Gate opens at 8am! \nOutdoor Stage – Awesome Local Bands Play from 11am to 6pm \nOnly pay the regular one-day Membership Fee of $25 for access! \n \nLine-up \n\nKimball & The Fugitives\nJeff & The Jet City Fliers\nMod Men\nThe Spin-offs\nMcPage & Powell Band\n\nBBQ at 6pm \n\nBurgers\, Dogs\, Chicken\, and all the Fixin’s\nSuggested donation of $15 is appreciated!
URL:https://southsoundblues.org/event/the-spin-offs-at-nudestock-at-the-tiger-mountain-nudist-park-issaquah/
LOCATION:Tiger Mountain Nudist Park\, 24050 SE 127th Street\, Issaquah\, WA
CATEGORIES:Festival,Local South Sound Blues
END:VEVENT
END:VCALENDAR