BEGIN:VCALENDAR
VERSION:2.0
PRODID:-//South Sound Blues Association - ECPv6.15.18//NONSGML v1.0//EN
CALSCALE:GREGORIAN
METHOD:PUBLISH
X-ORIGINAL-URL:https://southsoundblues.org
X-WR-CALDESC:Events for South Sound Blues Association
REFRESH-INTERVAL;VALUE=DURATION:PT1H
X-Robots-Tag:noindex
X-PUBLISHED-TTL:PT1H
BEGIN:VTIMEZONE
TZID:America/Los_Angeles
BEGIN:DAYLIGHT
TZOFFSETFROM:-0800
TZOFFSETTO:-0700
TZNAME:PDT
DTSTART:20220313T100000
END:DAYLIGHT
BEGIN:STANDARD
TZOFFSETFROM:-0700
TZOFFSETTO:-0800
TZNAME:PST
DTSTART:20221106T090000
END:STANDARD
BEGIN:DAYLIGHT
TZOFFSETFROM:-0800
TZOFFSETTO:-0700
TZNAME:PDT
DTSTART:20230312T100000
END:DAYLIGHT
BEGIN:STANDARD
TZOFFSETFROM:-0700
TZOFFSETTO:-0800
TZNAME:PST
DTSTART:20231105T090000
END:STANDARD
BEGIN:DAYLIGHT
TZOFFSETFROM:-0800
TZOFFSETTO:-0700
TZNAME:PDT
DTSTART:20240310T100000
END:DAYLIGHT
BEGIN:STANDARD
TZOFFSETFROM:-0700
TZOFFSETTO:-0800
TZNAME:PST
DTSTART:20241103T090000
END:STANDARD
END:VTIMEZONE
BEGIN:VEVENT
DTSTART;TZID=America/Los_Angeles:20230211T160000
DTEND;TZID=America/Los_Angeles:20230211T190000
DTSTAMP:20260425T045333
CREATED:20230123T220145Z
LAST-MODIFIED:20230123T220145Z
UID:9670-1676131200-1676142000@southsoundblues.org
SUMMARY:T-Town Aces at the Urban Elk
DESCRIPTION:T-Town Aces at the Urban Elk\, Saturday February 11th at 4 pm
URL:https://southsoundblues.org/event/t-town-aces-at-the-urban-elk-3/
LOCATION:Urban Elk\, 2013 S Cedar St\, Tacoma\, WA\, 98405
CATEGORIES:Local South Sound Blues
END:VEVENT
BEGIN:VEVENT
DTSTART;TZID=America/Los_Angeles:20230211T190000
DTEND;TZID=America/Los_Angeles:20230211T190000
DTSTAMP:20260425T045333
CREATED:20230208T013642Z
LAST-MODIFIED:20230208T013642Z
UID:9861-1676142000-1676142000@southsoundblues.org
SUMMARY:Kim and Brian at the Lake City Pub
DESCRIPTION:Kim and Brian at the Lake City Pub\, Saturday\, February 11th\, 7:00pm\n\n\nLake City Pub \n9106 Veterans Drive Southwest Lakewood\, WA 98498 (253) 267-1309\n\n\n 
URL:https://southsoundblues.org/event/kim-and-brian-at-the-lake-city-pub/
LOCATION:Lake City Pub\, 9106 Veterans Dr\, Lakewood\, WA\, 98498
CATEGORIES:Local South Sound Blues
END:VEVENT
BEGIN:VEVENT
DTSTART;TZID=America/Los_Angeles:20230211T200000
DTEND;TZID=America/Los_Angeles:20230211T220000
DTSTAMP:20260425T045333
CREATED:20221102T212905Z
LAST-MODIFIED:20221103T162910Z
UID:9161-1676145600-1676152800@southsoundblues.org
SUMMARY:Michele D'Amour & The Love Dealers at the Mill SSBA Blues Series
DESCRIPTION:Michele D’Amour & The Love Dealers on the Milltown Stage\, February 11th\, 8-10 pm
URL:https://southsoundblues.org/event/michele-damour-the-love-dealers-at-the-mill/
LOCATION:The Mill of Milton\, 900 Meridian E. #50\, Milton\, WA\, 98354
CATEGORIES:Local South Sound Blues
END:VEVENT
BEGIN:VEVENT
DTSTART;TZID=America/Los_Angeles:20230211T200000
DTEND;TZID=America/Los_Angeles:20230211T230000
DTSTAMP:20260425T045333
CREATED:20230202T065925Z
LAST-MODIFIED:20230202T065925Z
UID:9785-1676145600-1676156400@southsoundblues.org
SUMMARY:Mark Hurwitz and Gin Creek at Rock the Dock
DESCRIPTION:Mark Hurwitz and Gin Creek at Rock the Dock\, February 11th\, 8-11 pm\n\nRock The Dock Pub & Grill
URL:https://southsoundblues.org/event/mark-hurwitz-and-gin-creek-at-rock-the-dock-12/
LOCATION:Rock the Dock\, 535 Dock St # 118\, Tacoma\, WA\, 98402
CATEGORIES:Local South Sound Blues
END:VEVENT
BEGIN:VEVENT
DTSTART;TZID=America/Los_Angeles:20230212T190000
DTEND;TZID=America/Los_Angeles:20230212T220000
DTSTAMP:20260425T045333
CREATED:20230118T060727Z
LAST-MODIFIED:20230118T063707Z
UID:9621-1676228400-1676239200@southsoundblues.org
SUMMARY:Sunday Blues at the Spar with Michele D'Amour & The Love Dealers (Special Valentine Edition)
DESCRIPTION:Sunday\, February 12th. The Spar\, Michele D’Amour & The Love Dealers (Special Valentine Edition) 7pm \n Michele D’Amour and the Love Dealers
URL:https://southsoundblues.org/event/michele-damour-the-love-dealers-special-valentine-edition-at-the-spar/
LOCATION:The Spar\, 2121 N 30th St\, Tacoma\, WA\, 98403
CATEGORIES:Local South Sound Blues
END:VEVENT
BEGIN:VEVENT
DTSTART;TZID=America/Los_Angeles:20230212T190000
DTEND;TZID=America/Los_Angeles:20230212T230000
DTSTAMP:20260425T045333
CREATED:20230127T205512Z
LAST-MODIFIED:20230127T205512Z
UID:9683-1676228400-1676242800@southsoundblues.org
SUMMARY:Tim Hall Blues Jam\, every Sunday at Dawson’s
DESCRIPTION:Tim Hall Blues Jam\, every Sunday at Dawson’s\n\n7:00 pm – 11:00 pm
URL:https://southsoundblues.org/event/tim-hall-blues-jam-every-sunday-at-dawsons-2/
LOCATION:Dawson’s Bar & Grill\, 5443 South Tacoma Way\, Tacoma\, WA\, 98409
CATEGORIES:Local South Sound Blues
END:VEVENT
BEGIN:VEVENT
DTSTART;TZID=America/Los_Angeles:20230214T173000
DTEND;TZID=America/Los_Angeles:20230214T193000
DTSTAMP:20260425T045333
CREATED:20230206T210231Z
LAST-MODIFIED:20230206T210231Z
UID:9849-1676395800-1676403000@southsoundblues.org
SUMMARY:Ross Robinson with Charlie Valentine at Lady of the Pub\, Tenino
DESCRIPTION:Ross Robinson with Charlie Valentine at Lady of the Pub\, February 14th\, 5:30-7:30 pm \nOffut Lake\, Tenino WA
URL:https://southsoundblues.org/event/ross-robinson-with-charlie-valentine-at-lady-of-the-pub-tenino/
LOCATION:Lady of the Lake Pub\, 4005 120th Ave SE\, Tenino\, WA\, 98589
CATEGORIES:Local South Sound Blues
END:VEVENT
BEGIN:VEVENT
DTSTART;TZID=America/Los_Angeles:20230214T180000
DTEND;TZID=America/Los_Angeles:20230214T180000
DTSTAMP:20260425T045333
CREATED:20230208T012610Z
LAST-MODIFIED:20230208T012610Z
UID:9855-1676397600-1676397600@southsoundblues.org
SUMMARY:Kim & Brian at Smokey Joe's Cigar Lounge/BJ's Bingo
DESCRIPTION:Kim and Brian at Smokey Joe’s Cigar Lounge/BJ’s Bingo\, Tuesday\, February 14th\, 6:00pm\n\n\n\n\n\n\n\n4411 Pacific Hwy E Fife\, WA 98424 (253) 922-0430\n\n\n 
URL:https://southsoundblues.org/event/kim-brian-at-smokey-joes-cigar-lounge-bjs-bingo/
LOCATION:Smokey Joe’s Cigar Lounge\, 4411 Pacific Hwy E\, Fife\, WA\, 98424
CATEGORIES:Local South Sound Blues
END:VEVENT
BEGIN:VEVENT
DTSTART;TZID=America/Los_Angeles:20230214T183000
DTEND;TZID=America/Los_Angeles:20230214T200000
DTSTAMP:20260425T045333
CREATED:20230202T203651Z
LAST-MODIFIED:20230202T203651Z
UID:9787-1676399400-1676404800@southsoundblues.org
SUMMARY:Michele D'Amour & The Love Dealers at Crossroads
DESCRIPTION:Feb. 14 -Michele D’Amour & The Love Dealers at Crossroads Market Stage\, 6:30 to 8 p.m.\, Bellevue\, WA
URL:https://southsoundblues.org/event/michele-damour-the-love-dealers-at-crossroads/
LOCATION:Crossroads Market Stage\, 15600 NE 8th St\, Bellevue\, WA\, 98008
CATEGORIES:Local South Sound Blues
END:VEVENT
BEGIN:VEVENT
DTSTART;TZID=America/Los_Angeles:20230214T200000
DTEND;TZID=America/Los_Angeles:20230214T233000
DTSTAMP:20260425T045333
CREATED:20230201T194451Z
LAST-MODIFIED:20230201T194451Z
UID:9700-1676404800-1676417400@southsoundblues.org
SUMMARY:Cory Wilds Band Tuesday open Jam Night at Elmer’s Bar and Grill
DESCRIPTION:Cory Wilds Band Tuesday open Jam Night at Elmer’s Bar and Grill\, 8-11:30 pm\n 
URL:https://southsoundblues.org/event/cory-wilds-band-tuesday-open-jam-night-at-elmers-bar-and-grill-2/
LOCATION:Elmer’s Bar & Grill\, 15027 Ambaum Blvd SW\, Burien\, WA\, 98166
CATEGORIES:Local South Sound Blues
END:VEVENT
BEGIN:VEVENT
DTSTART;TZID=America/Los_Angeles:20230215T190000
DTEND;TZID=America/Los_Angeles:20230215T190000
DTSTAMP:20260425T045333
CREATED:20230120T190955Z
LAST-MODIFIED:20230120T191527Z
UID:9660-1676487600-1676487600@southsoundblues.org
SUMMARY:Steve Itterly at the Mill
DESCRIPTION:Steve Itterly at the Mill\, Wednesday February 15th\, 7pm\n Steve Itterly
URL:https://southsoundblues.org/event/steve-itterly-at-the-mill/
LOCATION:The Mill of Milton\, 900 Meridian E. #50\, Milton\, WA\, 98354
CATEGORIES:Local South Sound Blues
END:VEVENT
BEGIN:VEVENT
DTSTART;TZID=America/Los_Angeles:20230217T190000
DTEND;TZID=America/Los_Angeles:20230217T210000
DTSTAMP:20260425T045333
CREATED:20230118T061507Z
LAST-MODIFIED:20230118T061507Z
UID:9629-1676660400-1676667600@southsoundblues.org
SUMMARY:Small Town Soul Band at the Black Angus\, Federal Way
DESCRIPTION:Friday\, February 17th at the Black Angus\, Federal Way: Small Town Soul Band 7pm
URL:https://southsoundblues.org/event/small-town-soul-band-at-the-black-angus-federal-way-2/
LOCATION:Black Angus\, Federal Way\, 2400 South 320th St.\, Federal Way\, WA\, 98003
CATEGORIES:Local South Sound Blues
END:VEVENT
BEGIN:VEVENT
DTSTART;TZID=America/Los_Angeles:20230217T200000
DTEND;TZID=America/Los_Angeles:20230217T200000
DTSTAMP:20260425T045333
CREATED:20230120T021825Z
LAST-MODIFIED:20230120T021955Z
UID:9654-1676664000-1676664000@southsoundblues.org
SUMMARY:Rafael Tranquilino at Jazzbones
DESCRIPTION:Rafael Tranquilino at Jazzbones February 17th\, 8pm\nWith Special Guests Tom Buenger\, James Redfern\, & Chris Carlson
URL:https://southsoundblues.org/event/rafael-tranquilino-at-jazzbones/
LOCATION:Jazzbones\, 2803 6th Ave\, Tacoma\, WA\, 98406
CATEGORIES:Local South Sound Blues
END:VEVENT
BEGIN:VEVENT
DTSTART;TZID=America/Los_Angeles:20230218T200000
DTEND;TZID=America/Los_Angeles:20230218T220000
DTSTAMP:20260425T045333
CREATED:20221130T001003Z
LAST-MODIFIED:20221215T195526Z
UID:9333-1676750400-1676757600@southsoundblues.org
SUMMARY:Joel Astley Band at the Mill SSBA Blues series
DESCRIPTION:Joel Astley Band at the Mill\, February 18th\, 8-10 pm\n \n 
URL:https://southsoundblues.org/event/joel-astley-band-at-the-mill/
LOCATION:The Mill of Milton\, 900 Meridian E. #50\, Milton\, WA\, 98354
CATEGORIES:Local South Sound Blues,SSBA Event
END:VEVENT
BEGIN:VEVENT
DTSTART;TZID=America/Los_Angeles:20230218T210000
DTEND;TZID=America/Los_Angeles:20230218T210000
DTSTAMP:20260425T045334
CREATED:20221221T022355Z
LAST-MODIFIED:20221221T022355Z
UID:9425-1676754000-1676754000@southsoundblues.org
SUMMARY:Randy Hansen (Jimi Hendrix Tribute) at Jazzbones
DESCRIPTION:Randy Hansen (Jimi Hendrix Tribute) February 18th\, 9:00 pm at Jazzbones\, Tacoma\, WA  Show: 9:00PM\nhttps://www.seetickets.us/event/Randy-Hansen-Jimi-Hendrix-Tribute/519192
URL:https://southsoundblues.org/event/randy-hansen-jimi-hendrix-tribute-at-jazzbones-3/
LOCATION:Jazzbones\, 2803 6th Ave\, Tacoma\, WA\, 98406
CATEGORIES:Local South Sound Blues
END:VEVENT
BEGIN:VEVENT
DTSTART;TZID=America/Los_Angeles:20230219T190000
DTEND;TZID=America/Los_Angeles:20230219T220000
DTSTAMP:20260425T045334
CREATED:20230118T061849Z
LAST-MODIFIED:20230118T063414Z
UID:9633-1676833200-1676844000@southsoundblues.org
SUMMARY:Sunday Blues at the Spar with the Chris Stevens Band
DESCRIPTION:Sunday\, Feb 19th at The Spar\, Chris Stevens Band 7pm
URL:https://southsoundblues.org/event/chris-stevens-band-at-the-spar-3/
LOCATION:The Spar\, 2121 N 30th St\, Tacoma\, WA\, 98403
CATEGORIES:Local South Sound Blues
END:VEVENT
BEGIN:VEVENT
DTSTART;TZID=America/Los_Angeles:20230221T190000
DTEND;TZID=America/Los_Angeles:20230221T220000
DTSTAMP:20260425T045334
CREATED:20230127T204405Z
LAST-MODIFIED:20230127T204405Z
UID:9678-1677006000-1677016800@southsoundblues.org
SUMMARY:Tim Hall Band Tuesday jam session at Brother Don’s Bar & Grill
DESCRIPTION:Tim Hall Band jam session at Brother Don’s Bar & Grill\n\nEvery Tuesday\, 7:00- 10:00pm\n\nBrother Don’s Bar & Grill\, 4200 Kitsap Lake Rd NW\, Bremerton\, WA 98312
URL:https://southsoundblues.org/event/tim-hall-band-tuesday-jam-session-at-brother-dons-bar-grill/
LOCATION:Brother Don’s Bar & Grill\, 4200 Kitsap Way\, Bremerton\, WA\, 98312
CATEGORIES:Local South Sound Blues
END:VEVENT
BEGIN:VEVENT
DTSTART;TZID=America/Los_Angeles:20230222T190000
DTEND;TZID=America/Los_Angeles:20230222T220000
DTSTAMP:20260425T045334
CREATED:20230201T221348Z
LAST-MODIFIED:20230201T221348Z
UID:9756-1677092400-1677103200@southsoundblues.org
SUMMARY:Every Wednesday\, open Jam at Purdy’s in Sumner with Brian Olver & friends
DESCRIPTION:Every Wednesday\, open Jam at Purdy’s in Sumner with Brian Olver & friends\, 7-10 pm\n Brian Oliver photo by Beth Peabody
URL:https://southsoundblues.org/event/every-wednesday-open-jam-at-purdys-in-sumner-with-brian-olver-friends/
LOCATION:Purdy’s Public House & Arcade\, Sumner\, 16202 64th St E\, Sumner\, WA\, 98390
CATEGORIES:Local South Sound Blues
END:VEVENT
BEGIN:VEVENT
DTSTART;TZID=America/Los_Angeles:20230223T190000
DTEND;TZID=America/Los_Angeles:20230223T220000
DTSTAMP:20260425T045334
CREATED:20230201T201430Z
LAST-MODIFIED:20230201T201430Z
UID:9721-1677178800-1677189600@southsoundblues.org
SUMMARY:“BILLY THE POCKET JAM” Thursday nights at Dawson’s
DESCRIPTION:“BILLY THE POCKET JAM” Thursday nights at Dawson’s 7-10 pm
URL:https://southsoundblues.org/event/billy-the-pocket-jam-thursday-nights-at-dawsons-12/
LOCATION:Dawson’s Bar & Grill\, 5443 South Tacoma Way\, Tacoma\, WA\, 98409
CATEGORIES:Local South Sound Blues
END:VEVENT
BEGIN:VEVENT
DTSTART;TZID=America/Los_Angeles:20230224T180000
DTEND;TZID=America/Los_Angeles:20230224T180000
DTSTAMP:20260425T045334
CREATED:20230208T013135Z
LAST-MODIFIED:20230208T013135Z
UID:9857-1677261600-1677261600@southsoundblues.org
SUMMARY:Kim and Brian at the A Street Pub\, Auburn
DESCRIPTION:Kim and Brian at the A Street Pub\, Friday\, February 24th. 6:00pm\n\n\n\n\n\nA Street Pub \n2402 A Street Southeast Auburn\, WA 98002 (253) 939-2761\n\n\n 
URL:https://southsoundblues.org/event/kim-and-brian-at-the-a-street-pub-auburn/
LOCATION:A Street Pub\, 2402 A Street Southeas\, Auburn\, WA\, 98002
CATEGORIES:Local South Sound Blues
END:VEVENT
BEGIN:VEVENT
DTSTART;TZID=America/Los_Angeles:20230224T190000
DTEND;TZID=America/Los_Angeles:20230224T210000
DTSTAMP:20260425T045334
CREATED:20221219T213551Z
LAST-MODIFIED:20221219T213551Z
UID:9391-1677265200-1677272400@southsoundblues.org
SUMMARY:Retro Gruve with Linda Carroll at Kimballs
DESCRIPTION:‘Retro Gruve’ at Kimballs\, Gig Harbor\, February 24th\, 7-9 pm
URL:https://southsoundblues.org/event/retro-gruve-with-linda-carroll-at-kimballs/
LOCATION:Kimball’s Coffeehouse\, 6659 Kimball Dr\, Gig Harbor\, WA\, 98335
CATEGORIES:Local South Sound Blues
END:VEVENT
BEGIN:VEVENT
DTSTART;TZID=America/Los_Angeles:20230224T190000
DTEND;TZID=America/Los_Angeles:20230224T220000
DTSTAMP:20260425T045334
CREATED:20230118T062603Z
LAST-MODIFIED:20230118T062603Z
UID:9637-1677265200-1677276000@southsoundblues.org
SUMMARY:Billy Stapleton's Powerhouse at the Black Angus\, Federal Way
DESCRIPTION:Friday\, February 24th at the Black Angus\, Federal Way: Billy Stapleton’s POWERHOUSE Band -7pm \n \n 
URL:https://southsoundblues.org/event/billy-stapletons-powerhouse-at-the-black-angus-federal-way-2/
LOCATION:Black Angus\, Federal Way\, 2400 South 320th St.\, Federal Way\, WA\, 98003
CATEGORIES:Local South Sound Blues
END:VEVENT
BEGIN:VEVENT
DTSTART;TZID=America/Los_Angeles:20230225T200000
DTEND;TZID=America/Los_Angeles:20230225T220000
DTSTAMP:20260425T045334
CREATED:20221130T001238Z
LAST-MODIFIED:20221130T001238Z
UID:9335-1677355200-1677362400@southsoundblues.org
SUMMARY:Stacy Jones Band at the Mill
DESCRIPTION:Stacy Jones Band at the Mill February 25th\, 8-10 pm
URL:https://southsoundblues.org/event/stacy-jones-band-at-the-mill/
LOCATION:The Mill of Milton\, 900 Meridian E. #50\, Milton\, WA\, 98354
CATEGORIES:Local South Sound Blues
END:VEVENT
BEGIN:VEVENT
DTSTART;TZID=America/Los_Angeles:20230225T200000
DTEND;TZID=America/Los_Angeles:20230225T230000
DTSTAMP:20260425T045334
CREATED:20230206T204129Z
LAST-MODIFIED:20230206T204129Z
UID:9845-1677355200-1677366000@southsoundblues.org
SUMMARY:Mark Hurwitz and Gin Creek at Slippery Pig Brewery
DESCRIPTION:Mark Hurwitz and Gin Creek at Slippery Pig Brewery\, FEBRUARY 25th\, 8 PM – 11 PM\n\nSlippery Pig Brewery
URL:https://southsoundblues.org/event/mark-hurwitz-and-gin-creek-at-slippery-pig-brewery/
LOCATION:Slippery Pig Brewery\, 18801 Front St NE\, Poulsbo\, WA\, 98370
CATEGORIES:Local South Sound Blues
END:VEVENT
BEGIN:VEVENT
DTSTART;TZID=America/Los_Angeles:20230226T190000
DTEND;TZID=America/Los_Angeles:20230226T220000
DTSTAMP:20260425T045334
CREATED:20221229T231014Z
LAST-MODIFIED:20230118T063251Z
UID:9514-1677438000-1677448800@southsoundblues.org
SUMMARY:Sunday Blues at the Spar with The Cory Wilds Band
DESCRIPTION:Sunday Blues at the Spar with The Cory Wilds Band\, February 26th\, 7pm
URL:https://southsoundblues.org/event/sunday-blues-at-the-spar-2/
LOCATION:The Spar\, 2121 N 30th St\, Tacoma\, WA\, 98403
CATEGORIES:Local South Sound Blues
END:VEVENT
BEGIN:VEVENT
DTSTART;TZID=America/Los_Angeles:20230228T190000
DTEND;TZID=America/Los_Angeles:20230228T210000
DTSTAMP:20260425T045334
CREATED:20230127T065847Z
LAST-MODIFIED:20230201T223541Z
UID:9672-1677610800-1677618000@southsoundblues.org
SUMMARY:SSBA "Tuesday Blues Showcase" at Purdy's with King Kom Beaux
DESCRIPTION:“Tuesday Blues” at Purdy’s with King Kom Beaux\, February 28th\, 7-9 pm\nSouth Sound Blues Association presents\, “Tuesday Blues” the last Tuesday of each month starting February 28th. \n \nPurdy’s Public House\, 16202 64th Street East\, Sumner\, WA\, Washington   Phone# 253-447-7178 \nEuropean cuisine with all fresh\, local ingredients. Including dishes from Germany and Ireland. Lots of parking and easy access from two exits off of 410
URL:https://southsoundblues.org/event/tuesday-blues-at-purdys-with-king-kom-beaux/
LOCATION:Purdy’s Public House & Arcade\, Sumner\, 16202 64th St E\, Sumner\, WA\, 98390
CATEGORIES:Featured,Local South Sound Blues,SSBA Event
END:VEVENT
BEGIN:VEVENT
DTSTART;TZID=America/Los_Angeles:20230301T190000
DTEND;TZID=America/Los_Angeles:20230301T220000
DTSTAMP:20260425T045334
CREATED:20230201T212728Z
LAST-MODIFIED:20230303T220058Z
UID:9742-1677697200-1677708000@southsoundblues.org
SUMMARY:Wednesdays Blues Jams with Brian Olver at Purdy's\, Sumner
DESCRIPTION:Wednesdays Blues Jams at Purdy’s\, 7-10 pm\, Brian Olver & Friends\n \n 
URL:https://southsoundblues.org/event/wednesdays-blues-jams-at-purdys-sumner/
LOCATION:Purdy’s Public House & Arcade\, Sumner\, 16202 64th St E\, Sumner\, WA\, 98390
CATEGORIES:Local South Sound Blues
END:VEVENT
BEGIN:VEVENT
DTSTART;TZID=America/Los_Angeles:20230302T190000
DTEND;TZID=America/Los_Angeles:20230302T220000
DTSTAMP:20260425T045334
CREATED:20230201T225212Z
LAST-MODIFIED:20230201T225212Z
UID:9767-1677783600-1677794400@southsoundblues.org
SUMMARY:Thursday’s Front Street Blues Revue at the Slippery Pig\, Poulsbo
DESCRIPTION:Thursday’s Front Street Blues Revue at the Slippery Pig\, Poulsbo\n\n 7:00 pm – 10:00 pm
URL:https://southsoundblues.org/event/thursdays-front-street-blues-revue-at-the-slippery-pig-poulsbo-7/
LOCATION:Slippery Pig Brewery\, 18801 Front St NE\, Poulsbo\, WA\, 98370
CATEGORIES:Local South Sound Blues
END:VEVENT
BEGIN:VEVENT
DTSTART;TZID=America/Los_Angeles:20230304T200000
DTEND;TZID=America/Los_Angeles:20230304T230000
DTSTAMP:20260425T045334
CREATED:20230209T014250Z
LAST-MODIFIED:20230209T014250Z
UID:9875-1677960000-1677970800@southsoundblues.org
SUMMARY:HiWay16 Rockin' Blues at The Cabin Tavern\, Shelton
DESCRIPTION:HiWay16 Rockin’ Blues at The Cabin Tavern March 4th\, 8-11 pm\n \n 
URL:https://southsoundblues.org/event/hiway16-rockin-blues-at-the-cabin-tavern-shelton/
LOCATION:The Cabin Tavern\, 1749 Olympic Hwy S\, Shelton\, WA\, 98584
CATEGORIES:Local South Sound Blues
END:VEVENT
BEGIN:VEVENT
DTSTART;TZID=America/Los_Angeles:20230304T200000
DTEND;TZID=America/Los_Angeles:20230304T233000
DTSTAMP:20260425T045334
CREATED:20230106T004653Z
LAST-MODIFIED:20230106T005734Z
UID:9570-1677960000-1677972600@southsoundblues.org
SUMMARY:The 'Filthy 5th' at Stockton’s
DESCRIPTION:March 4th The ‘Filthy Fifth’\, 8-Midnight at Stockton’s
URL:https://southsoundblues.org/event/filthy-fifth-at-stocktons-2/
LOCATION:Stockton’s Restaurant & Spirits\, 23220 Maple Valley Black Diamond Rd SE\, Maple Valley\, WA\, 98038
CATEGORIES:Local South Sound Blues
END:VEVENT
END:VCALENDAR