BEGIN:VCALENDAR
VERSION:2.0
PRODID:-//South Sound Blues Association - ECPv6.15.18//NONSGML v1.0//EN
CALSCALE:GREGORIAN
METHOD:PUBLISH
X-ORIGINAL-URL:https://southsoundblues.org
X-WR-CALDESC:Events for South Sound Blues Association
REFRESH-INTERVAL;VALUE=DURATION:PT1H
X-Robots-Tag:noindex
X-PUBLISHED-TTL:PT1H
BEGIN:VTIMEZONE
TZID:America/Los_Angeles
BEGIN:DAYLIGHT
TZOFFSETFROM:-0800
TZOFFSETTO:-0700
TZNAME:PDT
DTSTART:20250309T100000
END:DAYLIGHT
BEGIN:STANDARD
TZOFFSETFROM:-0700
TZOFFSETTO:-0800
TZNAME:PST
DTSTART:20251102T090000
END:STANDARD
BEGIN:DAYLIGHT
TZOFFSETFROM:-0800
TZOFFSETTO:-0700
TZNAME:PDT
DTSTART:20260308T100000
END:DAYLIGHT
BEGIN:STANDARD
TZOFFSETFROM:-0700
TZOFFSETTO:-0800
TZNAME:PST
DTSTART:20261101T090000
END:STANDARD
BEGIN:DAYLIGHT
TZOFFSETFROM:-0800
TZOFFSETTO:-0700
TZNAME:PDT
DTSTART:20270314T100000
END:DAYLIGHT
BEGIN:STANDARD
TZOFFSETFROM:-0700
TZOFFSETTO:-0800
TZNAME:PST
DTSTART:20271107T090000
END:STANDARD
END:VTIMEZONE
BEGIN:VEVENT
DTSTART;TZID=America/Los_Angeles:20260217T190000
DTEND;TZID=America/Los_Angeles:20260217T220000
DTSTAMP:20260423T013738
CREATED:20260123T210258Z
LAST-MODIFIED:20260123T210258Z
UID:16823-1771354800-1771365600@southsoundblues.org
SUMMARY:Billy Shew hosts the Burien Eagles Tuesday Night Jams
DESCRIPTION:Billy Shew hosts the Burien Eagles Tuesday Night Jams\,  7:00pm
URL:https://southsoundblues.org/event/billy-shew-hosts-the-burien-eagles-tuesday-night-jams-22/
LOCATION:Burien Eagles\, 920 SW 150th St\, Burien\, WA\, 98166
CATEGORIES:Local South Sound Blues
END:VEVENT
BEGIN:VEVENT
DTSTART;TZID=America/Los_Angeles:20260216T200000
DTEND;TZID=America/Los_Angeles:20260216T220000
DTSTAMP:20260423T013738
CREATED:20260123T205853Z
LAST-MODIFIED:20260123T205853Z
UID:16817-1771272000-1771279200@southsoundblues.org
SUMMARY:Mike Witmer hosts “Mojo Mike’s Blues Revue” every Monday on KVSH 101.9 FM
DESCRIPTION:Mike Witmer hosts “Mojo Mike’s Blues Revue” every Monday on KVSH 101.9 FM\, 8-10 pm
URL:https://southsoundblues.org/event/mike-witmer-hosts-mojo-mikes-blues-revue-every-monday-on-kvsh-101-9-fm-49/
LOCATION:KVSH\, 17643 Vashon Hwy SW\, Vashon Island\, WA\, 98070
CATEGORIES:Local South Sound Blues
END:VEVENT
BEGIN:VEVENT
DTSTART;TZID=America/Los_Angeles:20260215T190000
DTEND;TZID=America/Los_Angeles:20260215T230000
DTSTAMP:20260423T013738
CREATED:20260211T013132Z
LAST-MODIFIED:20260211T013132Z
UID:17046-1771182000-1771196400@southsoundblues.org
SUMMARY:Billy Shew Jam at Dawsons every Sunday
DESCRIPTION:Billy Shew Jam at Dawsons every Sunday 7-11 pm this jam features Doug Kearney
URL:https://southsoundblues.org/event/billy-shew-jam-at-dawsons-every-sunday/
LOCATION:Dawson’s Bar & Grill\, 5443 South Tacoma Way\, Tacoma\, WA\, 98409
CATEGORIES:Local South Sound Blues
END:VEVENT
BEGIN:VEVENT
DTSTART;TZID=America/Los_Angeles:20260215T190000
DTEND;TZID=America/Los_Angeles:20260215T220000
DTSTAMP:20260423T013738
CREATED:20251117T015136Z
LAST-MODIFIED:20260211T002509Z
UID:16560-1771182000-1771192800@southsoundblues.org
SUMMARY:Sunday Blues at the Spar with Dr Jop Funkin' Shop
DESCRIPTION:Sunday Blues at the Spar 7-10 pm with Dr Jop Funkin’ Shop
URL:https://southsoundblues.org/event/sunday-blues-at-the-spar-49/
LOCATION:The Spar\, 2121 N 30th St\, Tacoma\, WA\, 98403
CATEGORIES:Local South Sound Blues
END:VEVENT
BEGIN:VEVENT
DTSTART;TZID=America/Los_Angeles:20260215T170000
DTEND;TZID=America/Los_Angeles:20260215T183000
DTSTAMP:20260423T013738
CREATED:20260107T213141Z
LAST-MODIFIED:20260107T213141Z
UID:16720-1771174800-1771180200@southsoundblues.org
SUMMARY:Blues Vespers at The Kilworth Memorial Chapel featuring Ben Hunter & Joe Seamons
DESCRIPTION:Blues Vespers: a concert with a poem and something to think about. 5:00 Kilworth Chapel at the University of Puget Sound\, February 15th\, Ben Hunter & Joe Seamons
URL:https://southsoundblues.org/event/blues-vespers-at-the-kilworth-memorial-chapel-featuring-ben-hunter-joe-seamons/
LOCATION:Kilworth Memorial Chapel\, 3410 N 18th St\, Tacoma\, WA\, 98416
CATEGORIES:Local South Sound Blues
END:VEVENT
BEGIN:VEVENT
DTSTART;TZID=America/Los_Angeles:20260214T180000
DTEND;TZID=America/Los_Angeles:20260214T210000
DTSTAMP:20260423T013738
CREATED:20260127T020700Z
LAST-MODIFIED:20260127T020700Z
UID:16850-1771092000-1771102800@southsoundblues.org
SUMMARY:Cory Wilds Band at Club Galaxy at Muckleshoot Casino Resort\, Auburn
DESCRIPTION:Cory Wilds Band at Club Galaxy at Muckleshoot Casino Resort February 14th\, 6-9 pm\n\n\n\nClub Galaxy at Muckleshoot\nLocation: Muckleshoot Casino Resort\, 2402 Auburn Way S\, Auburn\, WA 98002
URL:https://southsoundblues.org/event/cory-wilds-band-at-club-galaxy-at-muckleshoot-casino-resort-auburn/
LOCATION:Muckleshoot Casino Resort\, 2402 Auburn Way S\, Auburn\, WA\, 98002
CATEGORIES:Local South Sound Blues
END:VEVENT
BEGIN:VEVENT
DTSTART;TZID=America/Los_Angeles:20260213T200000
DTEND;TZID=America/Los_Angeles:20260213T233000
DTSTAMP:20260423T013738
CREATED:20260202T223826Z
LAST-MODIFIED:20260202T223826Z
UID:16906-1771012800-1771025400@southsoundblues.org
SUMMARY:The Soulful 88's at Gabriela's\, Maple Valley
DESCRIPTION:The Soulful 88’s at Gabriela’s in Maple Valley February 13th 8-midnight\nwith Tom Boyle\, Scott A Rongey\, Les White\, Billy Spaulding
URL:https://southsoundblues.org/event/the-soulful-88s-at-gabrielas-maple-valley/
LOCATION:Gabriela’s Restaurant and Bar\, 23220 Maple Valley Black Diamond Rd Se #7\, Maple Valley\, WA\, 98038
CATEGORIES:Local South Sound Blues
END:VEVENT
BEGIN:VEVENT
DTSTART;TZID=America/Los_Angeles:20260213T193000
DTEND;TZID=America/Los_Angeles:20260213T223000
DTSTAMP:20260423T013738
CREATED:20260202T230325Z
LAST-MODIFIED:20260202T234701Z
UID:16908-1771011000-1771021800@southsoundblues.org
SUMMARY:Billy Stoops & The Dirt Angels at The Valley\, Tacoma (Stoops Birthday!)
DESCRIPTION:Billy Stoops & The Dirt Angels at The Valley\, February 13th\n(Celebrating Billy Stoops Birthday!) 7:30-10:30 pm\, $10. Door
URL:https://southsoundblues.org/event/billy-stoops-the-dirt-angels-at-the-valley-tacoma-stoops-birthday/
LOCATION:The Valley\, 1206 Puyallup Ave\, Tacoma\, WA\, 98421
CATEGORIES:Local South Sound Blues
END:VEVENT
BEGIN:VEVENT
DTSTART;TZID=America/Los_Angeles:20260213T190000
DTEND;TZID=America/Los_Angeles:20260213T210000
DTSTAMP:20260423T013738
CREATED:20251204T001318Z
LAST-MODIFIED:20251204T001510Z
UID:16594-1771009200-1771016400@southsoundblues.org
SUMMARY:Joel Astley Band at Kimball Coffeehouse\, Gig Harbor
DESCRIPTION:Joel Astley Band at Kimball Coffeehouse February 13th\, 7-9 pm\n \n 
URL:https://southsoundblues.org/event/joel-astley-band-at-kimball-coffeehouse-gig-harbor/
LOCATION:Kimball’s Coffeehouse\, 6659 Kimball Dr\, Gig Harbor\, WA\, 98335
CATEGORIES:Local South Sound Blues
END:VEVENT
BEGIN:VEVENT
DTSTART;TZID=America/Los_Angeles:20260212T200000
DTEND;TZID=America/Los_Angeles:20260212T223000
DTSTAMP:20260423T013738
CREATED:20260204T031522Z
LAST-MODIFIED:20260204T031827Z
UID:16923-1770926400-1770935400@southsoundblues.org
SUMMARY:Polly O'Keary and the Rhythm Method at the Salmon Bay Eagles
DESCRIPTION:Polly O’Keary and the Rhythm Method at the Salmon Bay Eagles February 12th 8pm\nPolly O’Keary is today’s blues Woman\, rooted in tradition\, but informed by the 21st Century.\n Pulling in influences from zydeco\, country\, funk\, jazz\, rockabilly\, surf and rock and roll\, she and her trio\, Polly O’Keary and the Rhythm Method\, bring a searing and joyful performance of today’s blues to audiences across the U.S. and Canada. Polly O’Keary and the Rhythm Method is a trio she built with her husband Tommy Cook\, a three-time winner of WBS Drummer award and David Miller from California\, who one reviewer described his “jaw-dropping guitar licks”.
URL:https://southsoundblues.org/event/polly-okeary-and-the-rhythm-method-at-the-salmon-bay-eagles/
LOCATION:Salmon Bay Eagles\, 5216 20th Ave NW\, Seattle\, WA\, 98107
CATEGORIES:Local South Sound Blues
END:VEVENT
BEGIN:VEVENT
DTSTART;TZID=America/Los_Angeles:20260212T190000
DTEND;TZID=America/Los_Angeles:20260212T220000
DTSTAMP:20260423T013738
CREATED:20260127T032527Z
LAST-MODIFIED:20260127T032527Z
UID:16890-1770922800-1770933600@southsoundblues.org
SUMMARY:Creole Soul Open Mic Jam Night every Thursday\, Des Moines
DESCRIPTION:Creole Soul Open Mic Jam Night every Thursday\, Des Moines\, 7pm\nRock the mic\, beat the skins\, and spank the plank—\nThursdays at 7 PM in Des Moines\, WA\, with host The Busby Band.\nFull backline provided.\n22341 Marine View Drive South\, Des Moines\, Washington 98198
URL:https://southsoundblues.org/event/creole-soul-open-mic-jam-night-every-thursday-des-moines-2/
LOCATION:Creole Soul\, 22341 Marine View Drive\, Des Moines\, WA\, 98198
CATEGORIES:Local South Sound Blues
END:VEVENT
BEGIN:VEVENT
DTSTART;TZID=America/Los_Angeles:20260212T190000
DTEND;TZID=America/Los_Angeles:20260212T220000
DTSTAMP:20260423T013738
CREATED:20260123T211035Z
LAST-MODIFIED:20260123T211052Z
UID:16831-1770922800-1770933600@southsoundblues.org
SUMMARY:Thursday nights- Billy “The Pocket” Blues Jams at Dawsons
DESCRIPTION:Thursday nights- Billy “The Pocket” Blues Jams at Dawsons\, 7-10 pm
URL:https://southsoundblues.org/event/thursday-nights-billy-the-pocket-blues-jams-at-dawsons-14/
LOCATION:Dawson’s Bar & Grill\, 5443 South Tacoma Way\, Tacoma\, WA\, 98409
CATEGORIES:Local South Sound Blues
END:VEVENT
BEGIN:VEVENT
DTSTART;TZID=America/Los_Angeles:20260211T180000
DTEND;TZID=America/Los_Angeles:20260211T210000
DTSTAMP:20260423T013738
CREATED:20260127T022913Z
LAST-MODIFIED:20260127T022913Z
UID:16869-1770832800-1770843600@southsoundblues.org
SUMMARY:Wednesday Jam Night at Gabriela’s hosted by Billy Shew & Friends
DESCRIPTION:Wednesday Jam Night at Gabriela’s hosted by Billy Shew & Friends 6-9 pm\n  Billy Shew
URL:https://southsoundblues.org/event/wednesday-jam-night-at-gabrielas-hosted-by-billy-shew-friends-4/
LOCATION:Gabriela’s Restaurant and Bar\, 23220 Maple Valley Black Diamond Rd Se #7\, Maple Valley\, WA\, 98038
CATEGORIES:Local South Sound Blues
END:VEVENT
BEGIN:VEVENT
DTSTART;TZID=America/Los_Angeles:20260210T200000
DTEND;TZID=America/Los_Angeles:20260210T233000
DTSTAMP:20260423T013738
CREATED:20260123T210449Z
LAST-MODIFIED:20260123T210449Z
UID:16825-1770753600-1770766200@southsoundblues.org
SUMMARY:Cory Wilds Band Tuesday open Jam Night at Elmer’s Bar and Grill
DESCRIPTION:Cory Wilds Band Tuesday open Jam Night at Elmer’s Bar and Grill\, 8-11:30 pm
URL:https://southsoundblues.org/event/cory-wilds-band-tuesday-open-jam-night-at-elmers-bar-and-grill-42/
LOCATION:Elmer’s Bar & Grill\, 15027 Ambaum Blvd SW\, Burien\, WA\, 98166
CATEGORIES:Local South Sound Blues
END:VEVENT
BEGIN:VEVENT
DTSTART;TZID=America/Los_Angeles:20260210T190000
DTEND;TZID=America/Los_Angeles:20260210T220000
DTSTAMP:20260423T013738
CREATED:20260123T210142Z
LAST-MODIFIED:20260123T210142Z
UID:16821-1770750000-1770760800@southsoundblues.org
SUMMARY:Billy Shew hosts the Burien Eagles Tuesday Night Jams
DESCRIPTION:Billy Shew hosts the Burien Eagles Tuesday Night Jams\,  7:00pm
URL:https://southsoundblues.org/event/billy-shew-hosts-the-burien-eagles-tuesday-night-jams-21/
LOCATION:Burien Eagles\, 920 SW 150th St\, Burien\, WA\, 98166
CATEGORIES:Local South Sound Blues
END:VEVENT
BEGIN:VEVENT
DTSTART;TZID=America/Los_Angeles:20260208T190000
DTEND;TZID=America/Los_Angeles:20260208T220000
DTSTAMP:20260423T013738
CREATED:20260206T030325Z
LAST-MODIFIED:20260206T030325Z
UID:16978-1770577200-1770588000@southsoundblues.org
SUMMARY:Jam after game at Johnny's Dock with Host Billy Shew
DESCRIPTION:Jam after game at Johnny’s Dock with Host Billy Shew 7-10 pm
URL:https://southsoundblues.org/event/jam-after-game-at-johnnys-dock-with-host-billy-shew/
LOCATION:Johnny’s Dock\, 1900 E D St\, Tacoma\, WA\, 98421
CATEGORIES:Local South Sound Blues
END:VEVENT
BEGIN:VEVENT
DTSTART;TZID=America/Los_Angeles:20260207T200000
DTEND;TZID=America/Los_Angeles:20260207T233000
DTSTAMP:20260423T013738
CREATED:20260127T020222Z
LAST-MODIFIED:20260127T020222Z
UID:16848-1770494400-1770507000@southsoundblues.org
SUMMARY:Cory Wilds band at the Sandbar and Grill\, Tacoma
DESCRIPTION:Cory Wilds Band at The Sandbar and Grill\, 8-11:30 pm February 7th\n \nLocation: The SandBar & Grill\, 1941 Marine View Dr\, Tacoma\, WA 98422
URL:https://southsoundblues.org/event/cory-wilds-band-at-the-sandbar-and-grill-tacoma/
LOCATION:Sandbar & Grill\, 1941 Marine View Dr\, Tacoma\, WA\, 98422
CATEGORIES:Local South Sound Blues
END:VEVENT
BEGIN:VEVENT
DTSTART;TZID=America/Los_Angeles:20260207T200000
DTEND;TZID=America/Los_Angeles:20260207T230000
DTSTAMP:20260423T013738
CREATED:20251021T214422Z
LAST-MODIFIED:20251021T214729Z
UID:16296-1770494400-1770505200@southsoundblues.org
SUMMARY:Mark Hurwitz\, Gin Creek Trio\, at Rock the Dock\, Tacoma
DESCRIPTION:Mark Hurwitz\, Gin Creek Trio\, at Rock the Dock Saturday\, February 7th\, 8-11 pm
URL:https://southsoundblues.org/event/mark-hurwitz-gin-creek-trio-at-rock-the-dock-tacoma/
LOCATION:Rock the Dock\, 535 Dock St # 118\, Tacoma\, WA\, 98402
CATEGORIES:Local South Sound Blues
END:VEVENT
BEGIN:VEVENT
DTSTART;TZID=America/Los_Angeles:20260205T190000
DTEND;TZID=America/Los_Angeles:20260205T220000
DTSTAMP:20260423T013738
CREATED:20260101T012019Z
LAST-MODIFIED:20260101T012019Z
UID:16678-1770318000-1770328800@southsoundblues.org
SUMMARY:Thursday nights- Billy “The Pocket” Blues Jams at Dawsons
DESCRIPTION:Thursday nights- Billy “The Pocket” Blues Jams at Dawsons\, 7-10 pm
URL:https://southsoundblues.org/event/thursday-nights-billy-the-pocket-blues-jams-at-dawsons-13/
LOCATION:Dawson’s Bar & Grill\, 5443 South Tacoma Way\, Tacoma\, WA\, 98409
CATEGORIES:Local South Sound Blues
END:VEVENT
BEGIN:VEVENT
DTSTART;TZID=America/Los_Angeles:20260204T180000
DTEND;TZID=America/Los_Angeles:20260204T210000
DTSTAMP:20260423T013738
CREATED:20251230T023624Z
LAST-MODIFIED:20251230T023624Z
UID:16666-1770228000-1770238800@southsoundblues.org
SUMMARY:Wednesday Jam Night at Gabriela’s hosted by Billy Shew & Friends
DESCRIPTION:Wednesday Jam Night at Gabriela’s hosted by Billy Shew & Friends 6-9 pm
URL:https://southsoundblues.org/event/wednesday-jam-night-at-gabrielas-hosted-by-billy-shew-friends-2/
LOCATION:Gabriela’s Restaurant and Bar\, 23220 Maple Valley Black Diamond Rd Se #7\, Maple Valley\, WA\, 98038
CATEGORIES:Local South Sound Blues
END:VEVENT
BEGIN:VEVENT
DTSTART;TZID=America/Los_Angeles:20260203T200000
DTEND;TZID=America/Los_Angeles:20260203T233000
DTSTAMP:20260423T013738
CREATED:20260127T023632Z
LAST-MODIFIED:20260127T023632Z
UID:16875-1770148800-1770161400@southsoundblues.org
SUMMARY:Cory Wilds Band Tuesday open Jam Night at Elmer’s Bar and Grill
DESCRIPTION:Cory Wilds Band Tuesday open Jam Night at Elmer’s Bar and Grill\, 8-11:30 pm
URL:https://southsoundblues.org/event/cory-wilds-band-tuesday-open-jam-night-at-elmers-bar-and-grill-43/
LOCATION:Elmer’s Bar & Grill\, 15027 Ambaum Blvd SW\, Burien\, WA\, 98166
CATEGORIES:Local South Sound Blues
END:VEVENT
BEGIN:VEVENT
DTSTART;TZID=America/Los_Angeles:20260201T190000
DTEND;TZID=America/Los_Angeles:20260201T230000
DTSTAMP:20260423T013738
CREATED:20260115T022545Z
LAST-MODIFIED:20260115T022545Z
UID:16781-1769972400-1769986800@southsoundblues.org
SUMMARY:Billy Shew Blues Jam\, every Sunday at Dawson’s
DESCRIPTION:Billy Shew Blues Jam\, every Sunday at Dawson’s\, 7-11 pm
URL:https://southsoundblues.org/event/billy-shew-blues-jam-every-sunday-at-dawsons-51/
LOCATION:Dawson’s Bar & Grill\, 5443 South Tacoma Way\, Tacoma\, WA\, 98409
CATEGORIES:Local South Sound Blues
END:VEVENT
BEGIN:VEVENT
DTSTART;TZID=America/Los_Angeles:20260201T190000
DTEND;TZID=America/Los_Angeles:20260201T220000
DTSTAMP:20260423T013738
CREATED:20260123T205415Z
LAST-MODIFIED:20260123T205415Z
UID:16813-1769972400-1769983200@southsoundblues.org
SUMMARY:Sunday Blues at the Spar
DESCRIPTION:Sunday Blues at the Spar 7-10 pm
URL:https://southsoundblues.org/event/sunday-blues-at-the-spar-58/
LOCATION:The Spar\, 2121 N 30th St\, Tacoma\, WA\, 98403
CATEGORIES:Local South Sound Blues
END:VEVENT
BEGIN:VEVENT
DTSTART;TZID=America/Los_Angeles:20260201T180000
DTEND;TZID=America/Los_Angeles:20260201T210000
DTSTAMP:20260423T013738
CREATED:20251030T002746Z
LAST-MODIFIED:20251030T002746Z
UID:16324-1769968800-1769979600@southsoundblues.org
SUMMARY:Tim Hall Blues Jam every Sunday at Zesty’s Steakhouse
DESCRIPTION:Tim Hall Blues Jam every Sunday at Zesty’s Steakhouse\, 6-9pm\n\n6PM-9PM Every Sunday\nBar & Lounge. Must be 21 & over to enter\nNo Cover Fee. First Come First Served\n\n\nZesty Steakhouse\n9905 Bridgeport Way SW\nLakewood\, WA 98499\n(253) 300-7993\n\nhttps://www.zestycajungrill.com/jam-night
URL:https://southsoundblues.org/event/tim-hall-blues-jam-every-sunday-at-zestys-steakhouse-19/
LOCATION:Zesty’s Cajun Steakhouse\, 9905 Bridgeport Way Southwest\, Lakewood\, WA\, 98499
CATEGORIES:Local South Sound Blues
END:VEVENT
BEGIN:VEVENT
DTSTART;TZID=America/Los_Angeles:20260201T170000
DTEND;TZID=America/Los_Angeles:20260201T183000
DTSTAMP:20260423T013738
CREATED:20251221T224606Z
LAST-MODIFIED:20260123T205639Z
UID:16625-1769965200-1769970600@southsoundblues.org
SUMMARY:Blues Vespers 2026 Harmonica Showcase at Kilworth Memorial Chapel\, Tacoma
DESCRIPTION:Blues Vespers 2026 Harmonica Showcase at Kilworth Memorial Chapel\, 5pm featuring Stacy Jones\, Joe Cook\, and Jonathan Pitman.\nAlso featuring Tim Sherman\, Mark Dalton and Conrad Ormsby on Guitar\, Bass and Drums. \n 
URL:https://southsoundblues.org/event/blues-vespers-2026-harmonica-showcase-at-kilworth-memorial-chapel-tacoma/
LOCATION:Kilworth Memorial Chapel\, 3410 N 18th St\, Tacoma\, WA\, 98416
CATEGORIES:Local South Sound Blues
END:VEVENT
BEGIN:VEVENT
DTSTART;TZID=America/Los_Angeles:20260131T200000
DTEND;TZID=America/Los_Angeles:20260131T230000
DTSTAMP:20260423T013738
CREATED:20260109T231531Z
LAST-MODIFIED:20260109T231531Z
UID:16732-1769889600-1769900400@southsoundblues.org
SUMMARY:Heather Jones & The Groove Masters at Salmon Bay Eagles
DESCRIPTION:Heather Jones & The Groove Masters at Salmon Bay Eagles January 31st 8-11 pm
URL:https://southsoundblues.org/event/heather-jones-the-groove-masters-at-salmon-bay-eagles/
LOCATION:Salmon Bay Eagles\, 5216 20th Ave NW\, Seattle\, WA\, 98107
CATEGORIES:Local South Sound Blues
END:VEVENT
BEGIN:VEVENT
DTSTART;TZID=America/Los_Angeles:20260129T190000
DTEND;TZID=America/Los_Angeles:20260129T220000
DTSTAMP:20260423T013738
CREATED:20260127T032353Z
LAST-MODIFIED:20260127T032353Z
UID:16888-1769713200-1769724000@southsoundblues.org
SUMMARY:Creole Soul Open Mic Jam Night every Thursday\, Des Moines
DESCRIPTION:Creole Soul Open Mic Jam Night every Thursday\, Des Moines\, 7pm\nRock the mic\, beat the skins\, and spank the plank—\nThursdays at 7 PM in Des Moines\, WA\, with host The Busby Band.\nFull backline provided.\n22341 Marine View Drive South\, Des Moines\, Washington 98198
URL:https://southsoundblues.org/event/creole-soul-open-mic-jam-night-every-thursday-des-moines/
LOCATION:Creole Soul\, 22341 Marine View Drive\, Des Moines\, WA\, 98198
CATEGORIES:Local South Sound Blues
END:VEVENT
BEGIN:VEVENT
DTSTART;TZID=America/Los_Angeles:20260129T190000
DTEND;TZID=America/Los_Angeles:20260129T220000
DTSTAMP:20260423T013738
CREATED:20251230T024602Z
LAST-MODIFIED:20251230T024602Z
UID:16670-1769713200-1769724000@southsoundblues.org
SUMMARY:Thursday nights- Billy “The Pocket” Blues Jams at Dawsons\, Tacoma
DESCRIPTION:Thursday nights- Billy “The Pocket” Blues Jams at Dawsons\, 7-10 pm
URL:https://southsoundblues.org/event/thursday-nights-billy-the-pocket-blues-jams-at-dawsons-tacoma/
LOCATION:Dawson’s Bar & Grill\, 5443 South Tacoma Way\, Tacoma\, WA\, 98409
CATEGORIES:Local South Sound Blues
END:VEVENT
BEGIN:VEVENT
DTSTART;TZID=America/Los_Angeles:20260128T183000
DTEND;TZID=America/Los_Angeles:20260128T203000
DTSTAMP:20260423T013738
CREATED:20260109T232457Z
LAST-MODIFIED:20260109T232457Z
UID:16738-1769625000-1769632200@southsoundblues.org
SUMMARY:Billy Stoops Duo at TK Irish Pub and Eatery\, Puyallup
DESCRIPTION:Billy Stoops Duo at TK Irish Pub and Eatery January 28th 6:30-8:30 pm
URL:https://southsoundblues.org/event/billy-stoops-duo-at-tk-irish-pub-and-eatery-puyallup/
LOCATION:Twisted Kilt\, 109 S Meridian\, Puyallup\, WA\, 98371
CATEGORIES:Local South Sound Blues
END:VEVENT
BEGIN:VEVENT
DTSTART;TZID=America/Los_Angeles:20260127T190000
DTEND;TZID=America/Los_Angeles:20260127T210000
DTSTAMP:20260423T013738
CREATED:20251227T203943Z
LAST-MODIFIED:20251227T203943Z
UID:16628-1769540400-1769547600@southsoundblues.org
SUMMARY:Purdy's Tuesday Blues Showcase with Mark Hurwitz & Gin Creek\, Sumner
DESCRIPTION:Purdy’s Tuesday Blues Showcase with Mark Hurwitz & Gin Creek January 27th 7-9 pm at Purdy’s Public House & Arcade
URL:https://southsoundblues.org/event/purdys-tuesday-blues-showcase-with-mark-hurwitz-gin-creek-sumner/
LOCATION:Purdy’s Public House & Arcade\, Sumner\, 16202 64th St E\, Sumner\, WA\, 98390
CATEGORIES:Local South Sound Blues
END:VEVENT
END:VCALENDAR