BEGIN:VCALENDAR
VERSION:2.0
PRODID:-//South Sound Blues Association - ECPv6.15.18//NONSGML v1.0//EN
CALSCALE:GREGORIAN
METHOD:PUBLISH
X-WR-CALNAME:South Sound Blues Association
X-ORIGINAL-URL:https://southsoundblues.org
X-WR-CALDESC:Events for South Sound Blues Association
REFRESH-INTERVAL;VALUE=DURATION:PT1H
X-Robots-Tag:noindex
X-PUBLISHED-TTL:PT1H
BEGIN:VTIMEZONE
TZID:America/Los_Angeles
BEGIN:DAYLIGHT
TZOFFSETFROM:-0800
TZOFFSETTO:-0700
TZNAME:PDT
DTSTART:20220313T100000
END:DAYLIGHT
BEGIN:STANDARD
TZOFFSETFROM:-0700
TZOFFSETTO:-0800
TZNAME:PST
DTSTART:20221106T090000
END:STANDARD
BEGIN:DAYLIGHT
TZOFFSETFROM:-0800
TZOFFSETTO:-0700
TZNAME:PDT
DTSTART:20230312T100000
END:DAYLIGHT
BEGIN:STANDARD
TZOFFSETFROM:-0700
TZOFFSETTO:-0800
TZNAME:PST
DTSTART:20231105T090000
END:STANDARD
BEGIN:DAYLIGHT
TZOFFSETFROM:-0800
TZOFFSETTO:-0700
TZNAME:PDT
DTSTART:20240310T100000
END:DAYLIGHT
BEGIN:STANDARD
TZOFFSETFROM:-0700
TZOFFSETTO:-0800
TZNAME:PST
DTSTART:20241103T090000
END:STANDARD
END:VTIMEZONE
BEGIN:VEVENT
DTSTART;TZID=America/Los_Angeles:20230401T200000
DTEND;TZID=America/Los_Angeles:20230401T200000
DTSTAMP:20260425T045103
CREATED:20230307T015516Z
LAST-MODIFIED:20230307T015516Z
UID:9995-1680379200-1680379200@southsoundblues.org
SUMMARY:Billy Shew & The Soul Providers at Stars Bar & Grill
DESCRIPTION:Billy Shew & The Soul Providers\, APRIL 1st\, 8 PM at Stars Bar & Grill
URL:https://southsoundblues.org/event/billy-shew-the-soul-providers-at-stars-bar-grill/
LOCATION:Stars Bar & Grill\, 31216 Pacific Hwy S\, Federal Way\, WA\, 98003
CATEGORIES:Local South Sound Blues
END:VEVENT
BEGIN:VEVENT
DTSTART;TZID=America/Los_Angeles:20230401T200000
DTEND;TZID=America/Los_Angeles:20230401T200000
DTSTAMP:20260425T045103
CREATED:20230323T005843Z
LAST-MODIFIED:20230323T005843Z
UID:10048-1680379200-1680379200@southsoundblues.org
SUMMARY:Kim & Brian Band\, The Paula Boggs Band at Alma Venue\, Tacoma
DESCRIPTION:Kim & Brian Band\, The Paula Boggs Band\, April 1st\, 8pm\n\n\n\n\n\n\nAlma Mater Tacoma at 1322 Fawcett Ave\, Tacoma\, WA 98402\, 1322 Fawcett Ave\, Tacoma\, WA 98402\n\n\n \nKim & Brian Band\, The Paula Boggs Band\nSat Apr 1 2023\n8:00 PM (Doors 7:00 PM)\nALMA\n1322 Fawcett Ave Tacoma\, WA 98402\n$20.00All Ages\n\n\n\n\n\n\nKim & Brian Band\nGRITTY\, HONEST\, ORIGINAL BLUES & ROCK\nThese two life-long musicians and honest songwriters capture the spectrum of life in their stories\, then deliver them\nwith musical grit and transparent emotion…and it is the core of their sound. Voted the Best New Blues Act of 2022 from the Washington Blues Society\, they\nreleased their first original project\, “In the Valley of the Blues” to great reviews and their band is one of the tightest groups around. \nPaula Boggs Band\nThis Seattle combo dubs its sound “soulgrass\,” since it combines bluegrass and Americana idioms. The band has released a steady stream of music since 2010 with the EP “Electrokitty Sessions” and single “America 2020\,” produced by multi-Grammy nominated Tucker Martine followed by Their 4th studio album\, “Janus\,”\, released in 2022.
URL:https://southsoundblues.org/event/kim-brian-band-the-paula-boggs-band-at-alma-venue-tacoma/
LOCATION:Alma Mater Tacoma\, 1322 Fawcett Ave\, Tacoma\, WA\, 98402
CATEGORIES:Local South Sound Blues
END:VEVENT
BEGIN:VEVENT
DTSTART;TZID=America/Los_Angeles:20230401T210000
DTEND;TZID=America/Los_Angeles:20230401T233000
DTSTAMP:20260425T045103
CREATED:20230302T223421Z
LAST-MODIFIED:20230302T223421Z
UID:9914-1680382800-1680391800@southsoundblues.org
SUMMARY:Mark Hurwitz and Gin Creek at The Float
DESCRIPTION:Mark Hurwitz and Gin Creek at The Float April 1st\, 9pm\n Mark Hurwitz \n\nFloatation Device Pub & Grill
URL:https://southsoundblues.org/event/mark-hurwitz-and-gin-creek-at-the-float-3/
LOCATION:Floatation Device Pub & Grill\, 14511 Sherman Dr NW\, Gig Harbor\, WA\, 98332
CATEGORIES:Local South Sound Blues
END:VEVENT
BEGIN:VEVENT
DTSTART;TZID=America/Los_Angeles:20230402T190000
DTEND;TZID=America/Los_Angeles:20230402T220000
DTSTAMP:20260425T045103
CREATED:20230303T220743Z
LAST-MODIFIED:20230303T220743Z
UID:9927-1680462000-1680472800@southsoundblues.org
SUMMARY:Sunday Blues at the Spar with Red House
DESCRIPTION:Sunday\, April 2nd – Red House at The Spar\, 7pm
URL:https://southsoundblues.org/event/sunday-blues-at-the-spar-with-red-house/
LOCATION:The Spar\, 2121 N 30th St\, Tacoma\, WA\, 98403
CATEGORIES:Local South Sound Blues
END:VEVENT
BEGIN:VEVENT
DTSTART;TZID=America/Los_Angeles:20230402T190000
DTEND;TZID=America/Los_Angeles:20230402T230000
DTSTAMP:20260425T045103
CREATED:20230202T205315Z
LAST-MODIFIED:20230202T205315Z
UID:9796-1680462000-1680476400@southsoundblues.org
SUMMARY:Tim Hall Blues Jam\, every Sunday at Dawson’s
DESCRIPTION:Tim Hall Blues Jam\, every Sunday at Dawson’s\n\n7:00 pm – 11:00 pm
URL:https://southsoundblues.org/event/tim-hall-blues-jam-every-sunday-at-dawsons-5/
LOCATION:Dawson’s Bar & Grill\, 5443 South Tacoma Way\, Tacoma\, WA\, 98409
CATEGORIES:Local South Sound Blues
END:VEVENT
BEGIN:VEVENT
DTSTART;TZID=America/Los_Angeles:20230403T200000
DTEND;TZID=America/Los_Angeles:20230403T220000
DTSTAMP:20260425T045103
CREATED:20230304T224909Z
LAST-MODIFIED:20230304T224909Z
UID:9963-1680552000-1680559200@southsoundblues.org
SUMMARY:Mike Witmer hosts “Mojo Mike’s Blues Revue” every Monday on KVSH 101.9 FM
DESCRIPTION:Mike Witmer hosts “Mojo Mike’s Blues Revue” every Monday on KVSH 101.9 FM\n8-10 pm
URL:https://southsoundblues.org/event/mike-witmer-hosts-mojo-mikes-blues-revue-every-monday-on-kvsh-101-9-fm-4/
LOCATION:WA
CATEGORIES:Local South Sound Blues
END:VEVENT
BEGIN:VEVENT
DTSTART;TZID=America/Los_Angeles:20230404T190000
DTEND;TZID=America/Los_Angeles:20230404T220000
DTSTAMP:20260425T045103
CREATED:20230201T232058Z
LAST-MODIFIED:20230201T232212Z
UID:9773-1680634800-1680645600@southsoundblues.org
SUMMARY:Jerry Miller Jam at Purdy’s First Three Tuesdays each month
DESCRIPTION:Jerry Miller Jam at Purdy’s First Three Tuesdays each month 7-10 pm
URL:https://southsoundblues.org/event/jerry-miller-jam-at-purdys-first-three-tuesdays-each-month/
LOCATION:Purdy’s Public House & Arcade\, Sumner\, 16202 64th St E\, Sumner\, WA\, 98390
CATEGORIES:Local South Sound Blues
END:VEVENT
BEGIN:VEVENT
DTSTART;TZID=America/Los_Angeles:20230405T190000
DTEND;TZID=America/Los_Angeles:20230405T220000
DTSTAMP:20260425T045103
CREATED:20230304T230928Z
LAST-MODIFIED:20230304T230928Z
UID:9975-1680721200-1680732000@southsoundblues.org
SUMMARY:Wednesdays Blues Jams with Brian Olver at Purdy’s
DESCRIPTION:Wednesdays Blues Jams with Brian Olver at Purdy’s\, 7-10 pm
URL:https://southsoundblues.org/event/wednesdays-blues-jams-with-brian-olver-at-purdys-2/
LOCATION:Purdy’s Public House & Arcade\, Sumner\, 16202 64th St E\, Sumner\, WA\, 98390
CATEGORIES:Local South Sound Blues
END:VEVENT
BEGIN:VEVENT
DTSTART;TZID=America/Los_Angeles:20230406T190000
DTEND;TZID=America/Los_Angeles:20230406T220000
DTSTAMP:20260425T045103
CREATED:20230304T231205Z
LAST-MODIFIED:20230304T231205Z
UID:9977-1680807600-1680818400@southsoundblues.org
SUMMARY:“BILLY THE POCKET JAM” Thursday nights at Dawson’s
DESCRIPTION:“BILLY THE POCKET JAM” Thursday nights at Dawson’s\, 7-10 pm
URL:https://southsoundblues.org/event/billy-the-pocket-jam-thursday-nights-at-dawsons-14/
LOCATION:Dawson’s Bar & Grill\, 5443 South Tacoma Way\, Tacoma\, WA\, 98409
CATEGORIES:Local South Sound Blues
END:VEVENT
BEGIN:VEVENT
DTSTART;TZID=America/Los_Angeles:20230407T190000
DTEND;TZID=America/Los_Angeles:20230407T210000
DTSTAMP:20260425T045103
CREATED:20230408T195954Z
LAST-MODIFIED:20230408T195954Z
UID:10112-1680894000-1680901200@southsoundblues.org
SUMMARY:Powerhouse at Kimball Coffeehouse
DESCRIPTION:Powerhouse at Kimball Coffeehouse\, Gig Harbor April 7th\, 7-9pm
URL:https://southsoundblues.org/event/powerhouse-at-kimball-coffeehouse/
LOCATION:Kimball’s Coffeehouse\, 6659 Kimball Dr\, Gig Harbor\, WA\, 98335
CATEGORIES:Local South Sound Blues
END:VEVENT
BEGIN:VEVENT
DTSTART;TZID=America/Los_Angeles:20230411T190000
DTEND;TZID=America/Los_Angeles:20230411T190000
DTSTAMP:20260425T045103
CREATED:20230304T225333Z
LAST-MODIFIED:20230304T225333Z
UID:9965-1681239600-1681239600@southsoundblues.org
SUMMARY:Billy Shew and friends Jam every Tuesday at the Burien Eagles
DESCRIPTION:Billy Shew and friends Jam every Tuesday at the Burien Eagles\, 7pm
URL:https://southsoundblues.org/event/billy-shew-and-friends-jam-every-tuesday-at-the-burien-eagles-6/
LOCATION:Burien Eagles\, 920 SW 150th St\, Burien\, WA\, 98166
CATEGORIES:Local South Sound Blues
END:VEVENT
BEGIN:VEVENT
DTSTART;TZID=America/Los_Angeles:20230411T190000
DTEND;TZID=America/Los_Angeles:20230411T220000
DTSTAMP:20260425T045103
CREATED:20230304T230036Z
LAST-MODIFIED:20230304T230036Z
UID:9969-1681239600-1681250400@southsoundblues.org
SUMMARY:Tim Hall Band jam session at Brother Don’s Bar & Grill
DESCRIPTION:Tim Hall Band jam session at Brother Don’s Bar & Grill\, 7-10 pm
URL:https://southsoundblues.org/event/tim-hall-band-jam-session-at-brother-dons-bar-grill-2/
LOCATION:Brother Don’s Bar & Grill\, 4200 Kitsap Way\, Bremerton\, WA\, 98312
CATEGORIES:Local South Sound Blues
END:VEVENT
BEGIN:VEVENT
DTSTART;TZID=America/Los_Angeles:20230412T180000
DTEND;TZID=America/Los_Angeles:20230412T210000
DTSTAMP:20260425T045103
CREATED:20230304T230404Z
LAST-MODIFIED:20230304T230404Z
UID:9971-1681322400-1681333200@southsoundblues.org
SUMMARY:Billy Shew and Friends host an open Jam every Wednesday at Stockton’s
DESCRIPTION:Billy Shew and Friends host an open Jam every Wednesday at Stockton’s\, 6-9pm\n 
URL:https://southsoundblues.org/event/billy-shew-and-friends-host-an-open-jam-every-wednesday-at-stocktons-4/
LOCATION:Stockton’s Restaurant & Spirits\, 23220 Maple Valley Black Diamond Rd SE\, Maple Valley\, WA\, 98038
CATEGORIES:Local South Sound Blues
END:VEVENT
BEGIN:VEVENT
DTSTART;TZID=America/Los_Angeles:20230413T190000
DTEND;TZID=America/Los_Angeles:20230413T220000
DTSTAMP:20260425T045103
CREATED:20230304T231421Z
LAST-MODIFIED:20230304T231421Z
UID:9979-1681412400-1681423200@southsoundblues.org
SUMMARY:Thursday’s Front Street Blues Revue at the Slippery Pig\, Poulsbo
DESCRIPTION:Thursday’s Front Street Blues Revue at the Slippery Pig\, Poulsbo\, 7-10 pm
URL:https://southsoundblues.org/event/thursdays-front-street-blues-revue-at-the-slippery-pig-poulsbo-8/
LOCATION:Slippery Pig Brewery\, 18801 Front St NE\, Poulsbo\, WA\, 98370
CATEGORIES:Local South Sound Blues
END:VEVENT
BEGIN:VEVENT
DTSTART;TZID=America/Los_Angeles:20230414T200000
DTEND;TZID=America/Los_Angeles:20230414T230000
DTSTAMP:20260425T045103
CREATED:20230323T003408Z
LAST-MODIFIED:20230323T003408Z
UID:10042-1681502400-1681513200@southsoundblues.org
SUMMARY:Tim Hall Blues Band at Zesty's Cajun Steakhouse\, Lakewood
DESCRIPTION:Tim Hall Blues Band at Zesty’s\, FRIDAY\, APR. 14th\, 8 – 11PM
URL:https://southsoundblues.org/event/tim-hall-blues-band-at-zestys-cajun-steakhouse-lakewood/
LOCATION:Zesty’s Cajun Steakhouse\, 9905 Bridgeport Way Southwest\, Lakewood\, WA\, 98499
CATEGORIES:Local South Sound Blues
END:VEVENT
BEGIN:VEVENT
DTSTART;TZID=America/Los_Angeles:20230415T190000
DTEND;TZID=America/Los_Angeles:20230415T190000
DTSTAMP:20260425T045103
CREATED:20221221T025105Z
LAST-MODIFIED:20230206T205809Z
UID:9432-1681585200-1681585200@southsoundblues.org
SUMMARY:Dave Brown Presents: Blues Vespers Stephanie Anne Johnson CD release party at Kilworth Memorial Hall
DESCRIPTION:Blues Vespers Stephanie Anne Johnson CD release party at Kilworth Memorial Hall\, April 15th\nSaturday\, April 15th at Kilworth Memorial Chapel at the University of Puget Sound. Stephanie Anne Johnson celebrates the release of their new album ‘Jewels’ with an intimate album release show in Tacoma as a duo with album producer/collaborator Jeff Fielder.\nDoors at 6:00pm\, show at 7:00pm. Suggested donation\, all ages. Tickets to the event are free but limited. Please RSVP here: https://www.eventbrite.com/…/events/527988205937/tickets\n*Sponsored by Blues Vespers and University of Puget Sound\n 
URL:https://southsoundblues.org/event/dave-brown-presents-blues-vespers-stephanie-anne-johnson-cd-release-party-at-kilworth-memorial-hall/
LOCATION:Kilworth Memorial Chapel\, 3410 N 18th St\, Tacoma\, WA\, 98416
CATEGORIES:Featured,Local South Sound Blues
END:VEVENT
BEGIN:VEVENT
DTSTART;TZID=America/Los_Angeles:20230415T190000
DTEND;TZID=America/Los_Angeles:20230415T190000
DTSTAMP:20260425T045103
CREATED:20230208T184501Z
LAST-MODIFIED:20230208T185436Z
UID:9869-1681585200-1681585200@southsoundblues.org
SUMMARY:Jerry Miller & The Roosevelt Tarantulas at Purdy's
DESCRIPTION:Jerry Miller & The Roosevelt Tarantulas at Purdy’s\, April 15th\, 7pm
URL:https://southsoundblues.org/event/jerry-miller-the-roosevelt-tarantulas-at-purdys/
LOCATION:Purdy’s Public House & Arcade\, Sumner\, 16202 64th St E\, Sumner\, WA\, 98390
CATEGORIES:Local South Sound Blues
END:VEVENT
BEGIN:VEVENT
DTSTART;TZID=America/Los_Angeles:20230415T190000
DTEND;TZID=America/Los_Angeles:20230415T190000
DTSTAMP:20260425T045103
CREATED:20230303T224052Z
LAST-MODIFIED:20230303T224052Z
UID:9940-1681585200-1681585200@southsoundblues.org
SUMMARY:Tim Cox Band at The Spar
DESCRIPTION:Saturday\, April 15th – Tim Cox Band at The Spar\, 7pm\n 
URL:https://southsoundblues.org/event/tim-cox-band-at-the-spar/
LOCATION:The Spar\, 2121 N 30th St\, Tacoma\, WA\, 98403
CATEGORIES:Local South Sound Blues
END:VEVENT
BEGIN:VEVENT
DTSTART;TZID=America/Los_Angeles:20230416T190000
DTEND;TZID=America/Los_Angeles:20230416T190000
DTSTAMP:20260425T045103
CREATED:20230401T183823Z
LAST-MODIFIED:20230401T183823Z
UID:10104-1681671600-1681671600@southsoundblues.org
SUMMARY:CD Woodbury & Robert Baker Duo at Stars Bar and Grill\, Federal Way
DESCRIPTION:CD Woodbury & Robert Baker Duo at Stars Bar and Grill April 16th at 7pm\n 
URL:https://southsoundblues.org/event/cd-woodbury-robert-baker-duo-at-stars-bar-and-grill-federal-way/
LOCATION:Stars Bar & Grill\, 31216 Pacific Hwy S\, Federal Way\, WA\, 98003
CATEGORIES:Local South Sound Blues
END:VEVENT
BEGIN:VEVENT
DTSTART;TZID=America/Los_Angeles:20230416T190000
DTEND;TZID=America/Los_Angeles:20230416T220000
DTSTAMP:20260425T045103
CREATED:20230303T222353Z
LAST-MODIFIED:20230303T222353Z
UID:9933-1681671600-1681682400@southsoundblues.org
SUMMARY:Sunday Blues at the Spar with the Jerry Miller Band
DESCRIPTION:Sunday\, April 16th – Jerry Miller Band at The Spar\, 7pm
URL:https://southsoundblues.org/event/sunday-blues-at-the-spar-with-the-jerry-miller-band/
LOCATION:The Spar\, 2121 N 30th St\, Tacoma\, WA\, 98403
CATEGORIES:Local South Sound Blues
END:VEVENT
BEGIN:VEVENT
DTSTART;TZID=America/Los_Angeles:20230418T200000
DTEND;TZID=America/Los_Angeles:20230418T233000
DTSTAMP:20260425T045103
CREATED:20230304T225711Z
LAST-MODIFIED:20230304T225711Z
UID:9967-1681848000-1681860600@southsoundblues.org
SUMMARY:Cory Wilds Band Tuesday open Jam Night at Elmer’s Bar and Grill
DESCRIPTION:Cory Wilds Band Tuesday open Jam Night at Elmer’s Bar and Grill\, 8-11:30 pm\n 
URL:https://southsoundblues.org/event/cory-wilds-band-tuesday-open-jam-night-at-elmers-bar-and-grill-4/
LOCATION:Elmer’s Bar & Grill\, 15027 Ambaum Blvd SW\, Burien\, WA\, 98166
CATEGORIES:Local South Sound Blues
END:VEVENT
BEGIN:VEVENT
DTSTART;TZID=America/Los_Angeles:20230419T190000
DTEND;TZID=America/Los_Angeles:20230419T220000
DTSTAMP:20260425T045103
CREATED:20230304T224106Z
LAST-MODIFIED:20230304T224106Z
UID:9957-1681930800-1681941600@southsoundblues.org
SUMMARY:Wednesdays Blues Jams with Brian Olver at Purdy’s
DESCRIPTION:Wednesdays Blues Jams with Brian Olver at Purdy’s\, 7-10 pm\n 
URL:https://southsoundblues.org/event/wednesdays-blues-jams-with-brian-olver-at-purdys/
LOCATION:Purdy’s Public House & Arcade\, Sumner\, 16202 64th St E\, Sumner\, WA\, 98390
CATEGORIES:Local South Sound Blues
END:VEVENT
BEGIN:VEVENT
DTSTART;TZID=America/Los_Angeles:20230420T200000
DTEND;TZID=America/Los_Angeles:20230420T233000
DTSTAMP:20260425T045103
CREATED:20230304T231617Z
LAST-MODIFIED:20230304T231617Z
UID:9981-1682020800-1682033400@southsoundblues.org
SUMMARY:Thursdays at the Stars Bar & Grill\, Jam hosted by Billy Shew
DESCRIPTION:Thursdays at the Stars Bar & Grill\, Jam hosted by Billy Shew\, 8-11:30 pm
URL:https://southsoundblues.org/event/thursdays-at-the-stars-bar-grill-jam-hosted-by-billy-shew-10/
LOCATION:Stars Bar & Grill\, 31216 Pacific Hwy S\, Federal Way\, WA\, 98003
CATEGORIES:Local South Sound Blues
END:VEVENT
BEGIN:VEVENT
DTSTART;TZID=America/Los_Angeles:20230421T190000
DTEND;TZID=America/Los_Angeles:20230421T210000
DTSTAMP:20260425T045103
CREATED:20230106T005114Z
LAST-MODIFIED:20230304T234625Z
UID:9573-1682103600-1682110800@southsoundblues.org
SUMMARY:The 'Filthy 5th' at Kimball Coffeehouse
DESCRIPTION:April 21st\, The ‘Filthy Fifth’\, at Kimball Coffeehouse\, 7-9pm
URL:https://southsoundblues.org/event/the-filthy-fifth-at-kimballs/
LOCATION:Kimball’s Coffeehouse\, 6659 Kimball Dr\, Gig Harbor\, WA\, 98335
CATEGORIES:Local South Sound Blues
END:VEVENT
BEGIN:VEVENT
DTSTART;TZID=America/Los_Angeles:20230421T190000
DTEND;TZID=America/Los_Angeles:20230421T220000
DTSTAMP:20260425T045103
CREATED:20230323T001937Z
LAST-MODIFIED:20230323T001937Z
UID:10036-1682103600-1682114400@southsoundblues.org
SUMMARY:Kim and Brian Band at the Barn at Wilson Farm
DESCRIPTION:Kim and Brian Band April 21st\, 7pm at the Barn at Wilson Farm\n\n\n\n\n\n\nThe Barn at Wilson Farm\, 1425 210th Ave E\, Lake Tapps\, WA 98391\, USA map \n\n\nKIm and Brian Band \nThe Barn at Wilson Farm \nLake Tapps \nhttps://thebarnatwilsonfarm.com/shop/ols/products/h-the-kim–brian-band-april-22nd?fbclid=IwAR02Z7sPQC9S55L-FgyVNKR6Hivg98Wr1emgNnyWIVjr3n9gs2BtnR-3-r8 \nFriday\, April 21st 7-10 p.m. (Doors at 6 p.m.) \n*$25/Advance $30/Day of show \n*Limited Tickets Available! Get your tickets early! 21+ event \n7 p.m. Sharp! Line-Dance Lessons (BEGINNER LEVEL!) \n8-10 p.m. Kim & Brian Band \n  \nKIM & BRIAN – GRITTY\, SOULFUL\, ORIGINAL BL
URL:https://southsoundblues.org/event/kim-and-brian-band-at-the-barn-at-wilson-farm/
LOCATION:The Barn at Wilson Farm\, 1425 210th Ave E.\, Lake Tapps\, WA\, 98391
CATEGORIES:Local South Sound Blues
END:VEVENT
BEGIN:VEVENT
DTSTART;TZID=America/Los_Angeles:20230421T200000
DTEND;TZID=America/Los_Angeles:20230421T200000
DTSTAMP:20260425T045103
CREATED:20230421T071639Z
LAST-MODIFIED:20230421T071639Z
UID:10231-1682107200-1682107200@southsoundblues.org
SUMMARY:The Cory Wilds Band at JP's Barroom
DESCRIPTION:The Cory Wilds Band rocks JP’s Barroom this Friday April 21st at 8pm!\n214 Williams Ave So. Renton. 4/21/23
URL:https://southsoundblues.org/event/the-cory-wilds-band-at-jps-barroom/
LOCATION:JP’s Barroom\, 214 Williams Ave S\, Renton\, WA\, 98057
CATEGORIES:Local South Sound Blues
END:VEVENT
BEGIN:VEVENT
DTSTART;TZID=America/Los_Angeles:20230422T190000
DTEND;TZID=America/Los_Angeles:20230422T220000
DTSTAMP:20260425T045103
CREATED:20230106T005541Z
LAST-MODIFIED:20230106T005541Z
UID:9575-1682190000-1682200800@southsoundblues.org
SUMMARY:The 'Filthy 5th' at the Spar
DESCRIPTION:The ‘Filthy Fifth’ at the Spar\, April 22nd\, 7-10pm
URL:https://southsoundblues.org/event/the-filthy-5th-at-the-spar/
LOCATION:The Spar\, 2121 N 30th St\, Tacoma\, WA\, 98403
CATEGORIES:Local South Sound Blues
END:VEVENT
BEGIN:VEVENT
DTSTART;TZID=America/Los_Angeles:20230422T190000
DTEND;TZID=America/Los_Angeles:20230422T230000
DTSTAMP:20260425T045103
CREATED:20230322T225649Z
LAST-MODIFIED:20230322T231046Z
UID:10031-1682190000-1682204400@southsoundblues.org
SUMMARY:'Mid-Nite Bourbon' at the City Hall Saloon\, Enumclaw
DESCRIPTION:‘Mid-Nite Bourbon’ at the City Hall Saloon April 22nd\, 7-11 pm\n with musical guests
URL:https://southsoundblues.org/event/mid-nite-bourbon-at-the-city-hall-saloon-enumclaw/
LOCATION:City Hall Saloon\, 35317 314th Way SE\, Cumberland\, WA\, 98022
CATEGORIES:Local South Sound Blues
END:VEVENT
BEGIN:VEVENT
DTSTART;TZID=America/Los_Angeles:20230423T190000
DTEND;TZID=America/Los_Angeles:20230423T220000
DTSTAMP:20260425T045103
CREATED:20230304T222101Z
LAST-MODIFIED:20230304T222101Z
UID:9949-1682276400-1682287200@southsoundblues.org
SUMMARY:Sunday Blues at the Spar with the Soulful 88s
DESCRIPTION:April 23rd – Soulful 88s at the Spar\, 7-10 pm
URL:https://southsoundblues.org/event/sunday-blues-at-the-spar-with-the-soulful-88s/
LOCATION:The Spar\, 2121 N 30th St\, Tacoma\, WA\, 98403
CATEGORIES:Local South Sound Blues
END:VEVENT
BEGIN:VEVENT
DTSTART;TZID=America/Los_Angeles:20230423T190000
DTEND;TZID=America/Los_Angeles:20230423T220000
DTSTAMP:20260425T045103
CREATED:20230304T224650Z
LAST-MODIFIED:20230304T224650Z
UID:9961-1682276400-1682287200@southsoundblues.org
SUMMARY:Tim Hall Blues Jam\, every Sunday at Dawson’s
DESCRIPTION:Tim Hall Blues Jam\, every Sunday at Dawson’s\, 7-10 pm
URL:https://southsoundblues.org/event/tim-hall-blues-jam-every-sunday-at-dawsons-6/
LOCATION:Dawson’s Bar & Grill\, 5443 South Tacoma Way\, Tacoma\, WA\, 98409
CATEGORIES:Local South Sound Blues
END:VEVENT
END:VCALENDAR