BEGIN:VCALENDAR
VERSION:2.0
PRODID:-//South Sound Blues Association - ECPv6.15.18//NONSGML v1.0//EN
CALSCALE:GREGORIAN
METHOD:PUBLISH
X-WR-CALNAME:South Sound Blues Association
X-ORIGINAL-URL:https://southsoundblues.org
X-WR-CALDESC:Events for South Sound Blues Association
REFRESH-INTERVAL;VALUE=DURATION:PT1H
X-Robots-Tag:noindex
X-PUBLISHED-TTL:PT1H
BEGIN:VTIMEZONE
TZID:America/Los_Angeles
BEGIN:DAYLIGHT
TZOFFSETFROM:-0800
TZOFFSETTO:-0700
TZNAME:PDT
DTSTART:20220313T100000
END:DAYLIGHT
BEGIN:STANDARD
TZOFFSETFROM:-0700
TZOFFSETTO:-0800
TZNAME:PST
DTSTART:20221106T090000
END:STANDARD
BEGIN:DAYLIGHT
TZOFFSETFROM:-0800
TZOFFSETTO:-0700
TZNAME:PDT
DTSTART:20230312T100000
END:DAYLIGHT
BEGIN:STANDARD
TZOFFSETFROM:-0700
TZOFFSETTO:-0800
TZNAME:PST
DTSTART:20231105T090000
END:STANDARD
BEGIN:DAYLIGHT
TZOFFSETFROM:-0800
TZOFFSETTO:-0700
TZNAME:PDT
DTSTART:20240310T100000
END:DAYLIGHT
BEGIN:STANDARD
TZOFFSETFROM:-0700
TZOFFSETTO:-0800
TZNAME:PST
DTSTART:20241103T090000
END:STANDARD
END:VTIMEZONE
BEGIN:VEVENT
DTSTART;TZID=America/Los_Angeles:20231029T190000
DTEND;TZID=America/Los_Angeles:20231029T220000
DTSTAMP:20260424T200716
CREATED:20230907T213939Z
LAST-MODIFIED:20230907T213939Z
UID:11346-1698606000-1698616800@southsoundblues.org
SUMMARY:Sunday Blues at the Spar with King Kom Beaux
DESCRIPTION:Sunday Blues at the Spar with King Kom Beaux\, October 29th\, 7-10 pm
URL:https://southsoundblues.org/event/sunday-blues-at-the-spar-with-king-kom-beaux/
LOCATION:The Spar\, 2121 N 30th St\, Tacoma\, WA\, 98403
CATEGORIES:Local South Sound Blues
END:VEVENT
BEGIN:VEVENT
DTSTART;TZID=America/Los_Angeles:20231029T190000
DTEND;TZID=America/Los_Angeles:20231029T230000
DTSTAMP:20260424T200716
CREATED:20230902T185440Z
LAST-MODIFIED:20230902T185440Z
UID:11319-1698606000-1698620400@southsoundblues.org
SUMMARY:Billy Shew Blues Jam\, every Sunday at Dawson’s
DESCRIPTION:Billy Shew Blues Jam\, every Sunday at Dawson’s\, 7-11 pm
URL:https://southsoundblues.org/event/billy-shew-blues-jam-every-sunday-at-dawsons-10/
LOCATION:Dawson’s Bar & Grill\, 5443 South Tacoma Way\, Tacoma\, WA\, 98409
CATEGORIES:Local South Sound Blues
END:VEVENT
BEGIN:VEVENT
DTSTART;TZID=America/Los_Angeles:20231031T190000
DTEND;TZID=America/Los_Angeles:20231031T210000
DTSTAMP:20260424T200716
CREATED:20230817T195119Z
LAST-MODIFIED:20230817T195119Z
UID:11170-1698778800-1698786000@southsoundblues.org
SUMMARY:Tuesday "Blues Showcase" at Purdy's Public House and Arcade\, featuring Mark Hurwitz & Gin Creek\, Sumner
DESCRIPTION:Tuesday “Blues Showcase” at Purdy’s Public House and Arcade\, featuring Mark Hurwitz & Gin Creek\, October 31st\, 7-9 pm
URL:https://southsoundblues.org/event/tuesday-blues-showcase-at-purdys-public-house-and-arcade-featuring-mark-hurwitz-gin-creek-sumner/
LOCATION:Purdy’s Public House & Arcade\, Sumner\, 16202 64th St E\, Sumner\, WA\, 98390
CATEGORIES:Local South Sound Blues
END:VEVENT
BEGIN:VEVENT
DTSTART;TZID=America/Los_Angeles:20231104T200000
DTEND;TZID=America/Los_Angeles:20231104T220000
DTSTAMP:20260424T200716
CREATED:20230911T055004Z
LAST-MODIFIED:20230911T055105Z
UID:11353-1699128000-1699135200@southsoundblues.org
SUMMARY:SSBA Blues Series at the Mill with Stevie & The Blue Flames
DESCRIPTION:SSBA Blues Series at the Mill with Stevie & The Blue Flames\, November 4th\, 8-10 pm\n Steve Bailey
URL:https://southsoundblues.org/event/ssba-blues-series-at-the-mill-with-stevie-the-blue-flames/
LOCATION:The Mill of Milton\, 900 Meridian E. #50\, Milton\, WA\, 98354
CATEGORIES:Local South Sound Blues
END:VEVENT
BEGIN:VEVENT
DTSTART;TZID=America/Los_Angeles:20231105T170000
DTEND;TZID=America/Los_Angeles:20231105T190000
DTSTAMP:20260424T200716
CREATED:20231022T195714Z
LAST-MODIFIED:20231022T195714Z
UID:11518-1699203600-1699210800@southsoundblues.org
SUMMARY:Blues Vespers with the Joel Astley Band at Kilworth Chapel
DESCRIPTION:Joel Astley Band\, November 5\, Tacoma\, WA – Blues Vespers – Kilworth Chapel 5-7pm
URL:https://southsoundblues.org/event/blues-vespers-with-the-joel-astley-band-at-kilworth-chapel/
LOCATION:Kilworth Memorial Chapel\, 3410 N 18th St\, Tacoma\, WA\, 98416
CATEGORIES:Local South Sound Blues
END:VEVENT
BEGIN:VEVENT
DTSTART;TZID=America/Los_Angeles:20231105T190000
DTEND;TZID=America/Los_Angeles:20231105T220000
DTSTAMP:20260424T200716
CREATED:20231012T230939Z
LAST-MODIFIED:20231012T230939Z
UID:11460-1699210800-1699221600@southsoundblues.org
SUMMARY:Sunday Blues at the Spar with Rod Cook & Toast
DESCRIPTION:Nov 5th. The Spar\, Tacoma: Sunday Blues – Rod Cook & Toast 7pm
URL:https://southsoundblues.org/event/sunday-blues-at-the-spar-with-rod-cook-toast-2/
LOCATION:The Spar\, 2121 N 30th St\, Tacoma\, WA\, 98403
CATEGORIES:Local South Sound Blues
END:VEVENT
BEGIN:VEVENT
DTSTART;TZID=America/Los_Angeles:20231106T200000
DTEND;TZID=America/Los_Angeles:20231106T220000
DTSTAMP:20260424T200716
CREATED:20231018T233357Z
LAST-MODIFIED:20231018T233357Z
UID:11504-1699300800-1699308000@southsoundblues.org
SUMMARY:Mike Witmer hosts “Mojo Mike’s Blues Revue” every Monday on KVSH 101.9 FM
DESCRIPTION:Mike Witmer hosts “Mojo Mike’s Blues Revue” every Monday on KVSH 101.9 FM 8-10 pm
URL:https://southsoundblues.org/event/mike-witmer-hosts-mojo-mikes-blues-revue-every-monday-on-kvsh-101-9-fm-10/
LOCATION:WA
CATEGORIES:Local South Sound Blues
END:VEVENT
BEGIN:VEVENT
DTSTART;TZID=America/Los_Angeles:20231107T190000
DTEND;TZID=America/Los_Angeles:20231107T190000
DTSTAMP:20260424T200716
CREATED:20231102T230606Z
LAST-MODIFIED:20231102T230606Z
UID:11590-1699383600-1699383600@southsoundblues.org
SUMMARY:Billy Shew and friends Jam every Tuesday at the Burien Eagles
DESCRIPTION:Billy Shew and friends Jam every Tuesday at the Burien Eagles\, 7pm
URL:https://southsoundblues.org/event/billy-shew-and-friends-jam-every-tuesday-at-the-burien-eagles-16/
LOCATION:Burien Eagles\, 920 SW 150th St\, Burien\, WA\, 98166
CATEGORIES:Local South Sound Blues
END:VEVENT
BEGIN:VEVENT
DTSTART;TZID=America/Los_Angeles:20231108T190000
DTEND;TZID=America/Los_Angeles:20231108T220000
DTSTAMP:20260424T200716
CREATED:20231102T211110Z
LAST-MODIFIED:20231102T211110Z
UID:11558-1699470000-1699480800@southsoundblues.org
SUMMARY:Wednesdays Blues "Jam Night" with Brian Olver and Glenn Hummel at Purdy’s in Sumner
DESCRIPTION:Wednesdays Blues “Jam Night” with Brian Olver and Glenn Hummel at Purdy’s\, 7-10 pm\n \n 
URL:https://southsoundblues.org/event/wednesdays-blues-jam-night-with-brian-olver-and-glenn-hummel-at-purdys-in-sumner/
LOCATION:Purdy’s Public House & Arcade\, Sumner\, 16202 64th St E\, Sumner\, WA\, 98390
CATEGORIES:Local South Sound Blues
END:VEVENT
BEGIN:VEVENT
DTSTART;TZID=America/Los_Angeles:20231109T200000
DTEND;TZID=America/Los_Angeles:20231109T200000
DTSTAMP:20260424T200716
CREATED:20231102T221124Z
LAST-MODIFIED:20231102T221124Z
UID:11578-1699560000-1699560000@southsoundblues.org
SUMMARY:Jonathan Pitman and Steve Itterly at Snapdragon\, Vashon
DESCRIPTION:Jonathan Pitman and Steve Itterly at Snapdragon\, August 17th\, 8pm\n \nHarmonica ace\, Jonathan Pitman and multi award winning guitarist\, Steve Itterly will be bringing 2 hours of foot stomping Country Blues every Thursday at Snapdragon\, 17817 Vashon Hwy SW\, Vashon\, WA (206) 463-1310
URL:https://southsoundblues.org/event/jonathan-pitman-and-steve-itterly-at-snapdragon-vashon-3/
LOCATION:Snapdragon\, 17817 Vashon Hwy\, Vashon\, WA\, 98070
CATEGORIES:Local South Sound Blues
END:VEVENT
BEGIN:VEVENT
DTSTART;TZID=America/Los_Angeles:20231109T200000
DTEND;TZID=America/Los_Angeles:20231109T233000
DTSTAMP:20260424T200716
CREATED:20231102T212616Z
LAST-MODIFIED:20231102T212616Z
UID:11567-1699560000-1699572600@southsoundblues.org
SUMMARY:Thursdays at the Stars Bar & Grill\, Jam hosted by Billy Shew
DESCRIPTION:Thursdays at the Stars Bar & Grill\, Jam hosted by Billy Shew\, 8-11:30 pm
URL:https://southsoundblues.org/event/thursdays-at-the-stars-bar-grill-jam-hosted-by-billy-shew-17/
LOCATION:Stars Bar & Grill\, 31216 Pacific Hwy S\, Federal Way\, WA\, 98003
CATEGORIES:Local South Sound Blues
END:VEVENT
BEGIN:VEVENT
DTSTART;TZID=America/Los_Angeles:20231110T190000
DTEND;TZID=America/Los_Angeles:20231110T190000
DTSTAMP:20260424T200716
CREATED:20231012T232426Z
LAST-MODIFIED:20231012T232426Z
UID:11470-1699642800-1699642800@southsoundblues.org
SUMMARY:Lorenzo Farrell at Cider & Cedar\, Tacoma
DESCRIPTION:Nov 10th. Cider & Cedar\, Tacoma: Queen Street Gang feat. Lorenzo Farrell 7pm
URL:https://southsoundblues.org/event/lorenzo-farrell-at-cider-cedar-tacoma/
LOCATION:Cider & Cedar\, 744 Market St.\, Tacoma\, WA\, 98402
CATEGORIES:Local South Sound Blues
END:VEVENT
BEGIN:VEVENT
DTSTART;TZID=America/Los_Angeles:20231111T180000
DTEND;TZID=America/Los_Angeles:20231111T210000
DTSTAMP:20260424T200716
CREATED:20230920T011724Z
LAST-MODIFIED:20230920T011724Z
UID:11413-1699725600-1699736400@southsoundblues.org
SUMMARY:Michele D'Amour & The Love Dealers (trio) at Cider and Cedar\, Tacoma
DESCRIPTION:Michele D’Amour & The Love Dealers (trio)\, Saturday\, Nov. 11th at Cider and Cedar\, 6:00 – 9:00 p.m.
URL:https://southsoundblues.org/event/michele-damour-the-love-dealers-trio-at-cider-and-cedar-tacoma/
LOCATION:Cider & Cedar\, 744 Market St.\, Tacoma\, WA\, 98402
CATEGORIES:Local South Sound Blues
END:VEVENT
BEGIN:VEVENT
DTSTART;TZID=America/Los_Angeles:20231111T190000
DTEND;TZID=America/Los_Angeles:20231111T190000
DTSTAMP:20260424T200716
CREATED:20231110T035157Z
LAST-MODIFIED:20231110T035157Z
UID:11619-1699729200-1699729200@southsoundblues.org
SUMMARY:Billy Shew & The Sole Providers at the South Tacoma Eagles
DESCRIPTION:Billy Shew & The Sole Providers at the South Tacoma Eagles #2933\, November 11th\, 7pm
URL:https://southsoundblues.org/event/billy-shew-the-sole-providers-at-the-south-tacoma-eagles/
LOCATION:South Tacoma Eagles\, 7037 S Pine St\, Tacoma\, WA\, 98409
CATEGORIES:Local South Sound Blues
END:VEVENT
BEGIN:VEVENT
DTSTART;TZID=America/Los_Angeles:20231111T200000
DTEND;TZID=America/Los_Angeles:20231111T230000
DTSTAMP:20260424T200716
CREATED:20230907T212243Z
LAST-MODIFIED:20230907T212301Z
UID:11333-1699732800-1699743600@southsoundblues.org
SUMMARY:Cory Wilds Band at Stockton's
DESCRIPTION:Cory Wilds Band at Stockton’s\, November 11th\, 8-11 pm
URL:https://southsoundblues.org/event/cory-wilds-band-at-stocktons-9/
LOCATION:Stockton’s Restaurant & Spirits\, 23220 Maple Valley Black Diamond Rd SE\, Maple Valley\, WA\, 98038
CATEGORIES:Local South Sound Blues
END:VEVENT
BEGIN:VEVENT
DTSTART;TZID=America/Los_Angeles:20231111T210000
DTEND;TZID=America/Los_Angeles:20231111T223000
DTSTAMP:20260424T200716
CREATED:20231025T180114Z
LAST-MODIFIED:20231025T180541Z
UID:11525-1699736400-1699741800@southsoundblues.org
SUMMARY:Kim & Brian at Hotel Murano\, Tacoma\, Nourish fundraiser
DESCRIPTION:Kim & Brian! Hotel Murano\, Tacoma\, WA. Saturday\, November 11th\, 8:00pm All Ages\nThis is a Nourish fundraiser. They are on from 9-10:30. Full band!\n  \n \n50th Anniversary Celebration and Auction – a fundraiser to benefit the people Nourish Pierce County Serves. The event will include silent and live auctions\, raffle\, and entertainment from the Kim Archer band. Interested in hosting a table of ten? We’re looking for table captains! Tickets are $150 each or $1\,500 for a table of 10. Dinner choices include Fillet Mignon\, Salmon\, or Wild Mushroom Gnocchi. Click here to register. For more information\, call us at (253) 383-3164 x 109 or by email at auction@nourishpc.org. \n\n\n\n\nAddress: 1320 Broadway\, Tacoma\, WA 98402
URL:https://southsoundblues.org/event/kim-brian-at-hotel-murano-tacoma-nourish-fundraiser/
LOCATION:Hotel Murano\, 1320 Broadway\, Tacoma\, WA\, 98402
CATEGORIES:Local South Sound Blues,Special Event
END:VEVENT
BEGIN:VEVENT
DTSTART;TZID=America/Los_Angeles:20231112T110000
DTEND;TZID=America/Los_Angeles:20231112T140000
DTSTAMP:20260424T200716
CREATED:20231110T035758Z
LAST-MODIFIED:20231110T035758Z
UID:11622-1699786800-1699797600@southsoundblues.org
SUMMARY:Retro Gruve at the Olympia Farmers Market
DESCRIPTION:Retro Gruve at the Olympia Farmers Market November 12th\, 11am-2pm\n 
URL:https://southsoundblues.org/event/retro-gruve-at-the-olympia-farmers-market-2/
LOCATION:Olympia Farmers Market\, 700 Capitol Way N\, Olympia\, WA\, 98501
CATEGORIES:Local South Sound Blues
END:VEVENT
BEGIN:VEVENT
DTSTART;TZID=America/Los_Angeles:20231112T190000
DTEND;TZID=America/Los_Angeles:20231112T220000
DTSTAMP:20260424T200716
CREATED:20230831T022124Z
LAST-MODIFIED:20230831T022124Z
UID:11301-1699815600-1699826400@southsoundblues.org
SUMMARY:Sunday Blues at the Spar with Kyle Rowland Blues Band
DESCRIPTION:KYLE ROWLAND BLUES at the Spar\, November 12th\, 7-10 pm\nCatch this young firebrand singer\, harmonica player and guitarist from Northern California. Backed by: Tom Boyle (guitar)\, Lorenzo Farrell (keys)\, David Hudson (drums)\n  \nNO COVER
URL:https://southsoundblues.org/event/sunday-blues-at-the-spar-with-kyle-rowland-blues-band/
LOCATION:The Spar\, 2121 N 30th St\, Tacoma\, WA\, 98403
CATEGORIES:Local South Sound Blues
END:VEVENT
BEGIN:VEVENT
DTSTART;TZID=America/Los_Angeles:20231113T190000
DTEND;TZID=America/Los_Angeles:20231113T190000
DTSTAMP:20260424T200716
CREATED:20231102T210329Z
LAST-MODIFIED:20231102T210329Z
UID:11554-1699902000-1699902000@southsoundblues.org
SUMMARY:Monday Night Jams at HD’s Bar & Grill\, Belfair
DESCRIPTION:Monday Night Jams at HD’s Bar & Grill\, Belfair\, WA 7pm
URL:https://southsoundblues.org/event/monday-night-jams-at-hds-bar-grill-belfair-5/
LOCATION:HD’s Pub\, 24131 SR-3 \, Belfair\, WA\, 98528
CATEGORIES:Local South Sound Blues
END:VEVENT
BEGIN:VEVENT
DTSTART;TZID=America/Los_Angeles:20231114T190000
DTEND;TZID=America/Los_Angeles:20231114T220000
DTSTAMP:20260424T200716
CREATED:20231102T210653Z
LAST-MODIFIED:20231102T210653Z
UID:11556-1699988400-1699999200@southsoundblues.org
SUMMARY:Tuesday "Bluesday" at Brother Don’s Bar & Grill\, Jam with The Tim Hall Band
DESCRIPTION:Tuesday Bluesday at Brother Don’s Bar & Grill\, Jam with The Tim Hall Band\, 7-10 pm
URL:https://southsoundblues.org/event/tuesday-bluesday-at-brother-dons-bar-grill-jam-with-the-tim-hall-band-5/
LOCATION:Brother Don’s Bar & Grill\, 4200 Kitsap Way\, Bremerton\, WA\, 98312
CATEGORIES:Local South Sound Blues
END:VEVENT
BEGIN:VEVENT
DTSTART;TZID=America/Los_Angeles:20231114T200000
DTEND;TZID=America/Los_Angeles:20231114T233000
DTSTAMP:20260424T200716
CREATED:20231102T220713Z
LAST-MODIFIED:20231102T220713Z
UID:11575-1699992000-1700004600@southsoundblues.org
SUMMARY:Cory Wilds Band Tuesday open Jam Night at Elmer’s Bar and Grill
DESCRIPTION:Cory Wilds Band Tuesday open Jam Night at Elmer’s Bar and Grill\, 8-11:30 pm
URL:https://southsoundblues.org/event/cory-wilds-band-tuesday-open-jam-night-at-elmers-bar-and-grill-11/
LOCATION:Elmer’s Bar & Grill\, 15027 Ambaum Blvd SW\, Burien\, WA\, 98166
CATEGORIES:Local South Sound Blues
END:VEVENT
BEGIN:VEVENT
DTSTART;TZID=America/Los_Angeles:20231116T190000
DTEND;TZID=America/Los_Angeles:20231116T220000
DTSTAMP:20260424T200716
CREATED:20231102T211425Z
LAST-MODIFIED:20231102T211425Z
UID:11560-1700161200-1700172000@southsoundblues.org
SUMMARY:“Billy the Pocket Jam” Thursday nights at Dawson’s
DESCRIPTION:“Billy the Pocket Jam” Thursday nights at Dawson’s\, 7-10 pm\n Billy Barner
URL:https://southsoundblues.org/event/billy-the-pocket-jam-thursday-nights-at-dawsons-23/
LOCATION:Dawson’s Bar & Grill\, 5443 South Tacoma Way\, Tacoma\, WA\, 98409
CATEGORIES:Local South Sound Blues
END:VEVENT
BEGIN:VEVENT
DTSTART;TZID=America/Los_Angeles:20231116T190000
DTEND;TZID=America/Los_Angeles:20231116T220000
DTSTAMP:20260424T200716
CREATED:20231102T213115Z
LAST-MODIFIED:20231102T213115Z
UID:11571-1700161200-1700172000@southsoundblues.org
SUMMARY:Big Al’s Blues Jam Every Thursday at the New Moon Craft Tavern\, Port Angeles
DESCRIPTION:Big Al’s Blues Jam Every Thursday at the New Moon Craft Tavern\, Port Angeles\, 7-10 pm
URL:https://southsoundblues.org/event/big-als-blues-jam-every-thursday-at-the-new-moon-craft-tavern-port-angeles-16/
LOCATION:New Moon Craft Tavern\, 130 S Lincoln St\, Port Angeles\, WA\, 98362
CATEGORIES:Local South Sound Blues
END:VEVENT
BEGIN:VEVENT
DTSTART;TZID=America/Los_Angeles:20231116T190000
DTEND;TZID=America/Los_Angeles:20231116T220000
DTSTAMP:20260424T200716
CREATED:20231110T233343Z
LAST-MODIFIED:20231110T233343Z
UID:11657-1700161200-1700172000@southsoundblues.org
SUMMARY:Thursday Blues Jam at Stars Bar and Grill with Billy Shew and Friends
DESCRIPTION:Thursday Blues Jam at Stars Bar and Grill with Billy Shew and special guest\, Nick Mardon\, and friends\, 7pm
URL:https://southsoundblues.org/event/thursday-blues-jam-at-stars-bar-and-grill-with-billy-shew-and-friends/
LOCATION:Stars Bar & Grill\, 31216 Pacific Hwy S\, Federal Way\, WA\, 98003
CATEGORIES:Local South Sound Blues
END:VEVENT
BEGIN:VEVENT
DTSTART;TZID=America/Los_Angeles:20231117T210000
DTEND;TZID=America/Los_Angeles:20231117T210000
DTSTAMP:20260424T200716
CREATED:20231012T002206Z
LAST-MODIFIED:20231012T002206Z
UID:11457-1700254800-1700254800@southsoundblues.org
SUMMARY:Mid-Nite Bourbon with Stray Rails at the Valley
DESCRIPTION:Mid-Nite Bourbon with Stray Rails at the Valley\, November 17th\, 9pm
URL:https://southsoundblues.org/event/mid-nite-bourbon-with-stray-rails-at-the-valley/
LOCATION:The Valley\, 1206 Puyallup Ave\, Tacoma\, WA\, 98421
CATEGORIES:Local South Sound Blues
END:VEVENT
BEGIN:VEVENT
DTSTART;TZID=America/Los_Angeles:20231118T160000
DTEND;TZID=America/Los_Angeles:20231118T190000
DTSTAMP:20260424T200716
CREATED:20231011T200737Z
LAST-MODIFIED:20231011T200802Z
UID:11445-1700323200-1700334000@southsoundblues.org
SUMMARY:Maia Santell and the House Blend at the Urban Elk
DESCRIPTION:Maia Santell and the House Blend at the Urban Elk\, November 18th\, 4-7 pm\n \nSaturday\, November 18th        4 PM to 7 PM – No Cover Charge\nUrban Elk Restaurant & Bar\,   2013 S. Cedar St.\, Tacoma  (252) 343-6090
URL:https://southsoundblues.org/event/maia-santell-and-the-house-blend-at-the-urban-elk/
LOCATION:Urban Elk\, 2013 S Cedar St\, Tacoma\, WA\, 98405
CATEGORIES:Local South Sound Blues
END:VEVENT
BEGIN:VEVENT
DTSTART;TZID=America/Los_Angeles:20231118T200000
DTEND;TZID=America/Los_Angeles:20231118T230000
DTSTAMP:20260424T200716
CREATED:20230907T212457Z
LAST-MODIFIED:20230907T212457Z
UID:11336-1700337600-1700348400@southsoundblues.org
SUMMARY:Cory Wilds Band at JP's Bar & Grill
DESCRIPTION:Cory Wilds Band at JP’s\, November 18th\, 8-11 pm
URL:https://southsoundblues.org/event/cory-wilds-band-at-jps-bar-grill/
LOCATION:JP’s Bar and Grill\, 1055 Sunset Blvd NE\, Renton\, WA\, 98056
CATEGORIES:Local South Sound Blues
END:VEVENT
BEGIN:VEVENT
DTSTART;TZID=America/Los_Angeles:20231119T190000
DTEND;TZID=America/Los_Angeles:20231119T220000
DTSTAMP:20260424T200716
CREATED:20231012T231258Z
LAST-MODIFIED:20231012T231258Z
UID:11462-1700420400-1700431200@southsoundblues.org
SUMMARY:Sunday Blues at the Spar with Sheri Roberts Greimes
DESCRIPTION:Nov 19th. The Spar\, Tacoma: Sunday Blues – Sheri Roberts Greimes 7pm
URL:https://southsoundblues.org/event/sunday-blues-at-the-spar-with-sheri-roberts-greimes/
LOCATION:The Spar\, 2121 N 30th St\, Tacoma\, WA\, 98403
CATEGORIES:Local South Sound Blues
END:VEVENT
BEGIN:VEVENT
DTSTART;TZID=America/Los_Angeles:20231119T190000
DTEND;TZID=America/Los_Angeles:20231119T230000
DTSTAMP:20260424T200716
CREATED:20231102T210028Z
LAST-MODIFIED:20231102T210028Z
UID:11552-1700420400-1700434800@southsoundblues.org
SUMMARY:Billy Shew Blues Jam\, every Sunday at Dawson’s
DESCRIPTION:Billy Shew Blues Jam\, every Sunday at Dawson’s\, 7-11 pm
URL:https://southsoundblues.org/event/billy-shew-blues-jam-every-sunday-at-dawsons-11/
LOCATION:Dawson’s Bar & Grill\, 5443 South Tacoma Way\, Tacoma\, WA\, 98409
CATEGORIES:Local South Sound Blues
END:VEVENT
BEGIN:VEVENT
DTSTART;TZID=America/Los_Angeles:20231120T190000
DTEND;TZID=America/Los_Angeles:20231120T190000
DTSTAMP:20260424T200716
CREATED:20231102T222113Z
LAST-MODIFIED:20231102T222113Z
UID:11584-1700506800-1700506800@southsoundblues.org
SUMMARY:Monday Night Jams at HD’s Bar & Grill\, Belfair
DESCRIPTION:Monday Night Jams at HD’s Bar & Grill\, Belfair\, WA 7pm
URL:https://southsoundblues.org/event/monday-night-jams-at-hds-bar-grill-belfair-6/
LOCATION:HD’s Pub\, 24131 SR-3 \, Belfair\, WA\, 98528
CATEGORIES:Local South Sound Blues
END:VEVENT
END:VCALENDAR