BEGIN:VCALENDAR
VERSION:2.0
PRODID:-//South Sound Blues Association - ECPv6.15.18//NONSGML v1.0//EN
CALSCALE:GREGORIAN
METHOD:PUBLISH
X-WR-CALNAME:South Sound Blues Association
X-ORIGINAL-URL:https://southsoundblues.org
X-WR-CALDESC:Events for South Sound Blues Association
REFRESH-INTERVAL;VALUE=DURATION:PT1H
X-Robots-Tag:noindex
X-PUBLISHED-TTL:PT1H
BEGIN:VTIMEZONE
TZID:America/Los_Angeles
BEGIN:DAYLIGHT
TZOFFSETFROM:-0800
TZOFFSETTO:-0700
TZNAME:PDT
DTSTART:20220313T100000
END:DAYLIGHT
BEGIN:STANDARD
TZOFFSETFROM:-0700
TZOFFSETTO:-0800
TZNAME:PST
DTSTART:20221106T090000
END:STANDARD
BEGIN:DAYLIGHT
TZOFFSETFROM:-0800
TZOFFSETTO:-0700
TZNAME:PDT
DTSTART:20230312T100000
END:DAYLIGHT
BEGIN:STANDARD
TZOFFSETFROM:-0700
TZOFFSETTO:-0800
TZNAME:PST
DTSTART:20231105T090000
END:STANDARD
BEGIN:DAYLIGHT
TZOFFSETFROM:-0800
TZOFFSETTO:-0700
TZNAME:PDT
DTSTART:20240310T100000
END:DAYLIGHT
BEGIN:STANDARD
TZOFFSETFROM:-0700
TZOFFSETTO:-0800
TZNAME:PST
DTSTART:20241103T090000
END:STANDARD
END:VTIMEZONE
BEGIN:VEVENT
DTSTART;TZID=America/Los_Angeles:20230311T190000
DTEND;TZID=America/Los_Angeles:20230311T220000
DTSTAMP:20260425T075324
CREATED:20230209T014536Z
LAST-MODIFIED:20230209T014536Z
UID:9877-1678561200-1678572000@southsoundblues.org
SUMMARY:HiWay16 Rockin' Blues at the Poulsbo Eagles
DESCRIPTION:HiWay16 Rockin’ Blues at the Poulsbo Eagles March 11th\, 7-10 pm
URL:https://southsoundblues.org/event/hiway16-rockin-blues-at-the-poulsbo-eagles-2/
LOCATION:Poulsbo Eagles\, 4228 NE Lincoln Rd\, Poulsbo\, WA\, 98370
CATEGORIES:Local South Sound Blues
END:VEVENT
BEGIN:VEVENT
DTSTART;TZID=America/Los_Angeles:20230311T200000
DTEND;TZID=America/Los_Angeles:20230311T200000
DTSTAMP:20260425T075324
CREATED:20230119T204831Z
LAST-MODIFIED:20230119T204906Z
UID:9650-1678564800-1678564800@southsoundblues.org
SUMMARY:Curtis Salgado & Tinsley Ellis at the Spanish Ballroom
DESCRIPTION:Danno Presents\nA Blues Powerhouse Double Header with Curtis Salgado & Tinsley Ellis\n\n\n\n\n\n\n\nMarch 11th at the Spanish Ballroom. 7 pm doors\, 8 pm show\, $35 advance\, all ages welcome \n Curtis Salgado \nhttps://www.mcmenamins.com/events/240364-a-blues-powerhouse-double-header-with
URL:https://southsoundblues.org/event/curtis-salgado-tinsley-ellis-at-the-spanish-ballroom/
LOCATION:McMenaminsTacoma Elks\, 565 Broadway\, Tacoma\, WA\, 98402
CATEGORIES:Local South Sound Blues,Special Event
END:VEVENT
BEGIN:VEVENT
DTSTART;TZID=America/Los_Angeles:20230312T190000
DTEND;TZID=America/Los_Angeles:20230312T220000
DTSTAMP:20260425T075324
CREATED:20230202T220449Z
LAST-MODIFIED:20230202T220449Z
UID:9810-1678647600-1678658400@southsoundblues.org
SUMMARY:Sunday Blues at the Spar with the Cold102's
DESCRIPTION:Sun\, Mar 12th. The Spar\, Tacoma: The Cold 102’s 7pm
URL:https://southsoundblues.org/event/sunday-blues-at-the-spar-with-the-cold102s/
LOCATION:The Spar\, 2121 N 30th St\, Tacoma\, WA\, 98403
CATEGORIES:Local South Sound Blues
END:VEVENT
BEGIN:VEVENT
DTSTART;TZID=America/Los_Angeles:20230313T200000
DTEND;TZID=America/Los_Angeles:20230313T220000
DTSTAMP:20260425T075324
CREATED:20230201T202306Z
LAST-MODIFIED:20230201T202306Z
UID:9728-1678737600-1678744800@southsoundblues.org
SUMMARY:Mike Witmer hosts “Mojo Mike’s Blues Revue” every Monday on KVSH 101.9 FM
DESCRIPTION:Mike Witmer hosts “Mojo Mike’s Blues Revue” every Monday on KVSH 101.9 FM\n\n8:00 pm – 10:00 pm
URL:https://southsoundblues.org/event/mike-witmer-hosts-mojo-mikes-blues-revue-every-monday-on-kvsh-101-9-fm-3/
LOCATION:WA
CATEGORIES:Local South Sound Blues
END:VEVENT
BEGIN:VEVENT
DTSTART;TZID=America/Los_Angeles:20230314T200000
DTEND;TZID=America/Los_Angeles:20230314T233000
DTSTAMP:20260425T075324
CREATED:20230201T204115Z
LAST-MODIFIED:20230201T204115Z
UID:9732-1678824000-1678836600@southsoundblues.org
SUMMARY:Cory Wilds Band Tuesday open Jam Night at Elmer’s Bar and Grill
DESCRIPTION:Cory Wilds Band Tuesday open Jam Night at Elmer’s Bar and Grill\, 8-11:30 pm
URL:https://southsoundblues.org/event/cory-wilds-band-tuesday-open-jam-night-at-elmers-bar-and-grill-3/
LOCATION:Elmer’s Bar & Grill\, 15027 Ambaum Blvd SW\, Burien\, WA\, 98166
CATEGORIES:Local South Sound Blues
END:VEVENT
BEGIN:VEVENT
DTSTART;TZID=America/Los_Angeles:20230316T190000
DTEND;TZID=America/Los_Angeles:20230316T190000
DTSTAMP:20260425T075324
CREATED:20221201T203006Z
LAST-MODIFIED:20221201T203006Z
UID:9341-1678993200-1678993200@southsoundblues.org
SUMMARY:Duke Robillard at West of the Waterway
DESCRIPTION:Duke Robillard at West of the Waterway\, March 16th\, 7 pm\nThe Blues Music Awards named Duke Robillard “Best Blues Guitarist” four years out of five (2000\,2001\,2003\,2004) making him the second most honored guitarist for that award! \n\n“One of the great players” BB King\n“Robillard is a soloist of stunning force and originality.” the New York Times\n“Most everything Duke Robillard has done as a guitarist during the past four-plus decades…bears witness to his musical intelligence and his dedication to his craft”.- Downbeat\n“Robillard’s ability to play across the spectrum of blues is legendary. Few players can move stylistically from Texas to Kansas City to Chicago’s West Side\, but Robillard makes it seem easy.”- Guitar Player\n“A guitarist’s guitarist\, prolific producer\, and master of all things blues\, Duke Robillard walks the tightrope between traditionalism and experimentation…He’s a master of many styles who moves forward while maintaining a firm grounding in the past.”- Blues Revue
URL:https://southsoundblues.org/event/duke-robillard-at-west-of-the-waterway/
LOCATION:Dock Street Deli West of the Waterway\, 1901 Dock Street\, Tacoma\, WA\, 98402
CATEGORIES:Local South Sound Blues
END:VEVENT
BEGIN:VEVENT
DTSTART;TZID=America/Los_Angeles:20230317T190000
DTEND;TZID=America/Los_Angeles:20230317T190000
DTSTAMP:20260425T075324
CREATED:20230203T223838Z
LAST-MODIFIED:20230203T223838Z
UID:9831-1679079600-1679079600@southsoundblues.org
SUMMARY:Kimball & The Fugitives at the Federal Way Black Angus
DESCRIPTION:Kimball & The Fugitives at the Federal Way Black Angus\, March 17th\, 7pm\n 
URL:https://southsoundblues.org/event/kimball-the-fugitives-at-the-federal-way-black-angus/
LOCATION:Black Angus\, Federal Way\, 2400 South 320th St.\, Federal Way\, WA\, 98003
CATEGORIES:Local South Sound Blues
END:VEVENT
BEGIN:VEVENT
DTSTART;TZID=America/Los_Angeles:20230317T193000
DTEND;TZID=America/Los_Angeles:20230317T193000
DTSTAMP:20260425T075324
CREATED:20230202T223802Z
LAST-MODIFIED:20230202T224245Z
UID:9822-1679081400-1679081400@southsoundblues.org
SUMMARY:Duke Robillard Trio at the Palindrome Port Townsend Event Center\, Port Townsend
DESCRIPTION:Fri\, Mar 17th. Palindrome Port Townsend Event Center\, Port Townsend: Duke Robillard Trio 7:30pm\n\n\n\nConcert Details\n\n\n\n\nwww.LTDPRESENTSLIVE.com
URL:https://southsoundblues.org/event/duke-robillard-trio-at-the-palindrome-port-townsend-event-center-port-townsend/
LOCATION:Palindrome Port Townsend Event Center\, 1893 S Jacob Miller Rd\, Port Townsend\, WA\, 98368
CATEGORIES:Local South Sound Blues
END:VEVENT
BEGIN:VEVENT
DTSTART;TZID=America/Los_Angeles:20230318T160000
DTEND;TZID=America/Los_Angeles:20230318T190000
DTSTAMP:20260425T075324
CREATED:20230109T221046Z
LAST-MODIFIED:20230109T221046Z
UID:9585-1679155200-1679166000@southsoundblues.org
SUMMARY:Michele D'Amour & The Love Dealers at the Urban Elk
DESCRIPTION:Michele D’Amour & The Love Dealers at the Urban Elk\, Saturday\, March 18th\, 4 to 7 p.m.
URL:https://southsoundblues.org/event/michele-damour-the-love-dealers-at-the-urban-elk/
LOCATION:Urban Elk\, 2013 S Cedar St\, Tacoma\, WA\, 98405
CATEGORIES:Local South Sound Blues
END:VEVENT
BEGIN:VEVENT
DTSTART;TZID=America/Los_Angeles:20230319T190000
DTEND;TZID=America/Los_Angeles:20230319T220000
DTSTAMP:20260425T075324
CREATED:20230202T221324Z
LAST-MODIFIED:20230202T221324Z
UID:9812-1679252400-1679263200@southsoundblues.org
SUMMARY:Sunday Blues at The Spar with Big Road Blues
DESCRIPTION:Sun\, Mar 19th. The Spar\, Tacoma: Big Road Blues 7pm
URL:https://southsoundblues.org/event/sunday-blues-at-the-spar-with-big-road-blues/
LOCATION:The Spar\, 2121 N 30th St\, Tacoma\, WA\, 98403
CATEGORIES:Local South Sound Blues
END:VEVENT
BEGIN:VEVENT
DTSTART;TZID=America/Los_Angeles:20230319T190000
DTEND;TZID=America/Los_Angeles:20230319T220000
DTSTAMP:20260425T075324
CREATED:20230303T214846Z
LAST-MODIFIED:20230303T215816Z
UID:9920-1679252400-1679263200@southsoundblues.org
SUMMARY:Sunday Blues at the Spar with "Mr. Hasty"
DESCRIPTION:Sunday\, March 19th – “Mr. Hasty” (debut) at The Spar\, 7 pm\nSteve Sarkowsky’s latest project\, Mr. Hasty\, is sure to bring a great night of roots\, blues and soul tunes destined to make you glad you got to The Spar for Sunday Blues! \n 
URL:https://southsoundblues.org/event/blues-sunday-at-the-spar-with-mr-hasty/
LOCATION:The Spar\, 2121 N 30th St\, Tacoma\, WA\, 98403
CATEGORIES:Local South Sound Blues
END:VEVENT
BEGIN:VEVENT
DTSTART;TZID=America/Los_Angeles:20230321T190000
DTEND;TZID=America/Los_Angeles:20230321T230000
DTSTAMP:20260425T075324
CREATED:20230201T204334Z
LAST-MODIFIED:20230201T204334Z
UID:9734-1679425200-1679439600@southsoundblues.org
SUMMARY:Billy Shew and friends Jam every Tuesday at the Burien Eagles
DESCRIPTION:Billy Shew and friends Jam every Tuesday at the Burien Eagles\, 7-11 pm
URL:https://southsoundblues.org/event/billy-shew-and-friends-jam-every-tuesday-at-the-burien-eagles-5/
LOCATION:Burien Eagles\, 920 SW 150th St\, Burien\, WA\, 98166
CATEGORIES:Local South Sound Blues
END:VEVENT
BEGIN:VEVENT
DTSTART;TZID=America/Los_Angeles:20230323T190000
DTEND;TZID=America/Los_Angeles:20230323T220000
DTSTAMP:20260425T075324
CREATED:20221228T191645Z
LAST-MODIFIED:20221228T191645Z
UID:9498-1679598000-1679608800@southsoundblues.org
SUMMARY:Blues Vespers presents: Kim Field’s Harmonica Showcase at the Spanish Ballroom
DESCRIPTION:Blues Vespers presents: Kim Field’s Harmonica Showcase featuring Mark Dufresne and Joel Astley\, March 23rd\, at McMenamin’s Spanish Ballroom\, 7-10pm.  Also\, Tim Sherman\, Brady Kish\, and David Hudson.  \nSponsored by Ted Brown Music $8 advance\, $12 day of show.
URL:https://southsoundblues.org/event/blues-vespers-presents-kim-fields-harmonica-showcase-at-the-spanish-ballroom/
LOCATION:McMenaminsTacoma Elks\, 565 Broadway\, Tacoma\, WA\, 98402
CATEGORIES:Local South Sound Blues
END:VEVENT
BEGIN:VEVENT
DTSTART;TZID=America/Los_Angeles:20230323T200000
DTEND;TZID=America/Los_Angeles:20230323T233000
DTSTAMP:20260425T075324
CREATED:20230201T225425Z
LAST-MODIFIED:20230201T225425Z
UID:9769-1679601600-1679614200@southsoundblues.org
SUMMARY:Thursdays at the Stars Bar & Grill\, Jam hosted by Billy Shew
DESCRIPTION:Thursdays at the Stars Bar & Grill\, Jam hosted by Billy Shew\, 8-11:30 pm\n 
URL:https://southsoundblues.org/event/thursdays-at-the-stars-bar-grill-jam-hosted-by-billy-shew-9/
LOCATION:Stars Bar & Grill\, 31216 Pacific Hwy S\, Federal Way\, WA\, 98003
CATEGORIES:Local South Sound Blues
END:VEVENT
BEGIN:VEVENT
DTSTART;TZID=America/Los_Angeles:20230324T190000
DTEND;TZID=America/Los_Angeles:20230324T210000
DTSTAMP:20260425T075324
CREATED:20221221T030956Z
LAST-MODIFIED:20230304T233949Z
UID:9434-1679684400-1679691600@southsoundblues.org
SUMMARY:King Kom Beaux at Kimball Coffeehouse
DESCRIPTION:King Kom Beaux at Kimball Coffee house\, March 24th 7-9 pm
URL:https://southsoundblues.org/event/king-kom-beaux-at-kimballs/
LOCATION:Kimball’s Coffeehouse\, 6659 Kimball Dr\, Gig Harbor\, WA\, 98335
CATEGORIES:Local South Sound Blues
END:VEVENT
BEGIN:VEVENT
DTSTART;TZID=America/Los_Angeles:20230325T160000
DTEND;TZID=America/Los_Angeles:20230325T190000
DTSTAMP:20260425T075324
CREATED:20230203T224343Z
LAST-MODIFIED:20230203T224343Z
UID:9833-1679760000-1679770800@southsoundblues.org
SUMMARY:Kimball & The Fugitives with Annie Eastwood at Urban Elk
DESCRIPTION:Kimball & The Fugitives with Annie Eastwood at Urban Elk Tacoma\n\nSat Mar 25th 4:00pm – 7:00pm
URL:https://southsoundblues.org/event/kimball-the-fugitives-with-annie-eastwood-at-urban-elk/
LOCATION:Urban Elk\, 2013 S Cedar St\, Tacoma\, WA\, 98405
CATEGORIES:Local South Sound Blues
END:VEVENT
BEGIN:VEVENT
DTSTART;TZID=America/Los_Angeles:20230326T170000
DTEND;TZID=America/Los_Angeles:20230326T170000
DTSTAMP:20260425T075324
CREATED:20230217T203058Z
LAST-MODIFIED:20230217T203058Z
UID:9907-1679850000-1679850000@southsoundblues.org
SUMMARY:Blues Vespers with Dave Brown at The Kilworth Memorial Chapel featuring the Stacy Jones Band
DESCRIPTION:Stacy Jones Band\n\nBlues Vespers\, MARCH 26\, 5 PM\, Kilworth Memorial Chapel\n\n\n© 2018 Brian and Jo Benedetti
URL:https://southsoundblues.org/event/blues-vespers-with-dave-brown-at-the-kilworth-memorial-chapel-featuring-the-stacy-jones-band/
LOCATION:Kilworth Memorial Chapel\, 3410 N 18th St\, Tacoma\, WA\, 98416
CATEGORIES:Local South Sound Blues
END:VEVENT
BEGIN:VEVENT
DTSTART;TZID=America/Los_Angeles:20230326T190000
DTEND;TZID=America/Los_Angeles:20230326T220000
DTSTAMP:20260425T075324
CREATED:20230202T221552Z
LAST-MODIFIED:20230202T221552Z
UID:9814-1679857200-1679868000@southsoundblues.org
SUMMARY:Sunday Blues at the Spar with Kimball & The Fugitives w/Annie Eastwood
DESCRIPTION:Sun\, Mar 26th. The Spar\, Tacoma: Kimball & The Fugitives w/Annie Eastwood 7pm
URL:https://southsoundblues.org/event/sunday-blues-at-the-spar-with-kimball-the-fugitives-w-annie-eastwood/
LOCATION:The Spar\, 2121 N 30th St\, Tacoma\, WA\, 98403
CATEGORIES:Local South Sound Blues
END:VEVENT
BEGIN:VEVENT
DTSTART;TZID=America/Los_Angeles:20230327T190000
DTEND;TZID=America/Los_Angeles:20230327T213000
DTSTAMP:20260425T075324
CREATED:20230322T221154Z
LAST-MODIFIED:20230322T221154Z
UID:10029-1679943600-1679952600@southsoundblues.org
SUMMARY:Maria Muldaur at the Spanish Ballroom
DESCRIPTION:Maria Muldaur at the Spanish Ballroom\, MONDAY\, 27th of MARCH\n\n\n\n\n\n\n\n6pm doors\, 7pm show \n$30 advance\, $35 day of show. This is a seated event \nAll ages welcome
URL:https://southsoundblues.org/event/maria-muldaur-at-the-spanish-ballroom/
LOCATION:McMenaminsTacoma Elks\, 565 Broadway\, Tacoma\, WA\, 98402
CATEGORIES:Local South Sound Blues
END:VEVENT
BEGIN:VEVENT
DTSTART;TZID=America/Los_Angeles:20230328T190000
DTEND;TZID=America/Los_Angeles:20230328T210000
DTSTAMP:20260425T075324
CREATED:20230201T204754Z
LAST-MODIFIED:20230207T004942Z
UID:9736-1680030000-1680037200@southsoundblues.org
SUMMARY:“Tuesday Blues Showcase” at Purdy's with The Linda Myers Band
DESCRIPTION:The Linda Myers Band at Purdy’s “Tuesday Blues Showcase”. (Linda Myers\, Brian Olver\, Harvey Wicklund\, and Glenn Hummel) \nSouth Sound Blues Association presents\, “Tuesday Blues Showcase” the last Tuesday of each month\, 7-9 pm
URL:https://southsoundblues.org/event/tuesday-blues-the-last-tuesday-of-each-month-at-purdys/
LOCATION:Purdy’s Public House & Arcade\, Sumner\, 16202 64th St E\, Sumner\, WA\, 98390
CATEGORIES:Local South Sound Blues
END:VEVENT
BEGIN:VEVENT
DTSTART;TZID=America/Los_Angeles:20230329T180000
DTEND;TZID=America/Los_Angeles:20230329T180000
DTSTAMP:20260425T075324
CREATED:20230202T222248Z
LAST-MODIFIED:20230202T222248Z
UID:9816-1680112800-1680112800@southsoundblues.org
SUMMARY:Octopus Ballet at the Spar
DESCRIPTION:Wed\, Mar 29th. The Spar\, Tacoma : Octopus Ballet 6pm
URL:https://southsoundblues.org/event/octopus-ballet-at-the-spar-2/
LOCATION:The Spar\, 2121 N 30th St\, Tacoma\, WA\, 98403
CATEGORIES:Local South Sound Blues
END:VEVENT
BEGIN:VEVENT
DTSTART;TZID=America/Los_Angeles:20230329T190000
DTEND;TZID=America/Los_Angeles:20230329T220000
DTSTAMP:20260425T075324
CREATED:20230201T214208Z
LAST-MODIFIED:20230303T220204Z
UID:9746-1680116400-1680127200@southsoundblues.org
SUMMARY:Wednesdays Blues Jams with Brian Olver at Purdy’s
DESCRIPTION:Wednesdays Blues Jams at Purdy’s\, 7-10 pm\, Brian Olver & Friends\n \n 
URL:https://southsoundblues.org/event/wednesdays-blues-jams-at-purdys/
LOCATION:Purdy’s Public House & Arcade\, Sumner\, 16202 64th St E\, Sumner\, WA\, 98390
CATEGORIES:Local South Sound Blues
END:VEVENT
BEGIN:VEVENT
DTSTART;TZID=America/Los_Angeles:20230330T190000
DTEND;TZID=America/Los_Angeles:20230330T220000
DTSTAMP:20260425T075324
CREATED:20230201T225628Z
LAST-MODIFIED:20230201T225628Z
UID:9771-1680202800-1680213600@southsoundblues.org
SUMMARY:Big Al’s Blues Jam Every Thursday at the New Moon Craft Tavern\, Port Angeles
DESCRIPTION:Big Al’s Blues Jam Every Thursday at the New Moon Craft Tavern\, Port Angeles\n\n7:00 – 10:00 pm
URL:https://southsoundblues.org/event/big-als-blues-jam-every-thursday-at-the-new-moon-craft-tavern-port-angeles-10/
LOCATION:New Moon Craft Tavern\, 130 S Lincoln St\, Port Angeles\, WA\, 98362
CATEGORIES:Local South Sound Blues
END:VEVENT
BEGIN:VEVENT
DTSTART;TZID=America/Los_Angeles:20230331T190000
DTEND;TZID=America/Los_Angeles:20230331T210000
DTSTAMP:20260425T075324
CREATED:20230202T222755Z
LAST-MODIFIED:20230202T222755Z
UID:9820-1680289200-1680296400@southsoundblues.org
SUMMARY:Roger Williamson Duo at the Black Angus\, Puyallup
DESCRIPTION:Fri\, Mar 31st. Black Angus\, Puyallup: Roger Williamson Duo 7pm
URL:https://southsoundblues.org/event/roger-williamson-duo-at-the-black-angus-puyallup-2/
LOCATION:Black Angus\, Puyallup\, 203 35th Ave SE\, Puyallup\, WA\, 98374
CATEGORIES:Local South Sound Blues
END:VEVENT
BEGIN:VEVENT
DTSTART;TZID=America/Los_Angeles:20230331T190000
DTEND;TZID=America/Los_Angeles:20230331T220000
DTSTAMP:20260425T075324
CREATED:20230202T222534Z
LAST-MODIFIED:20230202T222534Z
UID:9818-1680289200-1680300000@southsoundblues.org
SUMMARY:Billy Stapleton's POWERHOUSE Band at Black Angus\, Federal Way
DESCRIPTION:Fri\, Mar 31st. Black Angus\, Federal Way: Billy Stapleton’s POWERHOUSE Band 7pm
URL:https://southsoundblues.org/event/billy-stapletons-powerhouse-band-at-black-angus-federal-way/
LOCATION:Black Angus\, Federal Way\, 2400 South 320th St.\, Federal Way\, WA\, 98003
CATEGORIES:Local South Sound Blues
END:VEVENT
BEGIN:VEVENT
DTSTART;TZID=America/Los_Angeles:20230401T200000
DTEND;TZID=America/Los_Angeles:20230401T200000
DTSTAMP:20260425T075324
CREATED:20230307T015516Z
LAST-MODIFIED:20230307T015516Z
UID:9995-1680379200-1680379200@southsoundblues.org
SUMMARY:Billy Shew & The Soul Providers at Stars Bar & Grill
DESCRIPTION:Billy Shew & The Soul Providers\, APRIL 1st\, 8 PM at Stars Bar & Grill
URL:https://southsoundblues.org/event/billy-shew-the-soul-providers-at-stars-bar-grill/
LOCATION:Stars Bar & Grill\, 31216 Pacific Hwy S\, Federal Way\, WA\, 98003
CATEGORIES:Local South Sound Blues
END:VEVENT
BEGIN:VEVENT
DTSTART;TZID=America/Los_Angeles:20230401T200000
DTEND;TZID=America/Los_Angeles:20230401T200000
DTSTAMP:20260425T075324
CREATED:20230323T005843Z
LAST-MODIFIED:20230323T005843Z
UID:10048-1680379200-1680379200@southsoundblues.org
SUMMARY:Kim & Brian Band\, The Paula Boggs Band at Alma Venue\, Tacoma
DESCRIPTION:Kim & Brian Band\, The Paula Boggs Band\, April 1st\, 8pm\n\n\n\n\n\n\nAlma Mater Tacoma at 1322 Fawcett Ave\, Tacoma\, WA 98402\, 1322 Fawcett Ave\, Tacoma\, WA 98402\n\n\n \nKim & Brian Band\, The Paula Boggs Band\nSat Apr 1 2023\n8:00 PM (Doors 7:00 PM)\nALMA\n1322 Fawcett Ave Tacoma\, WA 98402\n$20.00All Ages\n\n\n\n\n\n\nKim & Brian Band\nGRITTY\, HONEST\, ORIGINAL BLUES & ROCK\nThese two life-long musicians and honest songwriters capture the spectrum of life in their stories\, then deliver them\nwith musical grit and transparent emotion…and it is the core of their sound. Voted the Best New Blues Act of 2022 from the Washington Blues Society\, they\nreleased their first original project\, “In the Valley of the Blues” to great reviews and their band is one of the tightest groups around. \nPaula Boggs Band\nThis Seattle combo dubs its sound “soulgrass\,” since it combines bluegrass and Americana idioms. The band has released a steady stream of music since 2010 with the EP “Electrokitty Sessions” and single “America 2020\,” produced by multi-Grammy nominated Tucker Martine followed by Their 4th studio album\, “Janus\,”\, released in 2022.
URL:https://southsoundblues.org/event/kim-brian-band-the-paula-boggs-band-at-alma-venue-tacoma/
LOCATION:Alma Mater Tacoma\, 1322 Fawcett Ave\, Tacoma\, WA\, 98402
CATEGORIES:Local South Sound Blues
END:VEVENT
BEGIN:VEVENT
DTSTART;TZID=America/Los_Angeles:20230401T210000
DTEND;TZID=America/Los_Angeles:20230401T233000
DTSTAMP:20260425T075324
CREATED:20230302T223421Z
LAST-MODIFIED:20230302T223421Z
UID:9914-1680382800-1680391800@southsoundblues.org
SUMMARY:Mark Hurwitz and Gin Creek at The Float
DESCRIPTION:Mark Hurwitz and Gin Creek at The Float April 1st\, 9pm\n Mark Hurwitz \n\nFloatation Device Pub & Grill
URL:https://southsoundblues.org/event/mark-hurwitz-and-gin-creek-at-the-float-3/
LOCATION:Floatation Device Pub & Grill\, 14511 Sherman Dr NW\, Gig Harbor\, WA\, 98332
CATEGORIES:Local South Sound Blues
END:VEVENT
BEGIN:VEVENT
DTSTART;TZID=America/Los_Angeles:20230402T190000
DTEND;TZID=America/Los_Angeles:20230402T220000
DTSTAMP:20260425T075324
CREATED:20230303T220743Z
LAST-MODIFIED:20230303T220743Z
UID:9927-1680462000-1680472800@southsoundblues.org
SUMMARY:Sunday Blues at the Spar with Red House
DESCRIPTION:Sunday\, April 2nd – Red House at The Spar\, 7pm
URL:https://southsoundblues.org/event/sunday-blues-at-the-spar-with-red-house/
LOCATION:The Spar\, 2121 N 30th St\, Tacoma\, WA\, 98403
CATEGORIES:Local South Sound Blues
END:VEVENT
BEGIN:VEVENT
DTSTART;TZID=America/Los_Angeles:20230402T190000
DTEND;TZID=America/Los_Angeles:20230402T230000
DTSTAMP:20260425T075324
CREATED:20230202T205315Z
LAST-MODIFIED:20230202T205315Z
UID:9796-1680462000-1680476400@southsoundblues.org
SUMMARY:Tim Hall Blues Jam\, every Sunday at Dawson’s
DESCRIPTION:Tim Hall Blues Jam\, every Sunday at Dawson’s\n\n7:00 pm – 11:00 pm
URL:https://southsoundblues.org/event/tim-hall-blues-jam-every-sunday-at-dawsons-5/
LOCATION:Dawson’s Bar & Grill\, 5443 South Tacoma Way\, Tacoma\, WA\, 98409
CATEGORIES:Local South Sound Blues
END:VEVENT
END:VCALENDAR