BEGIN:VCALENDAR
VERSION:2.0
PRODID:-//South Sound Blues Association - ECPv6.15.18//NONSGML v1.0//EN
CALSCALE:GREGORIAN
METHOD:PUBLISH
X-WR-CALNAME:South Sound Blues Association
X-ORIGINAL-URL:https://southsoundblues.org
X-WR-CALDESC:Events for South Sound Blues Association
REFRESH-INTERVAL;VALUE=DURATION:PT1H
X-Robots-Tag:noindex
X-PUBLISHED-TTL:PT1H
BEGIN:VTIMEZONE
TZID:America/Los_Angeles
BEGIN:DAYLIGHT
TZOFFSETFROM:-0800
TZOFFSETTO:-0700
TZNAME:PDT
DTSTART:20240310T100000
END:DAYLIGHT
BEGIN:STANDARD
TZOFFSETFROM:-0700
TZOFFSETTO:-0800
TZNAME:PST
DTSTART:20241103T090000
END:STANDARD
BEGIN:DAYLIGHT
TZOFFSETFROM:-0800
TZOFFSETTO:-0700
TZNAME:PDT
DTSTART:20250309T100000
END:DAYLIGHT
BEGIN:STANDARD
TZOFFSETFROM:-0700
TZOFFSETTO:-0800
TZNAME:PST
DTSTART:20251102T090000
END:STANDARD
BEGIN:DAYLIGHT
TZOFFSETFROM:-0800
TZOFFSETTO:-0700
TZNAME:PDT
DTSTART:20260308T100000
END:DAYLIGHT
BEGIN:STANDARD
TZOFFSETFROM:-0700
TZOFFSETTO:-0800
TZNAME:PST
DTSTART:20261101T090000
END:STANDARD
END:VTIMEZONE
BEGIN:VEVENT
DTSTART;VALUE=DATE:20250809
DTEND;VALUE=DATE:20250811
DTSTAMP:20260423T154030
CREATED:20250727T001111Z
LAST-MODIFIED:20250808T205304Z
UID:15562-1754704800-1754791199@southsoundblues.org
SUMMARY:The Gig Harbor Rockin' Rhythm & Blues Fest at the Gig Harbor Sportsman's Club
DESCRIPTION:The Rockin’ Rhythm & Blues Fest is back August 9th\, with a line-up of fantastic bands\, noon to 9pm at the Gig Harbor Sportsman’s Club\nhttps://www.eventbrite.com/e/gig-harbors-rockin-rb-festival-tickets-1409553064159?aff=ebdssbdestsearch\n\nThe Blues Fest supports more than incredible live music. 100% of proceeds from the festival go directly to the Permission to Start Dreaming (PTSD) Foundation\, a non-profit dedicated to the healing of veterans\, first responders and their family members. You can read more about the foundation here: https://ptsdfoundation.org/ \n CD Woodbury    Billy Spaulding\, “Soulfull 88s” \n\nHere is the lineup:\n\n\nCD Woodbury\nBudapest West\nRoemen & the Whereabouts\nThe Profits\nSoulful 88’s\nMr. Blackwatch\nHD Fusion\nThe Gigsters\n\nBring your appetite! There will be food vendors and a beer/wine garden to quench your thirst (don’t forget your ID). While you’re here\, check out the local artists and craft vendors. So\, grab a friend\, a couple lawn chairs and get ready for an epic summer concert.\nHave questions? Please contact the event organizer\, Mike Mitchell\, at 253-549-6294\n9721 Burnham DrGig Harbor\, WA 98332
URL:https://southsoundblues.org/event/the-gig-harbor-rockin-rhythm-blues-fest-at-the-gig-harbor-sportsmans-club/
LOCATION:Gig Harbor Sportsman’s Club\, 9721 Burnham Drive NW\, Gig Harbor\, WA\, 98332
CATEGORIES:Featured,Local South Sound Blues
END:VEVENT
BEGIN:VEVENT
DTSTART;TZID=America/Los_Angeles:20250809T190000
DTEND;TZID=America/Los_Angeles:20250809T220000
DTSTAMP:20260423T154030
CREATED:20250730T220021Z
LAST-MODIFIED:20250730T220021Z
UID:15577-1754766000-1754776800@southsoundblues.org
SUMMARY:  The Mark Dufresne Band at Johnny's Dock\, Tacoma
DESCRIPTION:  The Mark Dufresne Band at Johnny’s Dock\, August 9th\, 7-10 pm\nFeaturing Billy Stapleton on guitar! \n 
URL:https://southsoundblues.org/event/the-mark-dufresne-band-at-johnnys-dock-tacoma/
LOCATION:Johnny’s Dock\, 1900 E D St\, Tacoma\, WA\, 98421
CATEGORIES:Local South Sound Blues
END:VEVENT
BEGIN:VEVENT
DTSTART;TZID=America/Los_Angeles:20250809T200000
DTEND;TZID=America/Los_Angeles:20250809T220000
DTSTAMP:20260423T154030
CREATED:20250721T212601Z
LAST-MODIFIED:20250721T212601Z
UID:15528-1754769600-1754776800@southsoundblues.org
SUMMARY:Kim Archer Band at the Mill\, Milton
DESCRIPTION:Kim Archer Band at the Mill August 9th\, 8pm\n \nEnjoy a hi-energy\, soulful take on your favorite songs\, in a venue that has amazing food and great service!
URL:https://southsoundblues.org/event/kim-archer-band-at-the-mill-milton/
LOCATION:The Mill of Milton\, 900 Meridian E. #50\, Milton\, WA\, 98354
CATEGORIES:Local South Sound Blues
END:VEVENT
BEGIN:VEVENT
DTSTART;TZID=America/Los_Angeles:20250809T200000
DTEND;TZID=America/Los_Angeles:20250809T230000
DTSTAMP:20260423T154030
CREATED:20250524T000642Z
LAST-MODIFIED:20250524T000642Z
UID:14901-1754769600-1754780400@southsoundblues.org
SUMMARY:Mark Hurwitz & Gin Creek at Dawsons Bar & Grill
DESCRIPTION:Mark Hurwitz & Gin Creek at Dawsons Bar & Grill August 9th\, 8pm
URL:https://southsoundblues.org/event/mark-hurwitz-gin-creek-at-dawsons-bar-grill/
LOCATION:Dawson’s Bar & Grill\, 5443 South Tacoma Way\, Tacoma\, WA\, 98409
CATEGORIES:Local South Sound Blues
END:VEVENT
BEGIN:VEVENT
DTSTART;TZID=America/Los_Angeles:20250809T200000
DTEND;TZID=America/Los_Angeles:20250809T233000
DTSTAMP:20260423T154030
CREATED:20250805T005658Z
LAST-MODIFIED:20250805T005658Z
UID:15631-1754769600-1754782200@southsoundblues.org
SUMMARY:Tim Hall Band at the Bethel Saloon\, Port Orchard
DESCRIPTION:Tim Hall Band at the Bethel Saloon August 9th\, 8-11:30 pm
URL:https://southsoundblues.org/event/tim-hall-band-at-the-bethel-saloon-port-orchard/
LOCATION:Bethel Saloon\, 3840 Bethel Rd SE\, Port Orchard\, WA\, 98366
CATEGORIES:Local South Sound Blues
END:VEVENT
BEGIN:VEVENT
DTSTART;TZID=America/Los_Angeles:20250810T190000
DTEND;TZID=America/Los_Angeles:20250810T220000
DTSTAMP:20260423T154030
CREATED:20250617T222840Z
LAST-MODIFIED:20250731T232936Z
UID:15184-1754852400-1754863200@southsoundblues.org
SUMMARY:Sunday Blues at the Spar featuring Finnish guitarist- Ville "Lefty" Leppänen
DESCRIPTION:Sunday Blues at the Spar with Finnish guitarist- Ville “Lefty” Leppänen\, August 10th\, 7-10 pm\n \nVille “Lefty” Leppänen\, singer-songwriter/ guitar player hails from Vantaa\, which belongs to the great capital area of Finland. He has close to 200 recorded songs and thousands of gigs all over the world under his belt. Lefty has fronted his own bands\, f.ex.  Keystone Cops and Southpaw Steel ‘n’ Twang. As a sideman he has toured and recorded with numerous Finnish roots rock bands.
URL:https://southsoundblues.org/event/sunday-blues-at-the-spar-27/
LOCATION:The Spar\, 2121 N 30th St\, Tacoma\, WA\, 98403
CATEGORIES:Local South Sound Blues
END:VEVENT
BEGIN:VEVENT
DTSTART;TZID=America/Los_Angeles:20250812T190000
DTEND;TZID=America/Los_Angeles:20250812T220000
DTSTAMP:20260423T154030
CREATED:20250607T225819Z
LAST-MODIFIED:20250607T225819Z
UID:15006-1755025200-1755036000@southsoundblues.org
SUMMARY:Billy Shew hosts the Burien Eagles Tuesday Night Jams
DESCRIPTION:Billy Shew hosts the Burien Eagles Tuesday Night Jams\,  7:00pm
URL:https://southsoundblues.org/event/billy-shew-hosts-the-burien-eagles-tuesday-night-jams-12/
LOCATION:Burien Eagles\, 920 SW 150th St\, Burien\, WA\, 98166
CATEGORIES:Local South Sound Blues
END:VEVENT
BEGIN:VEVENT
DTSTART;TZID=America/Los_Angeles:20250813T160000
DTEND;TZID=America/Los_Angeles:20250813T200000
DTSTAMP:20260423T154030
CREATED:20250630T171302Z
LAST-MODIFIED:20250630T171912Z
UID:15304-1755100800-1755115200@southsoundblues.org
SUMMARY:Cory Wilds Band at Kent Station\, Summer Concert series
DESCRIPTION:Cory Wilds Band at Kent Station August 13th\, 4-8 pm\n\nAugust 13 – The Cory Wilds Band\nThe Cory Wilds Band delivers a healthy mix of Blues\, Rock\, Country\, and Jazz. Their live show is packed with good-time music you can dance to. Covering everything from BB King and the Beatles to Led Zeppelin and  ZZ Top.\ncorywilds.com \nEvent Overview\nJoin us for a summer full of entertainment\, community\, and excitement at Kent Station! Our weekly Summer Concert Series features something for everyone—great music\, themed kids’ activities\, local vendors\, and more. \nWhat to Expect\nLive Music & Family Fun\nJoin us each week for a vibrant mix of live music\, interactive activities\, and community spirit. Every concert is free and open to the public\, with something new to enjoy every time! \n\n  \nLocation: Kent Station\, 417 Ramsay Way\, Kent\, WA 98032\, USA
URL:https://southsoundblues.org/event/cory-wilds-band-at-kent-station/
LOCATION:Kent Station\, 417 Ramsay Way #4532\, Kent\, WA\, 98032
CATEGORIES:Local South Sound Blues
END:VEVENT
BEGIN:VEVENT
DTSTART;TZID=America/Los_Angeles:20250813T183000
DTEND;TZID=America/Los_Angeles:20250813T200000
DTSTAMP:20260423T154030
CREATED:20250803T233424Z
LAST-MODIFIED:20250803T233424Z
UID:15611-1755109800-1755115200@southsoundblues.org
SUMMARY:Rod Cook\, The Old Town Concert Series\, Tacoma
DESCRIPTION:August 13th – Rod Cook\, The Old Town Concert Series at Old Town Park in Tacoma at 6:30PM.
URL:https://southsoundblues.org/event/rod-cook-the-old-town-concert-series-tacoma/
LOCATION:Old Town Park\, 2350 N 30th St\, Tacoma\, WA\, 98403\, United States
CATEGORIES:Local South Sound Blues
END:VEVENT
BEGIN:VEVENT
DTSTART;TZID=America/Los_Angeles:20250813T183000
DTEND;TZID=America/Los_Angeles:20250813T203000
DTSTAMP:20260423T154030
CREATED:20250806T225725Z
LAST-MODIFIED:20250806T225725Z
UID:15650-1755109800-1755117000@southsoundblues.org
SUMMARY:Brian Feist Duo at the TK Irish Pub\, Puyallup
DESCRIPTION:Brian Feist Duo at the TK Irish Pub August 13th\, 6:30-8:30 pm Puyallup\, WA
URL:https://southsoundblues.org/event/brian-feist-duo-at-the-tk-irish-pub-puyallup/
LOCATION:Twisted Kilt\, 109 S Meridian\, Puyallup\, WA\, 98371
CATEGORIES:Local South Sound Blues
END:VEVENT
BEGIN:VEVENT
DTSTART;TZID=America/Los_Angeles:20250814T190000
DTEND;TZID=America/Los_Angeles:20250814T210000
DTSTAMP:20260423T154030
CREATED:20250808T211623Z
LAST-MODIFIED:20250808T211623Z
UID:15664-1755198000-1755205200@southsoundblues.org
SUMMARY:Gas Station Blues at the Historic Shell station\, Issaquah
DESCRIPTION:Gas Station Blues at the Historic Shell station\, Issaquah 7-9 pm\n\nThursday\, August 14\, 2025\n\n\n\n\nThe Gas Station Blues series\, in collaboration with the Washington Blues Society\, showcases distinguished blues musicians every Thursday evening from 7:00 to 9:00 p.m. at the Historic Shell Station situated at 232 Front Street North. Join us for this free music celebration with friends. Hang out in the Beer & Wine Garden\, bring a picnic or take-out from our many restaurants within a short walk. \nKevin Sutton will be performing. \nKevin hails from Columbus\, Ohio\, and is an experienced\, award-winning professional guitarist and vocalist. He plays a variety of songs from the last six decades\, including Pop\, Rock\, Classic Rock\, Acoustic Rock\, Top 40\, Motown\, Classic and Current Country. With more than 600 songs in his repertoire\, he plays songs audiences of all ages know and love.
URL:https://southsoundblues.org/event/gas-station-blues-at-the-historic-shell-station-issaquah/
LOCATION:Historic Shell Station\, 232 Front St N\, Issaquah\, WA\, 98027
CATEGORIES:Local South Sound Blues
END:VEVENT
BEGIN:VEVENT
DTSTART;TZID=America/Los_Angeles:20250814T190000
DTEND;TZID=America/Los_Angeles:20250814T220000
DTSTAMP:20260423T154030
CREATED:20250607T232543Z
LAST-MODIFIED:20250607T232543Z
UID:15027-1755198000-1755208800@southsoundblues.org
SUMMARY:Thursdays Red Dog Saloon Jams\, Maple Valley\, with host Billy Shew
DESCRIPTION:Thursdays Red Dog Saloon Jams\, Maple Valley\, with host Billy Shew\, 7-10 pm
URL:https://southsoundblues.org/event/thursdays-red-dog-saloon-jams-maple-valley-with-host-billy-shew/
LOCATION:Red Dog Saloon\, 18605 Renton-Maple Valley Rd\, Maple Valley\, WA\, 98038
CATEGORIES:Local South Sound Blues
END:VEVENT
BEGIN:VEVENT
DTSTART;TZID=America/Los_Angeles:20250815T200000
DTEND;TZID=America/Los_Angeles:20250815T230000
DTSTAMP:20260423T154030
CREATED:20250808T215606Z
LAST-MODIFIED:20250808T215606Z
UID:15671-1755288000-1755298800@southsoundblues.org
SUMMARY:Stevie and the Blue Flames at Creole Soul\, Des Moines
DESCRIPTION:Stevie and the Blue Flames at Creole Soul in Des Moines Friday August 15th\, 8-11 pm\n \nIt is located at 22341 Marine View Drive (alley entrance). Great food and “H” and his crew are super friendly
URL:https://southsoundblues.org/event/stevie-and-the-blue-flames-at-creole-soul-des-moines/
LOCATION:Creole Soul\, 22341 Marine View Drive\, Des Moines\, WA\, 98198
CATEGORIES:Local South Sound Blues
END:VEVENT
BEGIN:VEVENT
DTSTART;TZID=America/Los_Angeles:20250815T200000
DTEND;TZID=America/Los_Angeles:20250815T233000
DTSTAMP:20260423T154030
CREATED:20250620T003653Z
LAST-MODIFIED:20250620T003930Z
UID:15251-1755288000-1755300600@southsoundblues.org
SUMMARY:King Kom Beaux at Bethel Saloon\, Port Orchard
DESCRIPTION:King Kom Beaux at Bethel Saloon August 15th\, 8pm-Midnight\n 
URL:https://southsoundblues.org/event/king-kom-beaux-at-bethel-saloon-port-orchard/
LOCATION:Bethel Saloon\, 3840 Bethel Rd SE\, Port Orchard\, WA\, 98366
CATEGORIES:Local South Sound Blues
END:VEVENT
BEGIN:VEVENT
DTSTART;TZID=America/Los_Angeles:20250816T140000
DTEND;TZID=America/Los_Angeles:20250816T190000
DTSTAMP:20260423T154030
CREATED:20250319T002622Z
LAST-MODIFIED:20250806T232530Z
UID:14550-1755352800-1755370800@southsoundblues.org
SUMMARY:Cajun & Creole Fest ’25 at Burlington Green Park\, Kent
DESCRIPTION:Kent Cajun & Creole Fest\, August 16th\, 2-7pm\nGet ready to spice up your taste buds and experience the soul of Louisiana in the Pacific Northwest.  Dance\, dine\, and have a ragin’ Cajun good time where Southern culture and hospitality turn historic downtown Kent into our own “Little Louisiana”! \nLive music and dancing will keep festival-goers entertained throughout the day\, with performances by Cajun and Zydeco bands.  It’s a perfect opportunity for locals and visitors to experience the vibrant and lively culture of Louisiana\, Cajun- and Creole-themed food trucks\, beer/wine garden\, vendors/artists\, and activities for the kids.  We promise a feast for the senses! \nMUSIC SCHEDULE:\nCurley Taylor & Zydeco Trouble\n2 PM – 3:45 PM\nAmerican First Corp Band/2nd Line Parade\n3:45 PM – 4 PM\nParade 4 PM – 4:30 PM\nBayou Envie\n4:30 PM – 5:45 PM\nLady A\n6 PM – 7 PM\nThis FREE family event will be held in downtown Kent Burlington Green Park.
URL:https://southsoundblues.org/event/cajun-creole-fest-25-at-burlington-green-park-kent/
LOCATION:Burlington green Park\, 201 E. Meeker Street\, Kent\, WA\, 98032
CATEGORIES:Festival,Local South Sound Blues
END:VEVENT
BEGIN:VEVENT
DTSTART;TZID=America/Los_Angeles:20250816T190000
DTEND;TZID=America/Los_Angeles:20250816T220000
DTSTAMP:20260423T154030
CREATED:20250712T193627Z
LAST-MODIFIED:20250712T195507Z
UID:15436-1755370800-1755381600@southsoundblues.org
SUMMARY:CD Woodbury Trio at Johnny's Dock\, Tacoma
DESCRIPTION:CD Woodbury Trio at Johnny’s Dock August 16th\, 7pm
URL:https://southsoundblues.org/event/cd-woodbury-trio-at-johnnys-dock-tacoma-2/
LOCATION:Johnny’s Dock\, 1900 E D St\, Tacoma\, WA\, 98421
CATEGORIES:Local South Sound Blues
END:VEVENT
BEGIN:VEVENT
DTSTART;TZID=America/Los_Angeles:20250816T200000
DTEND;TZID=America/Los_Angeles:20250816T230000
DTSTAMP:20260423T154030
CREATED:20250612T193745Z
LAST-MODIFIED:20250612T193745Z
UID:15122-1755374400-1755385200@southsoundblues.org
SUMMARY:Heather Jones & The Groovemasters at Rock the Dock
DESCRIPTION:Heather Jones & The Groovemasters at Rock the Dock\, August 16th\, 8-11 pm
URL:https://southsoundblues.org/event/heather-jones-the-groovemasters-at-rock-the-dock-2/
LOCATION:Rock the Dock\, 535 Dock St # 118\, Tacoma\, WA\, 98402
CATEGORIES:Local South Sound Blues
END:VEVENT
BEGIN:VEVENT
DTSTART;TZID=America/Los_Angeles:20250817T110000
DTEND;TZID=America/Los_Angeles:20250817T140000
DTSTAMP:20260423T154030
CREATED:20250710T210726Z
LAST-MODIFIED:20250710T210726Z
UID:15418-1755428400-1755439200@southsoundblues.org
SUMMARY:Annie Eastwood & Her All-Star Band Featuring Billy Stapleton at the Mercer Island Farmers Market
DESCRIPTION:Annie Eastwood & Her All-Star Band Featuring Billy Stapleton at the Mercer Island Farmers Market\, Sunday August 17th\, 11am to 2pm
URL:https://southsoundblues.org/event/annie-eastwood-her-all-star-band-featuring-billy-stapleton-at-the-mercer-island-farmers-market/
LOCATION:Mercer Island Sunday Market\, 7700 SE 32nd St\, Mercer Island\, WA\, 98040
CATEGORIES:Local South Sound Blues
END:VEVENT
BEGIN:VEVENT
DTSTART;TZID=America/Los_Angeles:20250817T170000
DTEND;TZID=America/Los_Angeles:20250817T200000
DTSTAMP:20260423T154030
CREATED:20250817T061219Z
LAST-MODIFIED:20250817T061219Z
UID:15722-1755450000-1755460800@southsoundblues.org
SUMMARY:Blues Redemption at Johnnys dock
DESCRIPTION:Blues Redemption at Johnny’s Dock\, Sunday August 17th\,  5 o’clock\n  \n 
URL:https://southsoundblues.org/event/blues-redemption-at-johnnys-dock/
LOCATION:Johnny’s Dock\, 1900 E D St\, Tacoma\, WA\, 98421
CATEGORIES:Local South Sound Blues
END:VEVENT
BEGIN:VEVENT
DTSTART;TZID=America/Los_Angeles:20250817T180000
DTEND;TZID=America/Los_Angeles:20250817T210000
DTSTAMP:20260423T154030
CREATED:20250607T222405Z
LAST-MODIFIED:20250607T222405Z
UID:14994-1755453600-1755464400@southsoundblues.org
SUMMARY:Tim Hall Blues Jam every Sunday at Zesty’s Steakhouse
DESCRIPTION:Tim Hall Blues Jam every Sunday at Zesty’s Steakhouse\, 6-9pm
URL:https://southsoundblues.org/event/tim-hall-blues-jam-every-sunday-at-zestys-steakhouse-3/
LOCATION:Zesty’s Cajun Steakhouse\, 9905 Bridgeport Way Southwest\, Lakewood\, WA\, 98499
CATEGORIES:Local South Sound Blues
END:VEVENT
BEGIN:VEVENT
DTSTART;TZID=America/Los_Angeles:20250817T190000
DTEND;TZID=America/Los_Angeles:20250817T220000
DTSTAMP:20260423T154030
CREATED:20250617T222944Z
LAST-MODIFIED:20250803T234330Z
UID:15186-1755457200-1755468000@southsoundblues.org
SUMMARY:Sunday Blues at the Spar with The Mark Riley Trio
DESCRIPTION:Sunday Blues at the Spar 7-10 pm with the Mark Riley Trio
URL:https://southsoundblues.org/event/sunday-blues-at-the-spar-28/
LOCATION:The Spar\, 2121 N 30th St\, Tacoma\, WA\, 98403
CATEGORIES:Local South Sound Blues
END:VEVENT
BEGIN:VEVENT
DTSTART;TZID=America/Los_Angeles:20250819T190000
DTEND;TZID=America/Los_Angeles:20250819T220000
DTSTAMP:20260423T154030
CREATED:20250607T224649Z
LAST-MODIFIED:20250607T224649Z
UID:15004-1755630000-1755640800@southsoundblues.org
SUMMARY:Jam every Tuesday at Brother Don’s Bar & Grill with the Tim Hall band
DESCRIPTION:Jam every Tuesday at Brother Don’s Bar & Grill with the Tim Hall band\, 7-10 pm.
URL:https://southsoundblues.org/event/jam-every-tuesday-at-brother-dons-bar-grill-with-the-tim-hall-band-17/
LOCATION:Brother Don’s Bar & Grill\, 4200 Kitsap Way\, Bremerton\, WA\, 98312
CATEGORIES:Local South Sound Blues
END:VEVENT
BEGIN:VEVENT
DTSTART;TZID=America/Los_Angeles:20250821T190000
DTEND;TZID=America/Los_Angeles:20250821T210000
DTSTAMP:20260423T154030
CREATED:20250808T211855Z
LAST-MODIFIED:20250808T212228Z
UID:15666-1755802800-1755810000@southsoundblues.org
SUMMARY:Gas Station Blues at the Historic Shell station\, Issaquah
DESCRIPTION:Gas Station Blues at the Historic Shell station\, Issaquah 7-9 pm\nAugust 21st \nThe Gas Station Blues series\, in collaboration with the Washington Blues Society\, showcases distinguished blues musicians every Thursday evening from 7:00 to 9:00 p.m. at the Historic Shell Station situated at 232 Front Street North. Join us for this free music celebration with friends. Hang out in the Beer & Wine Garden\, bring a picnic or take-out from our many restaurants within a short walk. \nLisa Mann will be performing. \nLisa Mann is an American electric blues and heavy metal bassist\, songwriter and singer. Her influences include Etta James\, Koko Taylor\, Bonnie Raitt\, Sheryl Crow\, and Little Milton. She writes most of her material\, and has released four albums to date. Twice a Blues Music Award-winning artist\, Mann hails from blues-soaked Portland\, Oregon. Originally from West Virginia\, Mann’s vocals effortlessly straddle the line between the honey sweet warmth of the south\, and the force-of-nature sound Mann has cultivated by mastering everything from hard rock to rhythm and blues. Her clever blues and Americana balladry is complimented by her considerable prowess on bass guitar. \n 
URL:https://southsoundblues.org/event/gas-station-blues-at-the-historic-shell-station-issaquah-2/
LOCATION:Historic Shell Station\, 232 Front St N\, Issaquah\, WA\, 98027
CATEGORIES:Local South Sound Blues
END:VEVENT
BEGIN:VEVENT
DTSTART;TZID=America/Los_Angeles:20250821T190000
DTEND;TZID=America/Los_Angeles:20250821T220000
DTSTAMP:20260423T154030
CREATED:20250607T232259Z
LAST-MODIFIED:20250607T232259Z
UID:15025-1755802800-1755813600@southsoundblues.org
SUMMARY:Thursday nights- Billy “The Pocket” Blues Jams at Dawsons
DESCRIPTION:Thursday nights- Billy “The Pocket” Blues Jams at Dawsons\, 7-10 pm
URL:https://southsoundblues.org/event/thursday-nights-billy-the-pocket-blues-jams-at-dawsons-3/
LOCATION:Dawson’s Bar & Grill\, 5443 South Tacoma Way\, Tacoma\, WA\, 98409
CATEGORIES:Local South Sound Blues
END:VEVENT
BEGIN:VEVENT
DTSTART;TZID=America/Los_Angeles:20250821T190000
DTEND;TZID=America/Los_Angeles:20250821T223000
DTSTAMP:20260423T154030
CREATED:20250808T220124Z
LAST-MODIFIED:20250808T220216Z
UID:15674-1755802800-1755815400@southsoundblues.org
SUMMARY:Every Thursday Blues Jam at Creole Soul\, Des Moines
DESCRIPTION:Every Thursday Blues Jam at Creole Soul\, Des Moines\, 7-10:30 pm\nFeaturing the Super Sonic Soul Pimps
URL:https://southsoundblues.org/event/every-thursday-blues-jam-at-creole-soul-des-moines/
LOCATION:Creole Soul\, 22341 Marine View Drive\, Des Moines\, WA\, 98198
CATEGORIES:Local South Sound Blues
END:VEVENT
BEGIN:VEVENT
DTSTART;VALUE=DATE:20250823
DTEND;VALUE=DATE:20250825
DTSTAMP:20260423T154030
CREATED:20250423T034203Z
LAST-MODIFIED:20250610T014825Z
UID:14726-1755914400-1756000799@southsoundblues.org
SUMMARY:Poverty Bay Blues & Brews Festival
DESCRIPTION:Poverty Bay Blues & Brews Festival August 23rd\, 11:00 am – 7:00 Pm at the Des Moines Beach Park\nhttps://www.drinktomusic.org/ \n \nBand line-up for this year’s festival!\nHank Shreve Band 11:30 to 1:00\nAllison Joy Williams Band 1:30 to 3:00\nJoel Astley 3:30 to 5:00\nHillstomp 5:30 to 7:00\n\n\npoverty bayBlues & Brews festAugust 23\, 2025Des Moines\,wa
URL:https://southsoundblues.org/event/poverty-bay-blues-brews-festival/
LOCATION:Des Moines Beach Park\, 22030D Cliff Ave S\, Des Moines\, WA\, 98198
CATEGORIES:Festival,Local South Sound Blues,Special Event
END:VEVENT
BEGIN:VEVENT
DTSTART;VALUE=DATE:20250823
DTEND;VALUE=DATE:20250825
DTSTAMP:20260423T154030
CREATED:20250527T174916Z
LAST-MODIFIED:20250527T174916Z
UID:14974-1755914400-1756000799@southsoundblues.org
SUMMARY:The Spin-Offs at Nudestock\, Tiger Mountain Nudist Park\, Issaquah
DESCRIPTION:The Spin-Offs at Nudestock\, Tiger Mountain Nudist Park\, Issaquah\, August 23rd\, Fun starts at 11am\n \n\nMusic Festival: Nudestock\nTiger Mountain Nudist Park 24050 SE 127th Street\, Issaquah\, WA\n\n\nNudstock Music Festival 2025 “A Nude Rock\, Blues\, and Dance Experience” \n\n24050 Southeast 127th Street \nThis 40 acre family nudist park has been owned and operated by its members since 1945. Couples\, families and singles are welcome. The park is located on Tiger Mountain\, 3 miles south of downtown Issaquah.
URL:https://southsoundblues.org/event/the-spin-offs-at-nudestock-tiger-mountain-nudist-park-issaquah/
LOCATION:Tiger Mountain Nudist Park\, 24050 SE 127th Street\, Issaquah\, WA
CATEGORIES:Festival,Local South Sound Blues
END:VEVENT
BEGIN:VEVENT
DTSTART;TZID=America/Los_Angeles:20250823T143000
DTEND;TZID=America/Los_Angeles:20250823T170000
DTSTAMP:20260423T154030
CREATED:20250819T004631Z
LAST-MODIFIED:20250819T004631Z
UID:15750-1755959400-1755968400@southsoundblues.org
SUMMARY:Ross Robinson at Shiplap Coffeehouse
DESCRIPTION:Ross Robinson playing Shiplap Coffeehouse August 23rd\, 2:30-5pm\nwith Charlie Valentine on bass for the ‘Shiplap Summer Sendoff’ w car show\, food trucks and vendors. 112 E Yelm Ave\, Yelm\, WA 98597\n 
URL:https://southsoundblues.org/event/ross-robinson-at-shiplap-coffeehouse/
LOCATION:Shiplap Coffeehouse\, 112 Yelm Ave East\, Yelm\, WA\, 98597
CATEGORIES:Local South Sound Blues
END:VEVENT
BEGIN:VEVENT
DTSTART;TZID=America/Los_Angeles:20250823T173000
DTEND;TZID=America/Los_Angeles:20250823T210000
DTSTAMP:20260423T154030
CREATED:20250820T205353Z
LAST-MODIFIED:20250820T205353Z
UID:15775-1755970200-1755982800@southsoundblues.org
SUMMARY:Red House at the West Seattle Eagles
DESCRIPTION:Red House  Saturday August 23rd at the West Seattle Eagles\, 5:30 pm\n \n\n  \n\n\n\n\n\n\n\n\n\n\n\n4426 California Ave SW\, Seattle\, WA 98116-4109\, United States
URL:https://southsoundblues.org/event/red-house-at-the-west-seattle-eagles/
LOCATION:West Seattle Eagles\, 4426 California Ave SW\, Seattle\, WA\, 98116
CATEGORIES:Local South Sound Blues
END:VEVENT
BEGIN:VEVENT
DTSTART;TZID=America/Los_Angeles:20250823T190000
DTEND;TZID=America/Los_Angeles:20250823T213000
DTSTAMP:20260423T154030
CREATED:20250731T235927Z
LAST-MODIFIED:20250731T235927Z
UID:15599-1755975600-1755984600@southsoundblues.org
SUMMARY:Billy Stoops Duo at the Lake City Pub
DESCRIPTION:Billy Stoops Duo at the Lake City Pub August 23rd\, 7-9:30 pm\n 
URL:https://southsoundblues.org/event/billy-stoops-duo-at-the-lake-city-pub-2/
LOCATION:Lake City Pub\, 9106 Veterans Dr\, Lakewood\, WA\, 98498
CATEGORIES:Local South Sound Blues
END:VEVENT
END:VCALENDAR