BEGIN:VCALENDAR
VERSION:2.0
PRODID:-//South Sound Blues Association - ECPv6.15.18//NONSGML v1.0//EN
CALSCALE:GREGORIAN
METHOD:PUBLISH
X-WR-CALNAME:South Sound Blues Association
X-ORIGINAL-URL:https://southsoundblues.org
X-WR-CALDESC:Events for South Sound Blues Association
REFRESH-INTERVAL;VALUE=DURATION:PT1H
X-Robots-Tag:noindex
X-PUBLISHED-TTL:PT1H
BEGIN:VTIMEZONE
TZID:America/Los_Angeles
BEGIN:DAYLIGHT
TZOFFSETFROM:-0800
TZOFFSETTO:-0700
TZNAME:PDT
DTSTART:20220313T100000
END:DAYLIGHT
BEGIN:STANDARD
TZOFFSETFROM:-0700
TZOFFSETTO:-0800
TZNAME:PST
DTSTART:20221106T090000
END:STANDARD
BEGIN:DAYLIGHT
TZOFFSETFROM:-0800
TZOFFSETTO:-0700
TZNAME:PDT
DTSTART:20230312T100000
END:DAYLIGHT
BEGIN:STANDARD
TZOFFSETFROM:-0700
TZOFFSETTO:-0800
TZNAME:PST
DTSTART:20231105T090000
END:STANDARD
BEGIN:DAYLIGHT
TZOFFSETFROM:-0800
TZOFFSETTO:-0700
TZNAME:PDT
DTSTART:20240310T100000
END:DAYLIGHT
BEGIN:STANDARD
TZOFFSETFROM:-0700
TZOFFSETTO:-0800
TZNAME:PST
DTSTART:20241103T090000
END:STANDARD
END:VTIMEZONE
BEGIN:VEVENT
DTSTART;TZID=America/Los_Angeles:20230727T180000
DTEND;TZID=America/Los_Angeles:20230727T200000
DTSTAMP:20260425T035915
CREATED:20230716T230843Z
LAST-MODIFIED:20230716T230843Z
UID:10874-1690480800-1690488000@southsoundblues.org
SUMMARY:Kim and Brian Sunset Sessions on the Mill patio
DESCRIPTION:Kim and Brian Sunset Sessions on the Mill patio July 27th\, 6-8 pm
URL:https://southsoundblues.org/event/kim-and-brian-sunset-sessions-on-the-mill-patio/
LOCATION:The Mill of Milton\, 900 Meridian E. #50\, Milton\, WA\, 98354
CATEGORIES:Local South Sound Blues
END:VEVENT
BEGIN:VEVENT
DTSTART;TZID=America/Los_Angeles:20230727T190000
DTEND;TZID=America/Los_Angeles:20230727T220000
DTSTAMP:20260425T035915
CREATED:20230525T001816Z
LAST-MODIFIED:20230525T001816Z
UID:10471-1690484400-1690495200@southsoundblues.org
SUMMARY:Big Al’s Blues Jam Every Thursday at the New Moon Craft Tavern
DESCRIPTION:Big Al’s Blues Jam Every Thursday at the New Moon Craft Tavern\, Port Angeles\, 7-10 pm
URL:https://southsoundblues.org/event/big-als-blues-jam-every-thursday-at-the-new-moon-craft-tavern-4/
LOCATION:New Moon Craft Tavern\, 130 S Lincoln St\, Port Angeles\, WA\, 98362
CATEGORIES:Local South Sound Blues
END:VEVENT
BEGIN:VEVENT
DTSTART;TZID=America/Los_Angeles:20230727T190000
DTEND;TZID=America/Los_Angeles:20230727T220000
DTSTAMP:20260425T035915
CREATED:20230528T202144Z
LAST-MODIFIED:20230528T202144Z
UID:10525-1690484400-1690495200@southsoundblues.org
SUMMARY:“Billy the Pocket Jam” Thursday nights at Dawson’s
DESCRIPTION:“Billy the Pocket Jam” Thursday nights at Dawson’s\, 7-10 pm
URL:https://southsoundblues.org/event/billy-the-pocket-jam-thursday-nights-at-dawsons-18/
LOCATION:Dawson’s Bar & Grill\, 5443 South Tacoma Way\, Tacoma\, WA\, 98409
CATEGORIES:Local South Sound Blues
END:VEVENT
BEGIN:VEVENT
DTSTART;TZID=America/Los_Angeles:20230729T200000
DTEND;TZID=America/Los_Angeles:20230729T200000
DTSTAMP:20260425T035915
CREATED:20230531T204052Z
LAST-MODIFIED:20230531T204052Z
UID:10574-1690660800-1690660800@southsoundblues.org
SUMMARY:The Mark DuFresne Band featuring Billy Stapleton at the Conway Muse
DESCRIPTION:Saturday July 29th – The Mark DuFresne Band featuring Billy Stapleton at the Conway Muse – 8pm
URL:https://southsoundblues.org/event/the-mark-dufresne-band-featuring-billy-stapleton-at-the-conway-muse/
LOCATION:Conway Muse\, 18444 Spruce St\, Conway\, WA\, 98238
CATEGORIES:Local South Sound Blues
END:VEVENT
BEGIN:VEVENT
DTSTART;TZID=America/Los_Angeles:20230729T200000
DTEND;TZID=America/Los_Angeles:20230729T220000
DTSTAMP:20260425T035915
CREATED:20230716T231737Z
LAST-MODIFIED:20230716T231737Z
UID:10880-1690660800-1690668000@southsoundblues.org
SUMMARY:Chris Steven's Band at the Mill
DESCRIPTION:Chris Steven’s Band at the Mill\, July 29th\, 8-10 pm\n 
URL:https://southsoundblues.org/event/chris-stevens-band-at-the-mill/
LOCATION:The Mill of Milton\, 900 Meridian E. #50\, Milton\, WA\, 98354
CATEGORIES:Local South Sound Blues
END:VEVENT
BEGIN:VEVENT
DTSTART;TZID=America/Los_Angeles:20230729T210000
DTEND;TZID=America/Los_Angeles:20230729T210000
DTSTAMP:20260425T035915
CREATED:20230628T234738Z
LAST-MODIFIED:20230628T234738Z
UID:10770-1690664400-1690664400@southsoundblues.org
SUMMARY:CD Woodbury Trio at Engels Pub\, Edmonds
DESCRIPTION:CD Woodbury Trio at Engels Pub\, July 29th\, 9pm\n \n  \n 
URL:https://southsoundblues.org/event/cd-woodbury-trio-at-engels-pub-edmonds/
LOCATION:Engels Pub\, 113 5th Ave S\, Edmonds\, WA\, 98020
CATEGORIES:Local South Sound Blues
END:VEVENT
BEGIN:VEVENT
DTSTART;TZID=America/Los_Angeles:20230730T190000
DTEND;TZID=America/Los_Angeles:20230730T220000
DTSTAMP:20260425T035915
CREATED:20230531T200316Z
LAST-MODIFIED:20230531T200316Z
UID:10559-1690743600-1690754400@southsoundblues.org
SUMMARY:Sunday Blues at the Spar with Rod Cook & Toast
DESCRIPTION:Sunday July 30th – Rod Cook & Toast at the Spar\, 7pm
URL:https://southsoundblues.org/event/sunday-blues-at-the-spar-with-rod-cook-toast/
LOCATION:The Spar\, 2121 N 30th St\, Tacoma\, WA\, 98403
CATEGORIES:Local South Sound Blues
END:VEVENT
BEGIN:VEVENT
DTSTART;TZID=America/Los_Angeles:20230731T190000
DTEND;TZID=America/Los_Angeles:20230731T190000
DTSTAMP:20260425T035915
CREATED:20230528T203508Z
LAST-MODIFIED:20230528T203508Z
UID:10535-1690830000-1690830000@southsoundblues.org
SUMMARY:Monday Night Jams at HD’s Bar & Grill with host\, Al Alto
DESCRIPTION:Monday Night Jams at HD’s Bar & Grill with host\, Al Alto\, 7pm
URL:https://southsoundblues.org/event/monday-night-jams-at-hds-bar-grill-with-host-al-alto-3/
LOCATION:HD’s Pub\, 24131 SR-3 \, Belfair\, WA\, 98528
CATEGORIES:Local South Sound Blues
END:VEVENT
BEGIN:VEVENT
DTSTART;TZID=America/Los_Angeles:20230801T200000
DTEND;TZID=America/Los_Angeles:20230801T233000
DTSTAMP:20260425T035915
CREATED:20230721T220500Z
LAST-MODIFIED:20230721T220500Z
UID:10937-1690920000-1690932600@southsoundblues.org
SUMMARY:Cory Wilds Band Tuesday open Jam Night at Elmer’s Bar and Grill
DESCRIPTION:Cory Wilds Band Tuesday open Jam Night at Elmer’s Bar and Grill\, 8-11:30 pm
URL:https://southsoundblues.org/event/cory-wilds-band-tuesday-open-jam-night-at-elmers-bar-and-grill-8/
LOCATION:Elmer’s Bar & Grill\, 15027 Ambaum Blvd SW\, Burien\, WA\, 98166
CATEGORIES:Local South Sound Blues
END:VEVENT
BEGIN:VEVENT
DTSTART;TZID=America/Los_Angeles:20230802T180000
DTEND;TZID=America/Los_Angeles:20230802T180000
DTSTAMP:20260425T035915
CREATED:20230531T205545Z
LAST-MODIFIED:20230531T205545Z
UID:10584-1690999200-1690999200@southsoundblues.org
SUMMARY:Dr Jop Funkin' Shop at the Spar
DESCRIPTION:Dr Jop Funkin’ Shop at the Spar August 2nd\, 6pm
URL:https://southsoundblues.org/event/dr-jop-funkin-shop-at-the-spar-5/
LOCATION:The Spar\, 2121 N 30th St\, Tacoma\, WA\, 98403
CATEGORIES:Local South Sound Blues
END:VEVENT
BEGIN:VEVENT
DTSTART;TZID=America/Los_Angeles:20230802T180000
DTEND;TZID=America/Los_Angeles:20230802T200000
DTSTAMP:20260425T035915
CREATED:20230607T193731Z
LAST-MODIFIED:20230607T193731Z
UID:10614-1690999200-1691006400@southsoundblues.org
SUMMARY:University Place Music on the Square with Mark Hurwitz and Gin Creek
DESCRIPTION:August 2nd\, University Place Music on the Square with Mark Hurwitz and Gin Creek\, 6-8 pm
URL:https://southsoundblues.org/event/university-place-music-on-the-square-with-mark-hurwitz-and-gin-creek/
LOCATION:University place Market Square\, 3609 Market Pl W\, University Place\, WA\, 98466
CATEGORIES:Local South Sound Blues
END:VEVENT
BEGIN:VEVENT
DTSTART;TZID=America/Los_Angeles:20230802T190000
DTEND;TZID=America/Los_Angeles:20230802T220000
DTSTAMP:20260425T035915
CREATED:20230724T181059Z
LAST-MODIFIED:20230724T181208Z
UID:10939-1691002800-1691013600@southsoundblues.org
SUMMARY:Wednesdays Blues Jams with Brian Olver and Glenn Hummel at Purdy’s
DESCRIPTION:Wednesdays Blues Jams with Brian Olver and Glenn Hummel at Purdy’s\, 7-10 pm\n‘Sound Man’ Justin Miller makes sure things sound great at this Jam each Wednesday night at Purdy’s Public House & Arcade\, Sumner\, WA
URL:https://southsoundblues.org/event/wednesdays-blues-jams-with-brian-olver-and-glenn-hummel-at-purdys-2/
LOCATION:Purdy’s Public House & Arcade\, Sumner\, 16202 64th St E\, Sumner\, WA\, 98390
CATEGORIES:Local South Sound Blues
END:VEVENT
BEGIN:VEVENT
DTSTART;TZID=America/Los_Angeles:20230802T200000
DTEND;TZID=America/Los_Angeles:20230802T200000
DTSTAMP:20260425T035915
CREATED:20230730T213546Z
LAST-MODIFIED:20230731T210506Z
UID:10974-1691006400-1691006400@southsoundblues.org
SUMMARY:Acoustic Blues Showcase at McCurdy Pavilion\, Bobby Rush\, and Friends at Fort Worden State Park
DESCRIPTION:Acoustic Blues Showcase at McCurdy Pavilion\, Featuring Bobby Rush\, and friends\, August 2nd\, 8 pm                              Fort Worden State Park\n$30. Tickets call: (800) 746-1982 or online: Centrum.org
URL:https://southsoundblues.org/event/acoustic-blues-showcase-at-mccurdy-pavilion-fort-worden-state-park/
LOCATION:Fort Worden State Park\, 200 Battery Way\, Port Townsend\, WA\, 98368
CATEGORIES:Featured,Local South Sound Blues
END:VEVENT
BEGIN:VEVENT
DTSTART;TZID=America/Los_Angeles:20230803T183000
DTEND;TZID=America/Los_Angeles:20230803T200000
DTSTAMP:20260425T035915
CREATED:20230505T005553Z
LAST-MODIFIED:20230505T005553Z
UID:10341-1691087400-1691092800@southsoundblues.org
SUMMARY:King Kom Beaux at the Curran Apple Orchard
DESCRIPTION:King Kom Beaux at the Curran Apple Orchard\, 6:30-8pm
URL:https://southsoundblues.org/event/king-kom-beaux-at-the-curran-apple-orchard/
LOCATION:Curran Apple Orchard\, 3920 Grandview Dr W\, University Place\, WA\, 98466
CATEGORIES:Local South Sound Blues
END:VEVENT
BEGIN:VEVENT
DTSTART;TZID=America/Los_Angeles:20230803T183000
DTEND;TZID=America/Los_Angeles:20230803T200000
DTSTAMP:20260425T035915
CREATED:20230607T200046Z
LAST-MODIFIED:20230607T200046Z
UID:10624-1691087400-1691092800@southsoundblues.org
SUMMARY:Curran Apple Orchard Concert series featuring King Kom Beaux
DESCRIPTION:August 3rd\, Curran Apple Orchard Concert series featuring King Kom Beaux\, 6:30-8 pm
URL:https://southsoundblues.org/event/curran-apple-orchard-concert-series-featuring-king-kom-beaux/
LOCATION:Curran Apple Orchard\, 3920 Grandview Dr W\, University Place\, WA\, 98466
CATEGORIES:Local South Sound Blues
END:VEVENT
BEGIN:VEVENT
DTSTART;TZID=America/Los_Angeles:20230803T190000
DTEND;TZID=America/Los_Angeles:20230803T210000
DTSTAMP:20260425T035915
CREATED:20230620T000153Z
LAST-MODIFIED:20230620T000918Z
UID:10683-1691089200-1691096400@southsoundblues.org
SUMMARY:Every Thursday\, WBS-GAS STATION BLUES at the Historic Shell in Issaquah
DESCRIPTION:Every Thursday\, GAS STATION BLUES at the Historic Shell in Issaquah\, July\, and August 7:00-9:00 pm\nThe Washington Blues Society and Downtown Issaquah Association present: Gas Station Blues\, a free concert series Thursday Nights 7-9 pm at the Historic Shell Station\, 228 Front St N\, Issaquah\, WA 98027. Music from Regional and International Talent -plus a beer and wine garden. \nWashington Blues Society
URL:https://southsoundblues.org/event/every-thursday-gas-station-blues-at-the-historic-shell-in-issaquah/
LOCATION:Historic Shell Station\, 232 Front St N\, Issaquah\, WA\, 98027
CATEGORIES:Local South Sound Blues
END:VEVENT
BEGIN:VEVENT
DTSTART;TZID=America/Los_Angeles:20230804T193000
DTEND;TZID=America/Los_Angeles:20230804T223000
DTSTAMP:20260425T035915
CREATED:20230628T182112Z
LAST-MODIFIED:20230628T182946Z
UID:10714-1691177400-1691188200@southsoundblues.org
SUMMARY:George Thorogood and The Destroyers at the EQC
DESCRIPTION:GEORGE THOROGOOD AND THE DESTROYERS\, Friday\, August 4\, 2023\, Doors 7:30PM • Show 8:30PM\nGeorge Thorogood’s blistering guitar riffs and soulful vocals\, combined with the band’s electrifying stage presence\, make for a high-energy concert experience. \nTickets starting at $30.:    https://www.ticketmaster.com/event/0F005EAACBAE76FD \n \n\n\n\n\nEQC Event Center\n2920 East R Street\, Tacoma\, WA 98404 \n\n\n\n  \n 
URL:https://southsoundblues.org/event/george-thorogood-and-the-destroyers-at-the-eqc/
LOCATION:Emerald Queen Casino & Hotel\, 2920 East R Street\, Tacoma\, WA\, 98404
CATEGORIES:Local South Sound Blues,Special Event
END:VEVENT
BEGIN:VEVENT
DTSTART;TZID=America/Los_Angeles:20230805T120000
DTEND;TZID=America/Los_Angeles:20230805T220000
DTSTAMP:20260425T035915
CREATED:20230418T235239Z
LAST-MODIFIED:20230615T021155Z
UID:10182-1691236800-1691272800@southsoundblues.org
SUMMARY:Rainier Music Festival\, Ashford WA featuring Linda Carroll & Retro-Gruve\, Billy Stoops & the Dirt Angels\, The Filthy 5th and more
DESCRIPTION:Rainier Music Festival August 5th\, Noon-9pm\, Ashford \nThe festival takes place at the beautiful Ashford Amphitheater located at the base of Mount Rainier. With live music from 12 PM to 10 PM\, this event promises to be a day filled with great music\, delicious food\, and an incredible atmosphere that attendees of all ages are sure to enjoy. \nhttps://www.rainiermusicfestival.com/ \nThe festival lineup features an exciting mix of musical genres\, highlighting talented artists from across the Pacific Northwest. Linda Carol and ‘Retro Gruve’ kick off the festivities at noon\, followed by Billy Stoops & The Dirt Angels at 1:15 pm\, and Monster Road at 2:30 pm. Brian James takes the stage at 4:00 pm\, followed by Island Bound at 5:30 pm. At 7:00 pm\, Diego Romero will captivate the audience\, followed by The Filthy Fifth at 8:30 pm. \nIn addition to great music\, the festival will feature a beer garden serving local brews and a variety of food trucks offering a range of delicious food options. There will also be craft vendors selling unique and handmade items\, making it the perfect opportunity to pick up a one-of-a-kind souvenir. \nTickets for the festival are $40 with advance purchase or $45 at the gate. Children ages 17 and under can attend the festival for free\, making it an affordable and family-friendly event. Get your tickets now and get ready for an unforgettable day of music and entertainment in the stunning Pacific Northwest. \nUse code: SSBA23 to save $5.  https://rainiermusicfest.brownpapertickets.com/
URL:https://southsoundblues.org/event/rainier-music-festival-ashford-wa/
LOCATION:Ashford County Park\, 29801 SR706\, Ashford\, WA\, 98304
CATEGORIES:Local South Sound Blues
END:VEVENT
BEGIN:VEVENT
DTSTART;TZID=America/Los_Angeles:20230805T200000
DTEND;TZID=America/Los_Angeles:20230805T220000
DTSTAMP:20260425T035915
CREATED:20230713T151411Z
LAST-MODIFIED:20230713T151411Z
UID:10855-1691265600-1691272800@southsoundblues.org
SUMMARY:SSBA Blues Series at the Mill with The Linda Myers Band
DESCRIPTION:SSBA Blues Series at the Mill\, Linda Myers Band August 5th\, 8-10 pm\n 
URL:https://southsoundblues.org/event/ssba-blues-series-at-the-mill-with-the-linda-myers-band/
LOCATION:The Mill of Milton\, 900 Meridian E. #50\, Milton\, WA\, 98354
CATEGORIES:Local South Sound Blues
END:VEVENT
BEGIN:VEVENT
DTSTART;TZID=America/Los_Angeles:20230806T190000
DTEND;TZID=America/Los_Angeles:20230806T230000
DTSTAMP:20260425T035915
CREATED:20230717T002129Z
LAST-MODIFIED:20230717T002129Z
UID:10893-1691348400-1691362800@southsoundblues.org
SUMMARY:Billy Shew Blues Jam\, every Sunday at Dawson’s
DESCRIPTION:Billy Shew Blues Jam\, every Sunday at Dawson’s\, 7-11 pm
URL:https://southsoundblues.org/event/billy-shew-blues-jam-every-sunday-at-dawsons-5/
LOCATION:Dawson’s Bar & Grill\, 5443 South Tacoma Way\, Tacoma\, WA\, 98409
CATEGORIES:Local South Sound Blues
END:VEVENT
BEGIN:VEVENT
DTSTART;TZID=America/Los_Angeles:20230807T190000
DTEND;TZID=America/Los_Angeles:20230807T190000
DTSTAMP:20260425T035915
CREATED:20230717T004031Z
LAST-MODIFIED:20230717T004658Z
UID:10903-1691434800-1691434800@southsoundblues.org
SUMMARY:Monday Night Jams at HD’s Bar & Grill\, Belfair\, WA
DESCRIPTION:Monday Night Jams at HD’s Bar & Grill\, Belfair\, WA 7pm
URL:https://southsoundblues.org/event/monday-night-jams-at-hds-bar-grill-with-host-al-alto-5/
LOCATION:HD’s Pub\, 24131 SR-3 \, Belfair\, WA\, 98528
CATEGORIES:Local South Sound Blues
END:VEVENT
BEGIN:VEVENT
DTSTART;TZID=America/Los_Angeles:20230808T190000
DTEND;TZID=America/Los_Angeles:20230808T220000
DTSTAMP:20260425T035915
CREATED:20230717T005140Z
LAST-MODIFIED:20230717T005140Z
UID:10906-1691521200-1691532000@southsoundblues.org
SUMMARY:Tuesday Bluesday at Brother Don's Bar & Grill\, Jam with The Tim Hall Band
DESCRIPTION:Tuesday Bluesday at Brother Don’s Bar & Grill\, Jam with The Tim Hall Band\, 7-10 pm
URL:https://southsoundblues.org/event/tuesday-bluesday-at-brother-dons-bar-grill-jam-with-the-tim-hall-band/
LOCATION:Brother Don’s Bar & Grill\, 4200 Kitsap Way\, Bremerton\, WA\, 98312
CATEGORIES:Local South Sound Blues
END:VEVENT
BEGIN:VEVENT
DTSTART;TZID=America/Los_Angeles:20230809T180000
DTEND;TZID=America/Los_Angeles:20230809T200000
DTSTAMP:20260425T035915
CREATED:20230607T194912Z
LAST-MODIFIED:20230711T193527Z
UID:10620-1691604000-1691611200@southsoundblues.org
SUMMARY:University Place Music on the Square with Billy Stoops and the Dirt Angels
DESCRIPTION:August 9th – University Place Music on the Square with Billy Stoops and the Dirt Angels\, 6-8 pm\n  Dan Hill photo of band \nWEDNESDAY\, AUGUST 9\, 2023\, 6 – 8 PM\nBilly Stoops and the Dirt Angels\n3609 Market Pl W\, University Place\, WA 98466-4445\, United States
URL:https://southsoundblues.org/event/university-place-music-on-the-square-with-billy-stoops-and-the-dirt-angels/
LOCATION:University place Market Square\, 3609 Market Pl W\, University Place\, WA\, 98466
CATEGORIES:Local South Sound Blues
END:VEVENT
BEGIN:VEVENT
DTSTART;TZID=America/Los_Angeles:20230809T180000
DTEND;TZID=America/Los_Angeles:20230809T210000
DTSTAMP:20260425T035915
CREATED:20230724T183554Z
LAST-MODIFIED:20230724T183554Z
UID:10943-1691604000-1691614800@southsoundblues.org
SUMMARY:Billy Shew and Friends host an open Jam every Wednesday at Stockton’s
DESCRIPTION:Billy Shew and Friends host an open Jam every Wednesday at Stockton’s\, 6-9pm
URL:https://southsoundblues.org/event/billy-shew-and-friends-host-an-open-jam-every-wednesday-at-stocktons-8/
LOCATION:Stockton’s Restaurant & Spirits\, 23220 Maple Valley Black Diamond Rd SE\, Maple Valley\, WA\, 98038
CATEGORIES:Local South Sound Blues
END:VEVENT
BEGIN:VEVENT
DTSTART;TZID=America/Los_Angeles:20230810T183000
DTEND;TZID=America/Los_Angeles:20230810T200000
DTSTAMP:20260425T035915
CREATED:20230716T231104Z
LAST-MODIFIED:20230810T205714Z
UID:10876-1691692200-1691697600@southsoundblues.org
SUMMARY:Kim and Brian Band at Auburn Summer Sounds\, Les Gove Park
DESCRIPTION:Kim and Brian- Auburn Summer Sounds\, Les Gove Park\, 6:30-8 pm\n \nKim & Brian Band – Auburn Summer Sounds Concert Series\nThu\, Aug 10 @ 6:30PM — 8:00PM \nLes Gove Park \n910 9th St SE\, Auburn\, WA 98002
URL:https://southsoundblues.org/event/kim-and-brian-sunset-sessions-on-the-mill-patio-2/
LOCATION:Les Gove Park\, 910 9th St SE\, Auburn\, WA\, 98002
CATEGORIES:Local South Sound Blues
END:VEVENT
BEGIN:VEVENT
DTSTART;TZID=America/Los_Angeles:20230810T190000
DTEND;TZID=America/Los_Angeles:20230810T190000
DTSTAMP:20260425T035915
CREATED:20230731T232551Z
LAST-MODIFIED:20230731T232551Z
UID:11024-1691694000-1691694000@southsoundblues.org
SUMMARY:WBS Gas Station Blues at the historic Shell Station\, Issaquah
DESCRIPTION:WBS Gas Station Blues at the historic Shell Station\, Issaquah\, 7pm
URL:https://southsoundblues.org/event/wbs-gas-station-blues-at-the-historic-shell-station-issaquah/
LOCATION:Historic Shell Station\, 232 Front St N\, Issaquah\, WA\, 98027
CATEGORIES:Local South Sound Blues
END:VEVENT
BEGIN:VEVENT
DTSTART;TZID=America/Los_Angeles:20230810T190000
DTEND;TZID=America/Los_Angeles:20230810T220000
DTSTAMP:20260425T035915
CREATED:20230724T184614Z
LAST-MODIFIED:20230724T184614Z
UID:10949-1691694000-1691704800@southsoundblues.org
SUMMARY:“Billy the Pocket Jam” Thursday nights at Dawson’s
DESCRIPTION:“Billy the Pocket Jam” Thursday nights at Dawson’s\, 7-10 pm
URL:https://southsoundblues.org/event/billy-the-pocket-jam-thursday-nights-at-dawsons-20/
LOCATION:Dawson’s Bar & Grill\, 5443 South Tacoma Way\, Tacoma\, WA\, 98409
CATEGORIES:Local South Sound Blues
END:VEVENT
BEGIN:VEVENT
DTSTART;TZID=America/Los_Angeles:20230811T190000
DTEND;TZID=America/Los_Angeles:20230811T210000
DTSTAMP:20260425T035915
CREATED:20230724T221524Z
LAST-MODIFIED:20230724T221524Z
UID:10967-1691780400-1691787600@southsoundblues.org
SUMMARY:Octopus Ballet at Kimball Coffee House\, Gig Harbor
DESCRIPTION:Octopus Ballet at Kimball Coffee House\, August 11th\, 7-9 pm
URL:https://southsoundblues.org/event/octopus-ballet-at-kimball-coffee-house-gig-harbor/
LOCATION:Kimball’s Coffeehouse\, 6659 Kimball Dr\, Gig Harbor\, WA\, 98335
CATEGORIES:Local South Sound Blues
END:VEVENT
BEGIN:VEVENT
DTSTART;TZID=America/Los_Angeles:20230811T210000
DTEND;TZID=America/Los_Angeles:20230811T233000
DTSTAMP:20260425T035915
CREATED:20230811T194240Z
LAST-MODIFIED:20230811T194330Z
UID:11122-1691787600-1691796600@southsoundblues.org
SUMMARY:Mark Hurwitz and Gin Creek at The Garage Bar and Grill\, Bremerton
DESCRIPTION:Mark Hurwitz and Gin Creek at The Garage Bar and Grill 9-11:30 pm\n Mark Hurwitz
URL:https://southsoundblues.org/event/mark-hurwitz-and-gin-creek-at-the-garage-bar-and-grill-2/
LOCATION:Garage Bar and Grill\, 6812 Kitsap Way\, Bremerton\, WA\, 98312
CATEGORIES:Local South Sound Blues
END:VEVENT
BEGIN:VEVENT
DTSTART;VALUE=DATE:20230812
DTEND;VALUE=DATE:20230814
DTSTAMP:20260425T035915
CREATED:20230326T194014Z
LAST-MODIFIED:20230326T194014Z
UID:10074-1691805600-1691891999@southsoundblues.org
SUMMARY:Ross Robinson at Lady of the Lake Pub\, Offut
DESCRIPTION:Ross Robinson at Lady of the Lake Pub\, Offut Lake Aug 12th\n \n 
URL:https://southsoundblues.org/event/ross-robinson-at-lady-of-the-lake-pub-offut-2/
LOCATION:Lady of the Lake Pub\, 4005 120th Ave SE\, Tenino\, WA\, 98589
CATEGORIES:Local South Sound Blues
END:VEVENT
END:VCALENDAR