BEGIN:VCALENDAR
VERSION:2.0
PRODID:-//South Sound Blues Association - ECPv6.15.18//NONSGML v1.0//EN
CALSCALE:GREGORIAN
METHOD:PUBLISH
X-ORIGINAL-URL:https://southsoundblues.org
X-WR-CALDESC:Events for South Sound Blues Association
REFRESH-INTERVAL;VALUE=DURATION:PT1H
X-Robots-Tag:noindex
X-PUBLISHED-TTL:PT1H
BEGIN:VTIMEZONE
TZID:America/Los_Angeles
BEGIN:DAYLIGHT
TZOFFSETFROM:-0800
TZOFFSETTO:-0700
TZNAME:PDT
DTSTART:20220313T100000
END:DAYLIGHT
BEGIN:STANDARD
TZOFFSETFROM:-0700
TZOFFSETTO:-0800
TZNAME:PST
DTSTART:20221106T090000
END:STANDARD
BEGIN:DAYLIGHT
TZOFFSETFROM:-0800
TZOFFSETTO:-0700
TZNAME:PDT
DTSTART:20230312T100000
END:DAYLIGHT
BEGIN:STANDARD
TZOFFSETFROM:-0700
TZOFFSETTO:-0800
TZNAME:PST
DTSTART:20231105T090000
END:STANDARD
BEGIN:DAYLIGHT
TZOFFSETFROM:-0800
TZOFFSETTO:-0700
TZNAME:PDT
DTSTART:20240310T100000
END:DAYLIGHT
BEGIN:STANDARD
TZOFFSETFROM:-0700
TZOFFSETTO:-0800
TZNAME:PST
DTSTART:20241103T090000
END:STANDARD
END:VTIMEZONE
BEGIN:VEVENT
DTSTART;TZID=America/Los_Angeles:20230722T173000
DTEND;TZID=America/Los_Angeles:20230722T193000
DTSTAMP:20260424T185208
CREATED:20230525T214427Z
LAST-MODIFIED:20230711T193121Z
UID:10484-1690047000-1690054200@southsoundblues.org
SUMMARY:Joe Cook Blues Band on the Johnson Farm Outdoor Stage\, Anderson Island
DESCRIPTION:Joe Cook Blues Band on the Johnson Farm Outdoor Stage\, Anderson Island\, July 22nd\, 5:30-7:30 pm\n \n \n 
URL:https://southsoundblues.org/event/joe-cook-blues-band-on-the-johnson-farm-outdoor-stage-anderson-island/
LOCATION:Johnson Farm Archival Building\, 9306 Otso Point Rd\, Anderson Island\, WA\, 98303
CATEGORIES:Local South Sound Blues,Special Event
END:VEVENT
BEGIN:VEVENT
DTSTART;TZID=America/Los_Angeles:20230722T183000
DTEND;TZID=America/Los_Angeles:20230723T220000
DTSTAMP:20260424T185208
CREATED:20230512T020139Z
LAST-MODIFIED:20230512T020139Z
UID:10428-1690050600-1690149600@southsoundblues.org
SUMMARY:Gary Clark Jr. at the Chateau Ste Michelle Amphitheatre
DESCRIPTION:Gary Clark Jr.\n\nChateau Ste Michelle Amphitheatre\nJuly 22nd\, 2023\n\n\n\n\n\nShow starts at 7:00pm\nGates will open approximately 2 hours before scheduled start \nReserve: Starting at $89.50\nGeneral Admission: Starting at $55.00 \ngaryclarkjr.com \nTickets on sale Monday\, April 3\, 2023 at 10:00am PT. Visit www.ticketmaster.com to purchase.
URL:https://southsoundblues.org/event/gary-clark-jr-at-the-chateau-ste-michelle-amphitheatre/
LOCATION:Chateau Ste. Michelle Winery\, 14111 NE 145th St\, Woodinville\, WA\, 98072
CATEGORIES:Featured,Special Event
END:VEVENT
BEGIN:VEVENT
DTSTART;TZID=America/Los_Angeles:20230730T180000
DTEND;TZID=America/Los_Angeles:20230730T180000
DTSTAMP:20260424T185208
CREATED:20230628T235945Z
LAST-MODIFIED:20230629T000132Z
UID:10772-1690740000-1690740000@southsoundblues.org
SUMMARY:CD Woodbury and Mary McPage at CCR/Old Man Brewing\, Snohomish
DESCRIPTION:CD Woodbury and Mary McPage at CCR/Old Man Brewing\, July 30th at 6pm\n \n  \nOld Man Brewing is in the New Sports and Entertainment Lounge at Collectors Choice Restaurant \n 
URL:https://southsoundblues.org/event/cd-woodbury-and-mary-mcpage-at-ccr-old-man-brewing-snohomish/
LOCATION:CCR Sports & Entertainment\, 215 Cypress Ave\, Snohomish\, WA\, 98290
CATEGORIES:Featured,Special Event
END:VEVENT
END:VCALENDAR