BEGIN:VCALENDAR
VERSION:2.0
PRODID:-//South Sound Blues Association - ECPv6.15.18//NONSGML v1.0//EN
CALSCALE:GREGORIAN
METHOD:PUBLISH
X-ORIGINAL-URL:https://southsoundblues.org
X-WR-CALDESC:Events for South Sound Blues Association
REFRESH-INTERVAL;VALUE=DURATION:PT1H
X-Robots-Tag:noindex
X-PUBLISHED-TTL:PT1H
BEGIN:VTIMEZONE
TZID:America/Los_Angeles
BEGIN:DAYLIGHT
TZOFFSETFROM:-0800
TZOFFSETTO:-0700
TZNAME:PDT
DTSTART:20220313T100000
END:DAYLIGHT
BEGIN:STANDARD
TZOFFSETFROM:-0700
TZOFFSETTO:-0800
TZNAME:PST
DTSTART:20221106T090000
END:STANDARD
BEGIN:DAYLIGHT
TZOFFSETFROM:-0800
TZOFFSETTO:-0700
TZNAME:PDT
DTSTART:20230312T100000
END:DAYLIGHT
BEGIN:STANDARD
TZOFFSETFROM:-0700
TZOFFSETTO:-0800
TZNAME:PST
DTSTART:20231105T090000
END:STANDARD
BEGIN:DAYLIGHT
TZOFFSETFROM:-0800
TZOFFSETTO:-0700
TZNAME:PDT
DTSTART:20240310T100000
END:DAYLIGHT
BEGIN:STANDARD
TZOFFSETFROM:-0700
TZOFFSETTO:-0800
TZNAME:PST
DTSTART:20241103T090000
END:STANDARD
END:VTIMEZONE
BEGIN:VEVENT
DTSTART;TZID=America/Los_Angeles:20231111T210000
DTEND;TZID=America/Los_Angeles:20231111T223000
DTSTAMP:20260424T123149
CREATED:20231025T180114Z
LAST-MODIFIED:20231025T180541Z
UID:11525-1699736400-1699741800@southsoundblues.org
SUMMARY:Kim & Brian at Hotel Murano\, Tacoma\, Nourish fundraiser
DESCRIPTION:Kim & Brian! Hotel Murano\, Tacoma\, WA. Saturday\, November 11th\, 8:00pm All Ages\nThis is a Nourish fundraiser. They are on from 9-10:30. Full band!\n  \n \n50th Anniversary Celebration and Auction – a fundraiser to benefit the people Nourish Pierce County Serves. The event will include silent and live auctions\, raffle\, and entertainment from the Kim Archer band. Interested in hosting a table of ten? We’re looking for table captains! Tickets are $150 each or $1\,500 for a table of 10. Dinner choices include Fillet Mignon\, Salmon\, or Wild Mushroom Gnocchi. Click here to register. For more information\, call us at (253) 383-3164 x 109 or by email at auction@nourishpc.org. \n\n\n\n\nAddress: 1320 Broadway\, Tacoma\, WA 98402
URL:https://southsoundblues.org/event/kim-brian-at-hotel-murano-tacoma-nourish-fundraiser/
LOCATION:Hotel Murano\, 1320 Broadway\, Tacoma\, WA\, 98402
CATEGORIES:Local South Sound Blues,Special Event
END:VEVENT
BEGIN:VEVENT
DTSTART;VALUE=DATE:20231123
DTEND;VALUE=DATE:20231125
DTSTAMP:20260424T123149
CREATED:20231012T235529Z
LAST-MODIFIED:20231012T235629Z
UID:11493-1700704800-1700791199@southsoundblues.org
SUMMARY:Happy Thanksgiving!
DESCRIPTION:listen to some good music
URL:https://southsoundblues.org/event/happy-thanksgiving/
LOCATION:WA
CATEGORIES:Special Event
END:VEVENT
BEGIN:VEVENT
DTSTART;TZID=America/Los_Angeles:20231129T190000
DTEND;TZID=America/Los_Angeles:20231129T210000
DTSTAMP:20260424T123149
CREATED:20231102T205055Z
LAST-MODIFIED:20231102T205055Z
UID:11550-1701284400-1701291600@southsoundblues.org
SUMMARY:Eclypse Jazz Band at The Mill
DESCRIPTION:The Eclypse Jazz band at The Mill November 29th at 7pm\n\n\n\n\n\n\n\n\n\n\n\n\n\nJoin the Mill Town Stage in association with River Productions and Entertainment and The South Sound Blues Association as we welcome a quartet of jazz with the ECLYPSE JAZZ BAND live to the MTS! The gentlemen of ECLYPSE JAZZ love to play smooth jazz from your favorite artists such as Bob James\, George Benson and Larry Carlton. The group presently consists of Rene LeMesnager\, Ken Domino\, Rob Sturza and Mike Eckles. They hit the stage Nov 29th at 7pm. 25% off wine bottles and glass pours for “Winesday” and seafood specials to boot!
URL:https://southsoundblues.org/event/eclypse-jazz-band-at-the-mill/
LOCATION:The Mill of Milton\, 900 Meridian E. #50\, Milton\, WA\, 98354
CATEGORIES:Featured,Special Event
END:VEVENT
END:VCALENDAR