BEGIN:VCALENDAR
VERSION:2.0
PRODID:-//South Sound Blues Association - ECPv6.15.18//NONSGML v1.0//EN
CALSCALE:GREGORIAN
METHOD:PUBLISH
X-ORIGINAL-URL:https://southsoundblues.org
X-WR-CALDESC:Events for South Sound Blues Association
REFRESH-INTERVAL;VALUE=DURATION:PT1H
X-Robots-Tag:noindex
X-PUBLISHED-TTL:PT1H
BEGIN:VTIMEZONE
TZID:America/Los_Angeles
BEGIN:DAYLIGHT
TZOFFSETFROM:-0800
TZOFFSETTO:-0700
TZNAME:PDT
DTSTART:20220313T100000
END:DAYLIGHT
BEGIN:STANDARD
TZOFFSETFROM:-0700
TZOFFSETTO:-0800
TZNAME:PST
DTSTART:20221106T090000
END:STANDARD
BEGIN:DAYLIGHT
TZOFFSETFROM:-0800
TZOFFSETTO:-0700
TZNAME:PDT
DTSTART:20230312T100000
END:DAYLIGHT
BEGIN:STANDARD
TZOFFSETFROM:-0700
TZOFFSETTO:-0800
TZNAME:PST
DTSTART:20231105T090000
END:STANDARD
BEGIN:DAYLIGHT
TZOFFSETFROM:-0800
TZOFFSETTO:-0700
TZNAME:PDT
DTSTART:20240310T100000
END:DAYLIGHT
BEGIN:STANDARD
TZOFFSETFROM:-0700
TZOFFSETTO:-0800
TZNAME:PST
DTSTART:20241103T090000
END:STANDARD
END:VTIMEZONE
BEGIN:VEVENT
DTSTART;TZID=America/Los_Angeles:20231202T200000
DTEND;TZID=America/Los_Angeles:20231202T223000
DTSTAMP:20260424T111955
CREATED:20231110T193035Z
LAST-MODIFIED:20231110T195607Z
UID:11640-1701547200-1701556200@southsoundblues.org
SUMMARY:The Rhapsody Project presents Blues at Benaroya Hall
DESCRIPTION:Three Generations of Blues & Soul! December 2nd\, 8pm.\nJoin the Rhapsody Project to celebrate the community’s 10th anniversary at Benaroya Hall!\nAmerican roots music highlighting the contributions of Black American artists will be performed by award-winning blues musician Justin Golden and Seattle legend\, John Oliver III alongside The Rhapsody Project Songsters\, and staff members who lead the organization. \nJustin Golden and John Oliver III are the featured artists\, and will have Freddy Fuego and Jane Covert-Bowlds playing horns\, as well as longtime students including Tate Linden\, Ari Whidbey\, Fredy Andres Pesante Castro\, and Mariah Roberson sharing their talents. \nhttps://www.seattlesymphony.org/en/benaroyahall/bh-calendar/2023-2024/23rhapsody-project?fbclid=IwAR3jJvsNyOoaHN4wexBsh38YhsetcMrf9aiH2mWE9h2ZojMsKSUsOTM \n  \n  \n 
URL:https://southsoundblues.org/event/the-rhapsody-project-presents-blues-at-benaroya-hall/
LOCATION:Benaroya Hall\, 200 University St.\, Seattle\, WA\, 98101
CATEGORIES:Special Event
END:VEVENT
BEGIN:VEVENT
DTSTART;TZID=America/Los_Angeles:20231203T160000
DTEND;TZID=America/Los_Angeles:20231203T210000
DTSTAMP:20260424T111955
CREATED:20231018T234259Z
LAST-MODIFIED:20231018T234845Z
UID:11506-1701619200-1701637200@southsoundblues.org
SUMMARY:Washington Blues Society Holiday Party featuring The Rae Gordon Band at Aurora Borealis
DESCRIPTION:Washington Blues Society Holiday Party featuring The Rae Gordon Band at Aurora Borealis\, 4-9 pm\n photo by Debra Penk \nThis party also features a Salute to The Fat James Band featuring Chris Eger w Chip Hart\, Dave Cashin and Randall Eger. \n$10 suggested donation
URL:https://southsoundblues.org/event/washington-blues-society-holiday-party-featuring-the-rae-gordon-band-at-aurora-borealis/
LOCATION:Aurora Borealis\, 16708 Aurora Ave N\, Shoreline\, WA\, 98133
CATEGORIES:Special Event
END:VEVENT
BEGIN:VEVENT
DTSTART;TZID=America/Los_Angeles:20231207T190000
DTEND;TZID=America/Los_Angeles:20231207T190000
DTSTAMP:20260424T111955
CREATED:20231030T205911Z
LAST-MODIFIED:20231030T205911Z
UID:11544-1701975600-1701975600@southsoundblues.org
SUMMARY:LTD Presents LIVE: KID ANDERSEN’S GREASELAND ALL-STARS at West of the Waterway\, Tacoma
DESCRIPTION:Thursday\, December 7th 7:00 pm – LTD Presents LIVE: KID ANDERSEN’S GREASELAND ALL-STARS feat. ALABAMA MIKE\, DK HARRELL and LISA ANDERSEN with Lorenzo Farrell\, David Hudson\, and Brady Kish at West of the Waterway!\nThis show promises to be a real knock-out – Four of the most dynamic and in-demand stars on the contemporary blues + soul + funk scene – together LIVE in Tacoma! \nKid Andersen is the Norwegian-born guitar phenom who tours the world with the multi-award-winning band Rick Estrin and the Nightcats\, AND produces and engineers many of the biggest blues albums each year at his internationally renowned Greaseland Studios in San Jose\, California. \nTalladega-born Alabama Mike is a force to be reckoned with – an award-winning masterful\, hard-driving blues singer and harmonica player\, Mike is one of the most creative and prolific songwriters working today. Alabama can blaze up a good old blues shuffle that’ll have you moving and grooving\, then effortlessly transport you through his unique style\, offering a soulful gospel-tinged ballad\, and his jovial style of storytelling will send you through a range of exhilarating emotions. \nD.K. Harrell is a 25-year-old\, award-winning emerging Blues artist from Ruston\, Louisiana. D.K. has shared the stage with some of the Blues’ most recognizable contemporary artists — Gary Clark Jr.  Mr. Sipp\, Tedeschi-Trucks band\, and Christone “Kingfish” Ingram — to name just a few. As a Blues artist\, D. K. Harrell is dedicated to the preservation of the Traditional Blues created and performed by B.B. King\, Little Milton and other great Blues artists. \nSome people were just born to make music. Lisa Leuschner Andersen is of this rare and beautiful breed. Andersen is a vocal instructor\, singer with Foreverland (San Francisco based tribute to the music of Michael Jackson)\, Alumni of American Idol seasons 2 and 3\, and Showtime at The Apollo alumni. As the Queen of Greaseland\, Lisa has been involved in and performed on over 50 album releases in the last 10 years\, including Grammy award winners and Blues Music Award winners. \nLorenzo Farrell of Rick Estrin and The Nightcats\, David Hudson of The T-Town Aces\, and Brady Kish of The Joe Cook Blues Band will join The Greaseland All-Stars for a night of smoking blues + soul + funk. \nTickets are on sale NOW – https://LTDGreaselandTacoma.rsvpify.com
URL:https://southsoundblues.org/event/ltd-presents-live-kid-andersens-greaseland-all-stars-at-west-of-the-waterway-tacoma/
LOCATION:Dock Street Deli West of the Waterway\, 1901 Dock Street\, Tacoma\, WA\, 98402
CATEGORIES:Local South Sound Blues,Special Event
END:VEVENT
BEGIN:VEVENT
DTSTART;TZID=America/Los_Angeles:20231210T170000
DTEND;TZID=America/Los_Angeles:20231210T210000
DTSTAMP:20260424T111955
CREATED:20230531T193322Z
LAST-MODIFIED:20231109T004527Z
UID:10549-1702227600-1702242000@southsoundblues.org
SUMMARY:South Sound Blues Association Holiday Party with music guests: The Chris Eger Band and RT Collective\, (Rafael Tranquillino & Patrick McDanel) at the Spanish Ballroom\, Tacoma
DESCRIPTION:South Sound Blues Association Holiday Party with music guests: The Chris Eger Band and RT Collective\, at the Spanish Ballroom\, 5-9 pm.\nTickets are $10. and can be purchased at the door or ahead of time through the box office.\nhttps://www.mcmenamins.com/events/248658-south-sound-blues-association-holiday-party \nCurrent SSBA members get in free\, membership checked at the door.\n \n  \n \nChris Eger Band \nGuitarist and vocalist Chris Eger has been fronting his own band for over a decade\, impressing a growing audience both in person and online. Chris has won the Washington Blues Society “BB Award” as Best Male Vocalist for the past four years in a row\, and the band’s exciting live performances have made them  one of the most in-demand acts in the Pacific Northwest. Chris’ video series\, \nOne Take Weekly @ Plum Tree Recording Studio\, is into its fourth season and has garnered over 180k views on YouTube alone! \nThe band’s latest release\, “Show Me Where to Sign\,” was recorded in Nashville and co-produced by Chris and his guitar hero Eric Heatherly. This high energy record\, which includes several of Chris’s original songs\, blends straight electric blues with blue-eyed soul\, Hendrix inspired rock\, and horn infused funk. \nFor this SSBA Holiday Party show the Chris Eger Band will consists of Chris on guitar and vocals\, his father Randall\, a 35-year music veteran\, on bass\, Matt Clark on drums\, and Rick Jiles on keys. The band’s sound is tight and soulful\, and this performance\, their first at The Spanish Ballroom\, is sure to please their many devoted fans and win new ones. \n  \n \nRT Collective \nRT Collective came about as the result of two extraordinary musicians having a desire to get back to their roots. Guitarist Rafael Tranquilino\, (this year’s Washington Blues Society “BB Award) and bass player Patrick McDanel are both widely known as electric instrument players. But when they got together to jam in 2021\, they decided to go acoustic. The music felt fresh and creative\, and they enjoyed this new collaboration so much that they began bringing this “old school” approach to live audiences. In these duo shows they perform an eclectic mix of songs with a fun\, improvisational approach that engages listeners and provides a unique musical experience.
URL:https://southsoundblues.org/event/south-sound-blues-association-holiday-party-at-the-spanish-ballroom-3/
LOCATION:McMenaminsTacoma Elks\, 565 Broadway\, Tacoma\, WA\, 98402
CATEGORIES:Featured,Local South Sound Blues,Special Event,SSBA Event
END:VEVENT
BEGIN:VEVENT
DTSTART;TZID=America/Los_Angeles:20231210T180000
DTEND;TZID=America/Los_Angeles:20231210T180000
DTSTAMP:20260424T111955
CREATED:20230613T180119Z
LAST-MODIFIED:20231113T225122Z
UID:10647-1702231200-1702231200@southsoundblues.org
SUMMARY:Jazzbones Jazz & Blues Holiday Show\, Maia Santell & House Blend
DESCRIPTION:Jazzbones Holiday Show with Maia Santell and House Blend\, 6pm\nAnnual Maia Santell and House Blend Holiday Jazz and Blues Show at Jazzbones on Saturday\, Dec. 10th. It’s an all-ages event\, and kids\, twelve and under\, are admitted free of charge. House Blend instrumentalists include Gary Crooks on guitar\, Jay Mabin on harmonica\, Ted Dortch on tenor sax\, Steve Luceno on bass and Mike Slivka on drums. A special feature of the night is “Santa Doug Pacific Northwest\,” a Santa and Mrs. Claus duo who entertains families and brings the magic and the spirit of the season to all! (For tickets and details\, see www.Jazzbones.com. \nDoors open at 5pm\, $12 tickets at the door \n\n\n\n  \n  \n 
URL:https://southsoundblues.org/event/jazzbones-jazz-blues-holiday-show/
LOCATION:Jazzbones\, 2803 6th Ave\, Tacoma\, WA\, 98406
CATEGORIES:Local South Sound Blues,Special Event
END:VEVENT
BEGIN:VEVENT
DTSTART;VALUE=DATE:20231225
DTEND;VALUE=DATE:20231227
DTSTAMP:20260424T111955
CREATED:20231110T042649Z
LAST-MODIFIED:20231110T233447Z
UID:11636-1703469600-1703555999@southsoundblues.org
SUMMARY:Happy Christmas!
DESCRIPTION:
URL:https://southsoundblues.org/event/happy-christmas-3/
LOCATION:WA
CATEGORIES:Special Event
END:VEVENT
BEGIN:VEVENT
DTSTART;TZID=America/Los_Angeles:20231230T200000
DTEND;TZID=America/Los_Angeles:20231230T220000
DTSTAMP:20260424T111955
CREATED:20231124T231841Z
LAST-MODIFIED:20231124T232453Z
UID:11747-1703966400-1703973600@southsoundblues.org
SUMMARY:New Year's Party with MONSTER ROAD at the Mill in Milton
DESCRIPTION:New Year’s Eve/Eve Extravaganza with MONSTER ROAD! Saturday\, December 30th\, 2023\, 8:00- 10:00 PM\n \nPrepare to rock the night away as MONSTER ROAD takes the stage\, bringing their electrifying sound and high-energy performance to help you welcome the New Year in style!
URL:https://southsoundblues.org/event/new-years-eve-extravaganza-with-monster-road-at-the-mill-in-milton/
LOCATION:The Mill of Milton\, 900 Meridian E. #50\, Milton\, WA\, 98354
CATEGORIES:Featured,Special Event
END:VEVENT
BEGIN:VEVENT
DTSTART;TZID=America/Los_Angeles:20231231T190000
DTEND;TZID=America/Los_Angeles:20231231T223000
DTSTAMP:20260424T111955
CREATED:20231203T222548Z
LAST-MODIFIED:20231203T222548Z
UID:11772-1704049200-1704061800@southsoundblues.org
SUMMARY:2024 New Year Party at the Riviera Lakeshore Restaurant\, Anderson Island
DESCRIPTION:2024 New Year Party at the Riviera Lakeshore Restaurant\, Anderson Island Featuring the music of Ian Ayers & The Soul Purpose\, and Mid Nite Bourbon. Bands play 7- 10:30\, all ages\, $20. cover. Reservations recommended – 253-884-3344 \n  \n \n  \n  \n\n\n\n11019 Country Club Dr\, Anderson Island\, WA 98303\n\n\n\n\n\n\nPhone: (253) 884-3344
URL:https://southsoundblues.org/event/2024-new-year-party-at-the-riviera-lakeshore-restaurant-anderson-island/
LOCATION:Riviera Lakeshore Restaurant\, 11019 Country Club Dr\, Anderson Island\, WA\, 98303
CATEGORIES:Special Event
END:VEVENT
BEGIN:VEVENT
DTSTART;TZID=America/Los_Angeles:20231231T200000
DTEND;TZID=America/Los_Angeles:20231231T233000
DTSTAMP:20260424T111955
CREATED:20231120T215405Z
LAST-MODIFIED:20231120T215913Z
UID:11741-1704052800-1704065400@southsoundblues.org
SUMMARY:"NYE Party" at Dawson's Bar and Grill with Billy Shew
DESCRIPTION:New Years Eve party at Dawson’s Bar and Grill with the Billy Shew band\, December 31st\, starting at 8pm.\n   Happy 2024!
URL:https://southsoundblues.org/event/nye-party-at-dawsons-bar-and-grill-with-billy-shew/
LOCATION:Dawson’s Bar & Grill\, 5443 South Tacoma Way\, Tacoma\, WA\, 98409
CATEGORIES:Local South Sound Blues,Special Event
END:VEVENT
END:VCALENDAR