BEGIN:VCALENDAR
VERSION:2.0
PRODID:-//South Sound Blues Association - ECPv6.15.18//NONSGML v1.0//EN
CALSCALE:GREGORIAN
METHOD:PUBLISH
X-ORIGINAL-URL:https://southsoundblues.org
X-WR-CALDESC:Events for South Sound Blues Association
REFRESH-INTERVAL;VALUE=DURATION:PT1H
X-Robots-Tag:noindex
X-PUBLISHED-TTL:PT1H
BEGIN:VTIMEZONE
TZID:America/Los_Angeles
BEGIN:DAYLIGHT
TZOFFSETFROM:-0800
TZOFFSETTO:-0700
TZNAME:PDT
DTSTART:20230312T100000
END:DAYLIGHT
BEGIN:STANDARD
TZOFFSETFROM:-0700
TZOFFSETTO:-0800
TZNAME:PST
DTSTART:20231105T090000
END:STANDARD
BEGIN:DAYLIGHT
TZOFFSETFROM:-0800
TZOFFSETTO:-0700
TZNAME:PDT
DTSTART:20240310T100000
END:DAYLIGHT
BEGIN:STANDARD
TZOFFSETFROM:-0700
TZOFFSETTO:-0800
TZNAME:PST
DTSTART:20241103T090000
END:STANDARD
BEGIN:DAYLIGHT
TZOFFSETFROM:-0800
TZOFFSETTO:-0700
TZNAME:PDT
DTSTART:20250309T100000
END:DAYLIGHT
BEGIN:STANDARD
TZOFFSETFROM:-0700
TZOFFSETTO:-0800
TZNAME:PST
DTSTART:20251102T090000
END:STANDARD
END:VTIMEZONE
BEGIN:VEVENT
DTSTART;TZID=America/Los_Angeles:20240714T170000
DTEND;TZID=America/Los_Angeles:20240714T170000
DTSTAMP:20260424T020055
CREATED:20240525T191336Z
LAST-MODIFIED:20240706T232821Z
UID:12770-1720976400-1720976400@southsoundblues.org
SUMMARY:Jerry Miller's Birthday Bash! Spanish Ballroom\, Tacoma
DESCRIPTION:Jerry Miller’s Birthday Bash! SUNDAY\, July 14th at the Spanish Ballroom\n\n\n\n\n\n\n\n4pm doors\,  5pm show\, $15 advance or $20 day of show\, All ages welcome \n \nhttps://www.etix.com/ticket/p/99646804/jerry-milllers-birthday-bashall-ages-tacoma-mcmenamins-spanish-ballroom-elks-temple \nhttps://www.mcmenamins.com/events/254365-jerry-millers-birthday-bash \nJerry Miller (born July 10\, 1943) is an American songwriter\, guitarist and vocalist . He performs as a solo artist and as a member of the Jerry Miller Band. He is also a founding member of the 1960s San Francisco band Moby Grape. Rolling Stone included Miller at number 68 on their list of the 100 greatest guitarists of all time and Moby Grape’s album Moby Grape at number 124 from listed 500 greatest albums of all time.
URL:https://southsoundblues.org/event/jerry-millers-birthday-bash-spanish-ballroom-tacoma/
LOCATION:McMenaminsTacoma Elks\, 565 Broadway\, Tacoma\, WA\, 98402
CATEGORIES:Special Event
END:VEVENT
BEGIN:VEVENT
DTSTART;VALUE=DATE:20240719
DTEND;VALUE=DATE:20240723
DTSTAMP:20260424T020055
CREATED:20240229T002841Z
LAST-MODIFIED:20240612T164607Z
UID:12249-1721354400-1721613599@southsoundblues.org
SUMMARY:Winthrop Rhythm & Blues Festival
DESCRIPTION:Winthrop Rhythm & Blues Festival\, July 19-21st\, 2024\nLocated at the Blues Ranch on the Methow River in the resort town of Winthrop\, Washington\, the Winthrop Rhythm & Blues Festival is a three-day event packed full of exciting national and regional entertainment for all ages. There is on-site camping\, food and craft vendors\, portable showers\, and a beer garden. The Blues Ranch is the perfect setting for one of Washington’s finest music festivals. We look forward to another great year and hope to see YOU at the 37th Annual Winthrop Rhythm and Blues Festival!!  www.winthropbluesfest.com \n Don’t miss the party of the year!
URL:https://southsoundblues.org/event/winthrop-rhythm-blues-festival/
LOCATION:Winthrop Blues Ranch\, North Cascades Highway 20\, Winthrop\, WA
CATEGORIES:Festival,Special Event
END:VEVENT
BEGIN:VEVENT
DTSTART;TZID=America/Los_Angeles:20240721T120000
DTEND;TZID=America/Los_Angeles:20240721T180000
DTSTAMP:20260424T020055
CREATED:20240619T195424Z
LAST-MODIFIED:20240619T195424Z
UID:12889-1721563200-1721584800@southsoundblues.org
SUMMARY:Seattle Peace Concerts at the Jimi Hendrix Park for Peace\, Seattle
DESCRIPTION:Seattle Peace Concerts at the Jimi Hendrix Park for Peace\, Seattle\, July 21st noon – 6:00pm\n\nEvent by JacknTina Johnson – Just Lookin’ For Places To Play\, Seattle Peace Concerts and 3 others\n\n\n\n\n\n\n\n\n\n\n\n\nJimi Hendrix Park\, 2400 S Massachusetts St.\, Seattle\, WA 98144\n\n\n\n\n\n\n\n\n\nDuration: 6 hr\n\n\n\n\n\n\nMark your calendar for Sunday\, July 21st at Jimi Hendrix Park for Peace\, Love and Understanding through Music presented by Seattle Peace Concerts.\nProduced by Earth Cry Productions and Sara St. John.\n Randy Hanson\n\n\n\n\n\nPerforming live:– Randy Hansen – a Tribute to Jimi Hendrix– Wall of Ears and the Hive Mind Organelles– Rings of Saturn– Holy Jim– Wolfgang Collins– Seattle Hand Drummers\nWe look forward to keeping live music in our community parks! For more information visit www.seapeace.org\nSeattle Peace Concerts is a 501(c)3 non-profit working in partnership with the Washington Blues Society. The concert series is produced completely through volunteers and donations.
URL:https://southsoundblues.org/event/seattle-peace-concerts-at-the-jimi-hendrix-park-for-peace-seattle/
LOCATION:Jimi Hendrix Park\, 2400 S Massachusetts St\, Seattle\, WA\, 98144
CATEGORIES:Special Event
END:VEVENT
END:VCALENDAR